BEGIN:VCALENDAR
VERSION:2.0
PRODID:-//Calendar - ECPv6.15.20//NONSGML v1.0//EN
CALSCALE:GREGORIAN
METHOD:PUBLISH
X-WR-CALNAME:Calendar
X-ORIGINAL-URL:https://wp.stolaf.edu/calendar
X-WR-CALDESC:Events for Calendar
REFRESH-INTERVAL;VALUE=DURATION:PT1H
X-Robots-Tag:noindex
X-PUBLISHED-TTL:PT1H
BEGIN:VTIMEZONE
TZID:America/Chicago
BEGIN:DAYLIGHT
TZOFFSETFROM:-0600
TZOFFSETTO:-0500
TZNAME:CDT
DTSTART:20240310T080000
END:DAYLIGHT
BEGIN:STANDARD
TZOFFSETFROM:-0500
TZOFFSETTO:-0600
TZNAME:CST
DTSTART:20241103T070000
END:STANDARD
BEGIN:DAYLIGHT
TZOFFSETFROM:-0600
TZOFFSETTO:-0500
TZNAME:CDT
DTSTART:20250309T080000
END:DAYLIGHT
BEGIN:STANDARD
TZOFFSETFROM:-0500
TZOFFSETTO:-0600
TZNAME:CST
DTSTART:20251102T070000
END:STANDARD
BEGIN:DAYLIGHT
TZOFFSETFROM:-0600
TZOFFSETTO:-0500
TZNAME:CDT
DTSTART:20260308T080000
END:DAYLIGHT
BEGIN:STANDARD
TZOFFSETFROM:-0500
TZOFFSETTO:-0600
TZNAME:CST
DTSTART:20261101T070000
END:STANDARD
END:VTIMEZONE
BEGIN:VEVENT
DTSTART;TZID=America/Chicago:20250421T190000
DTEND;TZID=America/Chicago:20250421T210000
DTSTAMP:20260420T235313
CREATED:20250404T164341Z
LAST-MODIFIED:20250404T164341Z
UID:10033507-1745262000-1745269200@wp.stolaf.edu
SUMMARY:Math Across the Cannon Lecture: From Mosquitoes to ChatGPT - the Birth and Strange Life of the Random Walk
DESCRIPTION:St. Olaf and Northfield Community are welcome to join the St. Olaf Department of Mathematics\, Statistics and Computer Science and Carleton’s Department of Mathematics and Statistics as we hear Jordan Ellenberg present on current approaches to AI in relation to the idea of the random walk\, a major topic in applied math. This lecture\, Math Across the Cannon Lecture: From Mosquitoes to ChatGPT – the Birth and Strange Life of the Random Walk\, will be in Tomson 280 at 7 p.m.\, there will be a reception with light food and refreshments to follow. \nJordan Ellenberg\, Professor of Mathematics at the University of Wisconsin-Madison and Author of Shape (2021) and How Not To Be Wrong (2014)\, attended college at Harvard and returned there to receive his Ph.D in math\, while receiving a masters degree in fictional writing from John Hopkins in between. \n  \n 
URL:https://wp.stolaf.edu/calendar/event/math-across-the-cannon-lecture-from-mosquitoes-to-chatgpt-the-birth-and-strange-life-of-the-random-walk/
CATEGORIES:Academic Year
ORGANIZER;CN="College Events":MAILTO:events@stolaf.edu
LOCATION:Tomson 280
END:VEVENT
BEGIN:VEVENT
DTSTART;VALUE=DATE:20250422
DTEND;VALUE=DATE:20250425
DTSTAMP:20260420T235313
CREATED:20240308T163940Z
LAST-MODIFIED:20250424T174151Z
UID:10028255-1745280000-1745539199@wp.stolaf.edu
SUMMARY:Registration for Fall (by class-year)
DESCRIPTION:
URL:https://wp.stolaf.edu/calendar/event/registration-for-fall-by-class-year/
CATEGORIES:Academic Year
END:VEVENT
BEGIN:VEVENT
DTSTART;TZID=America/Chicago:20250424T140000
DTEND;TZID=America/Chicago:20250424T170000
DTSTAMP:20260420T235313
CREATED:20250417T202942Z
LAST-MODIFIED:20250417T202942Z
UID:10033674-1745503200-1745514000@wp.stolaf.edu
SUMMARY:Faculty and Staff Headshots Session II
DESCRIPTION:The Marketing and Communications department invites all faculty and staff to a free headshot session on Thursday\, April 24\, at the third floor of Tomson Hall in the East Lantern from 2 p.m.–5 p.m. Bring your phone to check in\, and your smile!
URL:https://wp.stolaf.edu/calendar/event/faculty-and-staff-headshots-session-ii/
CATEGORIES:Academic Year
LOCATION:Tomson Hall 3rd Floor East Lantern
GEO:44.4582983;-93.161604
END:VEVENT
BEGIN:VEVENT
DTSTART;TZID=America/Chicago:20250425T083000
DTEND;TZID=America/Chicago:20250425T093000
DTSTAMP:20260420T235313
CREATED:20250311T145649Z
LAST-MODIFIED:20250311T145649Z
UID:10033195-1745569800-1745573400@wp.stolaf.edu
SUMMARY:Politics and Pastries
DESCRIPTION:Faculty\, staff\, and students are welcome to gather at the Institute for Freedom and Community every Friday. The Institute will host Politics and Pastries to provide opportunities to discuss politics\, campaigns and current events. \nSteve Hahn joins the conversation this week.
URL:https://wp.stolaf.edu/calendar/event/politics-and-pastries-14/
CATEGORIES:Academic Year
ORGANIZER;CN="Institute for Freedom and Community":MAILTO:institute@stolaf.edu
END:VEVENT
BEGIN:VEVENT
DTSTART;TZID=America/Chicago:20250425T150000
DTEND;TZID=America/Chicago:20250425T160000
DTSTAMP:20260420T235313
CREATED:20250408T185017Z
LAST-MODIFIED:20250408T185017Z
UID:10033519-1745593200-1745596800@wp.stolaf.edu
SUMMARY:Student Poster Session
DESCRIPTION:The St. Olaf community is invited to attend a multi-discipline Student Poster Session in the Tomson East Lantern on Friday\, April 25 from 3 p.m. to 4 p.m.
URL:https://wp.stolaf.edu/calendar/event/student-poster-session/
CATEGORIES:Academic Year
ORGANIZER;CN="College Events":MAILTO:events@stolaf.edu
LOCATION:Tomson Hall 3rd Floor East Lantern
GEO:44.4582983;-93.161604
END:VEVENT
END:VCALENDAR