BEGIN:VCALENDAR
VERSION:2.0
PRODID:-//Calendar - ECPv6.15.20//NONSGML v1.0//EN
CALSCALE:GREGORIAN
METHOD:PUBLISH
X-WR-CALNAME:Calendar
X-ORIGINAL-URL:https://wp.stolaf.edu/calendar
X-WR-CALDESC:Events for Calendar
REFRESH-INTERVAL;VALUE=DURATION:PT1H
X-Robots-Tag:noindex
X-PUBLISHED-TTL:PT1H
BEGIN:VTIMEZONE
TZID:America/Chicago
BEGIN:DAYLIGHT
TZOFFSETFROM:-0600
TZOFFSETTO:-0500
TZNAME:CDT
DTSTART:20240310T080000
END:DAYLIGHT
BEGIN:STANDARD
TZOFFSETFROM:-0500
TZOFFSETTO:-0600
TZNAME:CST
DTSTART:20241103T070000
END:STANDARD
BEGIN:DAYLIGHT
TZOFFSETFROM:-0600
TZOFFSETTO:-0500
TZNAME:CDT
DTSTART:20250309T080000
END:DAYLIGHT
BEGIN:STANDARD
TZOFFSETFROM:-0500
TZOFFSETTO:-0600
TZNAME:CST
DTSTART:20251102T070000
END:STANDARD
BEGIN:DAYLIGHT
TZOFFSETFROM:-0600
TZOFFSETTO:-0500
TZNAME:CDT
DTSTART:20260308T080000
END:DAYLIGHT
BEGIN:STANDARD
TZOFFSETFROM:-0500
TZOFFSETTO:-0600
TZNAME:CST
DTSTART:20261101T070000
END:STANDARD
END:VTIMEZONE
BEGIN:VEVENT
DTSTART;VALUE=DATE:20250704
DTEND;VALUE=DATE:20250705
DTSTAMP:20260420T185656
CREATED:20250104T105448Z
LAST-MODIFIED:20250704T201151Z
UID:10032417-1751587200-1751673599@wp.stolaf.edu
SUMMARY:July 4th Holiday (no classes)
DESCRIPTION:
URL:https://wp.stolaf.edu/calendar/event/july-4th-holiday-no-classes/
CATEGORIES:Academic Year
END:VEVENT
BEGIN:VEVENT
DTSTART;TZID=America/Chicago:20250708T093000
DTEND;TZID=America/Chicago:20250708T103000
DTSTAMP:20260420T185656
CREATED:20250429T211505Z
LAST-MODIFIED:20250429T211505Z
UID:10033742-1751967000-1751970600@wp.stolaf.edu
SUMMARY:Welcoming Tarshia Stanley
DESCRIPTION:Faculty and staff are invited to gather and welcome new Provost\, Tarshia Stanley to the Hill! The welcome will be held in the Tomson Atrium. Coffee and pastries will be provided.
URL:https://wp.stolaf.edu/calendar/event/welcoming-tarshia-stanley/
CATEGORIES:Academic Year
ORGANIZER;CN="college events":MAILTO:events@stolaf.edu
LOCATION:Tomson 107 (Atrium)
END:VEVENT
BEGIN:VEVENT
DTSTART;VALUE=DATE:20250711
DTEND;VALUE=DATE:20250712
DTSTAMP:20260420T185656
CREATED:20250104T105448Z
LAST-MODIFIED:20250711T201145Z
UID:10032418-1752192000-1752278399@wp.stolaf.edu
SUMMARY:Last day of class for Summer Session 1 courses
DESCRIPTION:
URL:https://wp.stolaf.edu/calendar/event/last-day-of-class-for-summer-session-1-courses/
CATEGORIES:Academic Year
END:VEVENT
BEGIN:VEVENT
DTSTART;VALUE=DATE:20250714
DTEND;VALUE=DATE:20250715
DTSTAMP:20260420T185656
CREATED:20250104T105448Z
LAST-MODIFIED:20250714T202653Z
UID:10032420-1752451200-1752537599@wp.stolaf.edu
SUMMARY:Summer Session 2 begins
DESCRIPTION:
URL:https://wp.stolaf.edu/calendar/event/summer-session-2-begins/
CATEGORIES:Academic Year
END:VEVENT
BEGIN:VEVENT
DTSTART;VALUE=DATE:20250715
DTEND;VALUE=DATE:20250716
DTSTAMP:20260420T185656
CREATED:20250104T105448Z
LAST-MODIFIED:20250715T204147Z
UID:10032419-1752537600-1752623999@wp.stolaf.edu
SUMMARY:Last day to add or drop a Summer Session 2 course online in SIS (without instructor permission)
DESCRIPTION:
URL:https://wp.stolaf.edu/calendar/event/last-day-to-add-or-drop-a-summer-session-2-course-online-in-sis-without-instructor-permission/
CATEGORIES:Academic Year
END:VEVENT
BEGIN:VEVENT
DTSTART;VALUE=DATE:20250717
DTEND;VALUE=DATE:20250718
DTSTAMP:20260420T185656
CREATED:20250104T105448Z
LAST-MODIFIED:20250717T204146Z
UID:10032421-1752710400-1752796799@wp.stolaf.edu
SUMMARY:Last day to add a Summer Session 2 course (with instructor permission)
DESCRIPTION:
URL:https://wp.stolaf.edu/calendar/event/last-day-to-add-a-summer-session-2-course-with-instructor-permission/
CATEGORIES:Academic Year
END:VEVENT
BEGIN:VEVENT
DTSTART;VALUE=DATE:20250718
DTEND;VALUE=DATE:20250719
DTSTAMP:20260420T185656
CREATED:20250104T105448Z
LAST-MODIFIED:20250718T204145Z
UID:10032422-1752796800-1752883199@wp.stolaf.edu
SUMMARY:Summer Session 1 grades due
DESCRIPTION:
URL:https://wp.stolaf.edu/calendar/event/summer-session-1-grades-due/
CATEGORIES:Academic Year
END:VEVENT
BEGIN:VEVENT
DTSTART;VALUE=DATE:20250728
DTEND;VALUE=DATE:20250729
DTSTAMP:20260420T185656
CREATED:20250104T105448Z
LAST-MODIFIED:20250728T212652Z
UID:10032423-1753660800-1753747199@wp.stolaf.edu
SUMMARY:Last day to drop (with instructor permission) or make S/U change in a Summer Session 2 course
DESCRIPTION:
URL:https://wp.stolaf.edu/calendar/event/last-day-to-drop-with-instructor-permission-or-make-s-u-change-in-a-summer-session-2-course/
CATEGORIES:Academic Year
END:VEVENT
END:VCALENDAR