BEGIN:VCALENDAR
VERSION:2.0
PRODID:-//Calendar - ECPv6.15.20//NONSGML v1.0//EN
CALSCALE:GREGORIAN
METHOD:PUBLISH
X-WR-CALNAME:Calendar
X-ORIGINAL-URL:https://wp.stolaf.edu/calendar
X-WR-CALDESC:Events for Calendar
REFRESH-INTERVAL;VALUE=DURATION:PT1H
X-Robots-Tag:noindex
X-PUBLISHED-TTL:PT1H
BEGIN:VTIMEZONE
TZID:America/Chicago
BEGIN:DAYLIGHT
TZOFFSETFROM:-0600
TZOFFSETTO:-0500
TZNAME:CDT
DTSTART:20250309T080000
END:DAYLIGHT
BEGIN:STANDARD
TZOFFSETFROM:-0500
TZOFFSETTO:-0600
TZNAME:CST
DTSTART:20251102T070000
END:STANDARD
BEGIN:DAYLIGHT
TZOFFSETFROM:-0600
TZOFFSETTO:-0500
TZNAME:CDT
DTSTART:20260308T080000
END:DAYLIGHT
BEGIN:STANDARD
TZOFFSETFROM:-0500
TZOFFSETTO:-0600
TZNAME:CST
DTSTART:20261101T070000
END:STANDARD
BEGIN:DAYLIGHT
TZOFFSETFROM:-0600
TZOFFSETTO:-0500
TZNAME:CDT
DTSTART:20270314T080000
END:DAYLIGHT
BEGIN:STANDARD
TZOFFSETFROM:-0500
TZOFFSETTO:-0600
TZNAME:CST
DTSTART:20271107T070000
END:STANDARD
END:VTIMEZONE
BEGIN:VEVENT
DTSTART;VALUE=DATE:20260501
DTEND;VALUE=DATE:20260502
DTSTAMP:20260420T060401
CREATED:20250307T145651Z
LAST-MODIFIED:20260319T223610Z
UID:10033328-1777593600-1777679999@wp.stolaf.edu
SUMMARY:Honors Day
DESCRIPTION:
URL:https://wp.stolaf.edu/calendar/event/honors-day-3/
CATEGORIES:Academic Year
END:VEVENT
BEGIN:VEVENT
DTSTART;TZID=America/Chicago:20260501T083000
DTEND;TZID=America/Chicago:20260501T093000
DTSTAMP:20260420T060401
CREATED:20260303T212144Z
LAST-MODIFIED:20260303T212144Z
UID:10037053-1777624200-1777627800@wp.stolaf.edu
SUMMARY:Politics and Pastries
DESCRIPTION:Faculty\, staff\, and students are welcome to gather at the Institute for Freedom and Community every Friday from 8:30–9:30 a.m. Politics and Pastries provides opportunities to discuss politics\, campaigns\, and current events. Coffee and light pastries will be provided. \nThis week’s conversation will be led by Tangle News.
URL:https://wp.stolaf.edu/calendar/event/politics-and-pastries-29/
CATEGORIES:Academic Year
END:VEVENT
BEGIN:VEVENT
DTSTART;TZID=America/Chicago:20260501T160000
DTEND;TZID=America/Chicago:20260501T171500
DTSTAMP:20260420T060401
CREATED:20260120T195033Z
LAST-MODIFIED:20260120T195033Z
UID:10036907-1777651200-1777655700@wp.stolaf.edu
SUMMARY:Natural Sciences and Mathematics Honors Day Poster Session
DESCRIPTION:Students who have conducted research in Math and Science disciplines on campus or elsewhere are invited to present a poster at the Honors Day Poster Session on Friday\, May 1\, from 4:00–5:15 PM in the third and fourth-floor atriums of Regents Hall Science. With approximately 75 presenters\, this event highlights the diverse and exciting research happening in the Natural Sciences and MSCS (Mathematics\, Statistics\, and Computer Science). \nThis is an excellent opportunity for students to showcase their work\, engage and share with the community. All all welcome to attend.
URL:https://wp.stolaf.edu/calendar/event/natural-sciences-and-mathematics-honors-day-poster-session-2/
CATEGORIES:Academic Year
ORGANIZER;CN="College Events":MAILTO:events@stolaf.edu
LOCATION:Regents Hall 4th Floor Atrium
GEO:44.4582983;-93.161604
END:VEVENT
BEGIN:VEVENT
DTSTART;TZID=America/Chicago:20260508T083000
DTEND;TZID=America/Chicago:20260508T093000
DTSTAMP:20260420T060401
CREATED:20260303T213926Z
LAST-MODIFIED:20260303T213926Z
UID:10037054-1778229000-1778232600@wp.stolaf.edu
SUMMARY:Politics and Pastries
DESCRIPTION:Faculty\, staff\, and students are welcome to gather at the Buntrock Institute for Freedom and Community every Friday from 8:30 a.m. to 9:30 a.m. Politics and Pastries provides opportunities to discuss politics\, campaigns\, and current events. Coffee and light pastries will be provided. \nThis week’s conversation will be led by Professor of Political Science and Asian Studies Kathy Tegtmeyer Pak.
URL:https://wp.stolaf.edu/calendar/event/politics-and-pastries-30/
CATEGORIES:Academic Year
END:VEVENT
BEGIN:VEVENT
DTSTART;VALUE=DATE:20260513
DTEND;VALUE=DATE:20260514
DTSTAMP:20260420T060401
CREATED:20250307T145651Z
LAST-MODIFIED:20260319T223610Z
UID:10033329-1778630400-1778716799@wp.stolaf.edu
SUMMARY:Last day of classes
DESCRIPTION:
URL:https://wp.stolaf.edu/calendar/event/last-day-of-classes-4/
CATEGORIES:Academic Year
END:VEVENT
BEGIN:VEVENT
DTSTART;VALUE=DATE:20260514
DTEND;VALUE=DATE:20260515
DTSTAMP:20260420T060401
CREATED:20250307T145651Z
LAST-MODIFIED:20260319T223610Z
UID:10033330-1778716800-1778803199@wp.stolaf.edu
SUMMARY:Reading day
DESCRIPTION:
URL:https://wp.stolaf.edu/calendar/event/reading-day-2/
CATEGORIES:Academic Year
END:VEVENT
BEGIN:VEVENT
DTSTART;TZID=America/Chicago:20260514T090000
DTEND;TZID=America/Chicago:20260514T130000
DTSTAMP:20260420T060401
CREATED:20260113T162020Z
LAST-MODIFIED:20260113T162044Z
UID:10036865-1778749200-1778763600@wp.stolaf.edu
SUMMARY:GradFest 2026
DESCRIPTION:GradFest 2026 will be held Thursday\, May 14\, from 9 a.m. to 1 p.m. in Buntrock Crossroads. \nGradFest brings together all of the people and departments who are and will be integral resources as you transition from your time as a St. Olaf student to a St. Olaf alumnus. Bring your questions\, your feedback\, and your appetite (there will be snacks!). Meet with College Events\, The Bookstore\, Piper Center\, Alumni and Parent Relations\, Student Financial Aid Services\, The Registrar’s Office\, Office of Student Activities\, and Information Technology (IT)\, to cover all your bases for Commencement and your transition to alumnus!
URL:https://wp.stolaf.edu/calendar/event/gradfest-2026/
CATEGORIES:Academic Year,Special Events/Celebrations
ORGANIZER;CN="College Events":MAILTO:events@stolaf.edu
LOCATION:BC Crossroads
END:VEVENT
BEGIN:VEVENT
DTSTART;VALUE=DATE:20260515
DTEND;VALUE=DATE:20260517
DTSTAMP:20260420T060401
CREATED:20250307T145651Z
LAST-MODIFIED:20260319T223610Z
UID:10033331-1778803200-1778975999@wp.stolaf.edu
SUMMARY:Final Exam Week
DESCRIPTION:
URL:https://wp.stolaf.edu/calendar/event/final-exam-week-3/
CATEGORIES:Academic Year
END:VEVENT
BEGIN:VEVENT
DTSTART;VALUE=DATE:20260518
DTEND;VALUE=DATE:20260521
DTSTAMP:20260420T060401
CREATED:20250307T145651Z
LAST-MODIFIED:20260319T223610Z
UID:10033332-1779062400-1779321599@wp.stolaf.edu
SUMMARY:Final Exam Week
DESCRIPTION:
URL:https://wp.stolaf.edu/calendar/event/final-exam-week-4/
CATEGORIES:Academic Year
END:VEVENT
BEGIN:VEVENT
DTSTART;VALUE=DATE:20260521
DTEND;VALUE=DATE:20260522
DTSTAMP:20260420T060401
CREATED:20250307T145651Z
LAST-MODIFIED:20260319T223610Z
UID:10033333-1779321600-1779407999@wp.stolaf.edu
SUMMARY:Senior grades due
DESCRIPTION:
URL:https://wp.stolaf.edu/calendar/event/senior-grades-due/
CATEGORIES:Academic Year
END:VEVENT
BEGIN:VEVENT
DTSTART;VALUE=DATE:20260522
DTEND;VALUE=DATE:20260524
DTSTAMP:20260420T060401
CREATED:20250307T145651Z
LAST-MODIFIED:20260319T223610Z
UID:10033334-1779408000-1779580799@wp.stolaf.edu
SUMMARY:Commencement Weekend
DESCRIPTION:
URL:https://wp.stolaf.edu/calendar/event/commencement-weekend/
CATEGORIES:Academic Year
END:VEVENT
BEGIN:VEVENT
DTSTART;VALUE=DATE:20260523
DTEND;VALUE=DATE:20260524
DTSTAMP:20260420T060401
CREATED:20250307T145651Z
LAST-MODIFIED:20260319T223610Z
UID:10033335-1779494400-1779580799@wp.stolaf.edu
SUMMARY:Baccalaureate/Commencement
DESCRIPTION:
URL:https://wp.stolaf.edu/calendar/event/baccalaureate-commencement/
CATEGORIES:Academic Year
END:VEVENT
BEGIN:VEVENT
DTSTART;VALUE=DATE:20260529
DTEND;VALUE=DATE:20260530
DTSTAMP:20260420T060401
CREATED:20250307T145651Z
LAST-MODIFIED:20260319T223610Z
UID:10033336-1780012800-1780099199@wp.stolaf.edu
SUMMARY:Non-senior grades due for spring
DESCRIPTION:
URL:https://wp.stolaf.edu/calendar/event/non-senior-grades-due-for-spring/
CATEGORIES:Academic Year
END:VEVENT
END:VCALENDAR