BEGIN:VCALENDAR
VERSION:2.0
PRODID:-//Calendar - ECPv6.15.20//NONSGML v1.0//EN
CALSCALE:GREGORIAN
METHOD:PUBLISH
X-ORIGINAL-URL:https://wp.stolaf.edu/calendar
X-WR-CALDESC:Events for Calendar
REFRESH-INTERVAL;VALUE=DURATION:PT1H
X-Robots-Tag:noindex
X-PUBLISHED-TTL:PT1H
BEGIN:VTIMEZONE
TZID:America/Chicago
BEGIN:DAYLIGHT
TZOFFSETFROM:-0600
TZOFFSETTO:-0500
TZNAME:CDT
DTSTART:20250309T080000
END:DAYLIGHT
BEGIN:STANDARD
TZOFFSETFROM:-0500
TZOFFSETTO:-0600
TZNAME:CST
DTSTART:20251102T070000
END:STANDARD
BEGIN:DAYLIGHT
TZOFFSETFROM:-0600
TZOFFSETTO:-0500
TZNAME:CDT
DTSTART:20260308T080000
END:DAYLIGHT
BEGIN:STANDARD
TZOFFSETFROM:-0500
TZOFFSETTO:-0600
TZNAME:CST
DTSTART:20261101T070000
END:STANDARD
BEGIN:DAYLIGHT
TZOFFSETFROM:-0600
TZOFFSETTO:-0500
TZNAME:CDT
DTSTART:20270314T080000
END:DAYLIGHT
BEGIN:STANDARD
TZOFFSETFROM:-0500
TZOFFSETTO:-0600
TZNAME:CST
DTSTART:20271107T070000
END:STANDARD
END:VTIMEZONE
BEGIN:VEVENT
DTSTART;VALUE=DATE:20260207
DTEND;VALUE=DATE:20260208
DTSTAMP:20260420T100432
CREATED:20250911T070341Z
LAST-MODIFIED:20260207T183616Z
UID:10035097-1770422400-1770508799@wp.stolaf.edu
SUMMARY:Men's Nordic Skiing at Dalaloppet
DESCRIPTION:Men’s Nordic Skiing at Dalaloppet
URL:https://wp.stolaf.edu/calendar/event/mens-nordic-skiing-at-dalaloppet/
CATEGORIES:Athletics
LOCATION:Mora\, Minn. / Vasaloppet Nordic Center
END:VEVENT
BEGIN:VEVENT
DTSTART;VALUE=DATE:20260207
DTEND;VALUE=DATE:20260208
DTSTAMP:20260420T100432
CREATED:20250912T070244Z
LAST-MODIFIED:20260207T183617Z
UID:10035116-1770422400-1770508799@wp.stolaf.edu
SUMMARY:Women's Nordic Skiing at Dalaloppet
DESCRIPTION:Women’s Nordic Skiing at Dalaloppet
URL:https://wp.stolaf.edu/calendar/event/womens-nordic-skiing-at-dalaloppet/
CATEGORIES:Athletics
LOCATION:Mora\, Minn. / Vasaloppet Nordic Center
END:VEVENT
BEGIN:VEVENT
DTSTART;VALUE=DATE:20260207
DTEND;VALUE=DATE:20260208
DTSTAMP:20260420T100432
CREATED:20251029T130334Z
LAST-MODIFIED:20260207T183617Z
UID:10036129-1770422400-1770508799@wp.stolaf.edu
SUMMARY:Men's Alpine Skiing at USCSA Spirit Mountain
DESCRIPTION:Men’s Alpine Skiing at USCSA Spirit Mountain
URL:https://wp.stolaf.edu/calendar/event/mens-alpine-skiing-at-uscsa-spirit-mountain/
CATEGORIES:Athletics
LOCATION:Duluth\, Minn. / Spirit Mtn.
END:VEVENT
BEGIN:VEVENT
DTSTART;VALUE=DATE:20260207
DTEND;VALUE=DATE:20260208
DTSTAMP:20260420T100432
CREATED:20251212T160317Z
LAST-MODIFIED:20260207T183615Z
UID:10036698-1770422400-1770508799@wp.stolaf.edu
SUMMARY:Women's Alpine Skiing at USCSA Spirit Mountain
DESCRIPTION:Women’s Alpine Skiing at USCSA Spirit Mountain
URL:https://wp.stolaf.edu/calendar/event/womens-alpine-skiing-at-uscsa-spirit-mountain/
CATEGORIES:Athletics
LOCATION:Duluth\, Minn. / Spirit Mtn.
END:VEVENT
BEGIN:VEVENT
DTSTART;TZID=America/Chicago:20260207T100000
DTEND;TZID=America/Chicago:20260207T130000
DTSTAMP:20260420T100432
CREATED:20250925T073326Z
LAST-MODIFIED:20260207T183617Z
UID:10035583-1770458400-1770469200@wp.stolaf.edu
SUMMARY:Men's Track and Field at Gopher Classic
DESCRIPTION:Men’s Track and Field at Gopher Classic
URL:https://wp.stolaf.edu/calendar/event/mens-track-and-field-at-gopher-classic/
CATEGORIES:Athletics
LOCATION:Minneapolis\, Minn. / University of Minnesota Fieldhouse
END:VEVENT
BEGIN:VEVENT
DTSTART;TZID=America/Chicago:20260207T100000
DTEND;TZID=America/Chicago:20260207T130000
DTSTAMP:20260420T100432
CREATED:20250925T073327Z
LAST-MODIFIED:20260207T183616Z
UID:10035584-1770458400-1770469200@wp.stolaf.edu
SUMMARY:Women's Track and Field at Gopher Classic
DESCRIPTION:Women’s Track and Field at Gopher Classic
URL:https://wp.stolaf.edu/calendar/event/womens-track-and-field-at-gopher-classic/
CATEGORIES:Athletics
LOCATION:Minneapolis\, Minn. / University of Minnesota Fieldhouse
END:VEVENT
BEGIN:VEVENT
DTSTART;TZID=America/Chicago:20260207T110000
DTEND;TZID=America/Chicago:20260207T140000
DTSTAMP:20260420T100432
CREATED:20250807T211446Z
LAST-MODIFIED:20260207T183616Z
UID:10034736-1770462000-1770472800@wp.stolaf.edu
SUMMARY:Men's Swimming and Diving at University of Minnesota First Chance Meet
DESCRIPTION:Men’s Swimming and Diving at University of Minnesota First Chance Meet\nStreaming Video: https://www.bigtenplus.com/en-int/livestream/first-chance-meet-swimming/2079810
URL:https://wp.stolaf.edu/calendar/event/mens-swimming-and-diving-at-university-of-minnesota-first-chance-meet-4/
CATEGORIES:Athletics
LOCATION:Minneapolis\, Minn. / Jean K. Freeman Aquatic Center
END:VEVENT
BEGIN:VEVENT
DTSTART;TZID=America/Chicago:20260207T110000
DTEND;TZID=America/Chicago:20260207T140000
DTSTAMP:20260420T100432
CREATED:20250807T211446Z
LAST-MODIFIED:20260207T183616Z
UID:10034737-1770462000-1770472800@wp.stolaf.edu
SUMMARY:Women's Swimming and Diving at University of Minnesota First Chance Meet
DESCRIPTION:Women’s Swimming and Diving at University of Minnesota First Chance Meet\nStreaming Video: https://www.bigtenplus.com/en-int/livestream/first-chance-meet-swimming/2079810
URL:https://wp.stolaf.edu/calendar/event/womens-swimming-and-diving-at-university-of-minnesota-first-chance-meet-4/
CATEGORIES:Athletics
LOCATION:Minneapolis\, Minn. / Jean K. Freeman Aquatic Center
END:VEVENT
BEGIN:VEVENT
DTSTART;TZID=America/Chicago:20260207T110000
DTEND;TZID=America/Chicago:20260207T140000
DTSTAMP:20260420T100432
CREATED:20250807T211447Z
LAST-MODIFIED:20260207T183616Z
UID:10034738-1770462000-1770472800@wp.stolaf.edu
SUMMARY:Women's Swimming and Diving at Dodd Road Diving Invite
DESCRIPTION:Women’s Swimming and Diving at Dodd Road Diving Invite\nStreaming Video: https://miacsportsnetwork.com/carleton/
URL:https://wp.stolaf.edu/calendar/event/womens-swimming-and-diving-at-dodd-road-diving-invite-3/
CATEGORIES:Athletics
LOCATION:Northfield\, Minn. / Thorpe Pool
END:VEVENT
BEGIN:VEVENT
DTSTART;TZID=America/Chicago:20260207T110000
DTEND;TZID=America/Chicago:20260207T140000
DTSTAMP:20260420T100432
CREATED:20250807T211447Z
LAST-MODIFIED:20260207T183616Z
UID:10034739-1770462000-1770472800@wp.stolaf.edu
SUMMARY:Men's Swimming and Diving at Dodd Road Diving Invite
DESCRIPTION:Men’s Swimming and Diving at Dodd Road Diving Invite\nStreaming Video: https://miacsportsnetwork.com/carleton/
URL:https://wp.stolaf.edu/calendar/event/mens-swimming-and-diving-at-dodd-road-diving-invite-3/
CATEGORIES:Athletics
LOCATION:Northfield\, Minn. / Thorpe Pool
END:VEVENT
BEGIN:VEVENT
DTSTART;TZID=America/Chicago:20260207T110000
DTEND;TZID=America/Chicago:20260207T140000
DTSTAMP:20260420T100432
CREATED:20260204T183616Z
LAST-MODIFIED:20260207T183616Z
UID:10037107-1770462000-1770472800@wp.stolaf.edu
SUMMARY:Women's Track and Field at UWRF Winter Classic
DESCRIPTION:Women’s Track and Field at UWRF Winter Classic\nStreaming Video: https://wiacnetwork.com/riverfalls/
URL:https://wp.stolaf.edu/calendar/event/womens-track-and-field-at-uwrf-winter-classic/
CATEGORIES:Athletics
LOCATION:River Falls\, Wis. / Robert P. Knowles Field House
END:VEVENT
BEGIN:VEVENT
DTSTART;TZID=America/Chicago:20260207T110000
DTEND;TZID=America/Chicago:20260207T140000
DTSTAMP:20260420T100432
CREATED:20260204T183616Z
LAST-MODIFIED:20260207T183615Z
UID:10037108-1770462000-1770472800@wp.stolaf.edu
SUMMARY:Men's Track and Field at UWRF Winter Classic
DESCRIPTION:Men’s Track and Field at UWRF Winter Classic\nStreaming Video: https://wiacnetwork.com/riverfalls/
URL:https://wp.stolaf.edu/calendar/event/mens-track-and-field-at-uwrf-winter-classic/
CATEGORIES:Athletics
LOCATION:River Falls\, Wis. / Robert P. Knowles Field House
END:VEVENT
BEGIN:VEVENT
DTSTART;TZID=America/Chicago:20260207T113000
DTEND;TZID=America/Chicago:20260207T130000
DTSTAMP:20260420T100432
CREATED:20260204T225443Z
LAST-MODIFIED:20260204T225443Z
UID:10037113-1770463800-1770469200@wp.stolaf.edu
SUMMARY:National Girls and Women in Sports Day Youth Clinic
DESCRIPTION:Join St. Olaf coaches and student-athletes for a free youth clinic in celebration of National Girls & Women in Sports Day! All youth ages 13 and under are invited. No registration necessary.
URL:https://wp.stolaf.edu/calendar/event/national-girls-and-women-in-sports-day-youth-clinic/
CATEGORIES:Athletics
LOCATION:Tostrud Center
GEO:44.4582983;-93.161604
END:VEVENT
BEGIN:VEVENT
DTSTART;TZID=America/Chicago:20260207T130000
DTEND;TZID=America/Chicago:20260207T150000
DTSTAMP:20260420T100432
CREATED:20250807T211447Z
LAST-MODIFIED:20260207T183616Z
UID:10034741-1770469200-1770476400@wp.stolaf.edu
SUMMARY:Women's Basketball vs Saint Mary's University
DESCRIPTION:Women’s Basketball vs Saint Mary’s University\nStreaming Video: https://miacsportsnetwork.com/stolaf/\nTickets: https://athletics.stolaf.edu/sports/2024/8/9/tickets.aspx
URL:https://wp.stolaf.edu/calendar/event/womens-basketball-vs-saint-marys-university-2/
CATEGORIES:Athletics
LOCATION:Northfield\, Minn.\, Bob Gelle Court at Skoglund Center
END:VEVENT
BEGIN:VEVENT
DTSTART;TZID=America/Chicago:20260207T130000
DTEND;TZID=America/Chicago:20260207T160000
DTSTAMP:20260420T100432
CREATED:20250807T211445Z
LAST-MODIFIED:20260207T183616Z
UID:10034731-1770469200-1770480000@wp.stolaf.edu
SUMMARY:Men's Tennis vs Carthage College
DESCRIPTION:Men’s Tennis vs Carthage College
URL:https://wp.stolaf.edu/calendar/event/mens-tennis-vs-carthage-college/
CATEGORIES:Athletics
LOCATION:Owatonna\, Minn. / West Hills Tennis and Fitness Center
END:VEVENT
BEGIN:VEVENT
DTSTART;TZID=America/Chicago:20260207T150000
DTEND;TZID=America/Chicago:20260207T170000
DTSTAMP:20260420T100432
CREATED:20250520T174208Z
LAST-MODIFIED:20260207T183616Z
UID:10033824-1770476400-1770483600@wp.stolaf.edu
SUMMARY:Men's Basketball vs Saint Mary's University - Senior Day
DESCRIPTION:Men’s Basketball vs Saint Mary’s University – Senior Day\nStreaming Video: https://miacsportsnetwork.com/stolaf/\nTickets: https://athletics.stolaf.edu/sports/2024/8/9/tickets.aspx
URL:https://wp.stolaf.edu/calendar/event/mens-basketball-vs-saint-marys-university-2/
CATEGORIES:Athletics
LOCATION:Northfield\, Minn. \, Bob Gelle Court at Skoglund Center
END:VEVENT
BEGIN:VEVENT
DTSTART;TZID=America/Chicago:20260207T160000
DTEND;TZID=America/Chicago:20260207T190000
DTSTAMP:20260420T100432
CREATED:20250807T211448Z
LAST-MODIFIED:20260207T183615Z
UID:10034743-1770480000-1770490800@wp.stolaf.edu
SUMMARY:Women's Hockey at College of St. Scholastica
DESCRIPTION:Women’s Hockey at College of St. Scholastica\nStreaming Video: https://miacsportsnetwork.com/stscholastica/
URL:https://wp.stolaf.edu/calendar/event/womens-hockey-at-college-of-st-scholastica/
CATEGORIES:Athletics
LOCATION:Duluth\, Minn. / Mars Lakeview Arena
END:VEVENT
BEGIN:VEVENT
DTSTART;TZID=America/Chicago:20260207T170000
DTEND;TZID=America/Chicago:20260207T200000
DTSTAMP:20260420T100432
CREATED:20250807T211448Z
LAST-MODIFIED:20260207T183615Z
UID:10034742-1770483600-1770494400@wp.stolaf.edu
SUMMARY:Men's Hockey vs College of St. Scholastica - Alumni Night
DESCRIPTION:Men’s Hockey vs College of St. Scholastica – Alumni Night\nStreaming Video: https://miacsportsnetwork.com/stolaf/\nTickets: https://athletics.stolaf.edu/sports/2024/8/9/tickets.aspx
URL:https://wp.stolaf.edu/calendar/event/mens-hockey-vs-college-of-st-scholastica/
CATEGORIES:Athletics
LOCATION:Northfield\, Minn.\, St. Olaf Ice Arena
END:VEVENT
END:VCALENDAR