BEGIN:VCALENDAR
VERSION:2.0
PRODID:-//Calendar - ECPv6.15.20//NONSGML v1.0//EN
CALSCALE:GREGORIAN
METHOD:PUBLISH
X-WR-CALNAME:Calendar
X-ORIGINAL-URL:https://wp.stolaf.edu/calendar
X-WR-CALDESC:Events for Calendar
REFRESH-INTERVAL;VALUE=DURATION:PT1H
X-Robots-Tag:noindex
X-PUBLISHED-TTL:PT1H
BEGIN:VTIMEZONE
TZID:America/Chicago
BEGIN:DAYLIGHT
TZOFFSETFROM:-0600
TZOFFSETTO:-0500
TZNAME:CDT
DTSTART:20250309T080000
END:DAYLIGHT
BEGIN:STANDARD
TZOFFSETFROM:-0500
TZOFFSETTO:-0600
TZNAME:CST
DTSTART:20251102T070000
END:STANDARD
BEGIN:DAYLIGHT
TZOFFSETFROM:-0600
TZOFFSETTO:-0500
TZNAME:CDT
DTSTART:20260308T080000
END:DAYLIGHT
BEGIN:STANDARD
TZOFFSETFROM:-0500
TZOFFSETTO:-0600
TZNAME:CST
DTSTART:20261101T070000
END:STANDARD
BEGIN:DAYLIGHT
TZOFFSETFROM:-0600
TZOFFSETTO:-0500
TZNAME:CDT
DTSTART:20270314T080000
END:DAYLIGHT
BEGIN:STANDARD
TZOFFSETFROM:-0500
TZOFFSETTO:-0600
TZNAME:CST
DTSTART:20271107T070000
END:STANDARD
END:VTIMEZONE
BEGIN:VEVENT
DTSTART;TZID=America/Chicago:20260218T171500
DTEND;TZID=America/Chicago:20260218T191500
DTSTAMP:20260420T131359
CREATED:20250807T211450Z
LAST-MODIFIED:20260218T192211Z
UID:10034760-1771434900-1771442100@wp.stolaf.edu
SUMMARY:Women's Basketball at Concordia College
DESCRIPTION:Women’s Basketball at Concordia College\nStreaming Video: https://miacsportsnetwork.com/concordia/\nTickets: https://gofan.co/app/school/MN100477
URL:https://wp.stolaf.edu/calendar/event/womens-basketball-at-concordia-college-2/
CATEGORIES:Athletics
LOCATION:Moorhead\, Minn. / Memorial Auditorium
END:VEVENT
BEGIN:VEVENT
DTSTART;TZID=America/Chicago:20260218T191500
DTEND;TZID=America/Chicago:20260218T211500
DTSTAMP:20260420T131359
CREATED:20250520T174209Z
LAST-MODIFIED:20260218T192211Z
UID:10033826-1771442100-1771449300@wp.stolaf.edu
SUMMARY:Men's Basketball at Concordia College
DESCRIPTION:Men’s Basketball at Concordia College\nStreaming Video: https://miacsportsnetwork.com/concordia/\nTickets: https://gofan.co/app/school/MN100477
URL:https://wp.stolaf.edu/calendar/event/mens-basketball-at-concordia-college-2/
CATEGORIES:Athletics
LOCATION:Moorhead\, Minn. / Memorial Auditorium
END:VEVENT
END:VCALENDAR