BEGIN:VCALENDAR
VERSION:2.0
PRODID:-//Calendar - ECPv6.15.20//NONSGML v1.0//EN
CALSCALE:GREGORIAN
METHOD:PUBLISH
X-ORIGINAL-URL:https://wp.stolaf.edu/calendar
X-WR-CALDESC:Events for Calendar
REFRESH-INTERVAL;VALUE=DURATION:PT1H
X-Robots-Tag:noindex
X-PUBLISHED-TTL:PT1H
BEGIN:VTIMEZONE
TZID:America/Chicago
BEGIN:DAYLIGHT
TZOFFSETFROM:-0600
TZOFFSETTO:-0500
TZNAME:CDT
DTSTART:20250309T080000
END:DAYLIGHT
BEGIN:STANDARD
TZOFFSETFROM:-0500
TZOFFSETTO:-0600
TZNAME:CST
DTSTART:20251102T070000
END:STANDARD
BEGIN:DAYLIGHT
TZOFFSETFROM:-0600
TZOFFSETTO:-0500
TZNAME:CDT
DTSTART:20260308T080000
END:DAYLIGHT
BEGIN:STANDARD
TZOFFSETFROM:-0500
TZOFFSETTO:-0600
TZNAME:CST
DTSTART:20261101T070000
END:STANDARD
BEGIN:DAYLIGHT
TZOFFSETFROM:-0600
TZOFFSETTO:-0500
TZNAME:CDT
DTSTART:20270314T080000
END:DAYLIGHT
BEGIN:STANDARD
TZOFFSETFROM:-0500
TZOFFSETTO:-0600
TZNAME:CST
DTSTART:20271107T070000
END:STANDARD
END:VTIMEZONE
BEGIN:VEVENT
DTSTART;TZID=America/Chicago:20260411T100000
DTEND;TZID=America/Chicago:20260411T130000
DTSTAMP:20260420T100435
CREATED:20250925T073330Z
LAST-MODIFIED:20260411T082107Z
UID:10035605-1775901600-1775912400@wp.stolaf.edu
SUMMARY:Men's Track and Field vs Manitou Classic
DESCRIPTION:Men’s Track and Field vs Manitou Classic
URL:https://wp.stolaf.edu/calendar/event/mens-track-and-field-vs-manitou-classic/
CATEGORIES:Athletics
LOCATION:Northfield\, Minn.\, Manitou Track
END:VEVENT
BEGIN:VEVENT
DTSTART;TZID=America/Chicago:20260411T100000
DTEND;TZID=America/Chicago:20260411T130000
DTSTAMP:20260420T100435
CREATED:20250925T073330Z
LAST-MODIFIED:20260411T082107Z
UID:10035606-1775901600-1775912400@wp.stolaf.edu
SUMMARY:Women's Track and Field vs Manitou Classic
DESCRIPTION:Women’s Track and Field vs Manitou Classic
URL:https://wp.stolaf.edu/calendar/event/womens-track-and-field-vs-manitou-classic/
CATEGORIES:Athletics
LOCATION:Northfield\, Minn.\, Manitou Track
END:VEVENT
BEGIN:VEVENT
DTSTART;TZID=America/Chicago:20260411T110000
DTEND;TZID=America/Chicago:20260411T130000
DTSTAMP:20260420T100435
CREATED:20251216T161831Z
LAST-MODIFIED:20260411T082108Z
UID:10036739-1775905200-1775912400@wp.stolaf.edu
SUMMARY:Softball at Bethel University
DESCRIPTION:Softball at Bethel University\nStreaming Video: https://www.miacsportsnetwork.com/bethelmn/
URL:https://wp.stolaf.edu/calendar/event/softball-at-bethel-university-3/
CATEGORIES:Athletics
LOCATION:Arden Hills\, Minn. / Ona Orth Athletic Complex
END:VEVENT
BEGIN:VEVENT
DTSTART;TZID=America/Chicago:20260411T130000
DTEND;TZID=America/Chicago:20260411T150000
DTSTAMP:20260420T100435
CREATED:20251216T161831Z
LAST-MODIFIED:20260411T082108Z
UID:10036740-1775912400-1775919600@wp.stolaf.edu
SUMMARY:Softball at Bethel University
DESCRIPTION:Softball at Bethel University\nStreaming Video: https://www.miacsportsnetwork.com/bethelmn/
URL:https://wp.stolaf.edu/calendar/event/softball-at-bethel-university-4/
CATEGORIES:Athletics
LOCATION:Arden Hills\, Minn. / Ona Orth Athletic Complex
END:VEVENT
BEGIN:VEVENT
DTSTART;TZID=America/Chicago:20260411T130000
DTEND;TZID=America/Chicago:20260411T235900
DTSTAMP:20260420T100435
CREATED:20260325T070616Z
LAST-MODIFIED:20260411T082108Z
UID:10037624-1775912400-1775951940@wp.stolaf.edu
SUMMARY:Women's Golf at Gustie Spring Classic
DESCRIPTION:Women’s Golf at Gustie Spring Classic
URL:https://wp.stolaf.edu/calendar/event/womens-golf-at-gustie-spring-classic/
CATEGORIES:Athletics
LOCATION:Hastings\, Minn. – Emerald Greens G.C.
END:VEVENT
END:VCALENDAR