BEGIN:VCALENDAR
VERSION:2.0
PRODID:-//Calendar - ECPv6.15.20//NONSGML v1.0//EN
CALSCALE:GREGORIAN
METHOD:PUBLISH
X-ORIGINAL-URL:https://wp.stolaf.edu/calendar
X-WR-CALDESC:Events for Calendar
REFRESH-INTERVAL;VALUE=DURATION:PT1H
X-Robots-Tag:noindex
X-PUBLISHED-TTL:PT1H
BEGIN:VTIMEZONE
TZID:America/Chicago
BEGIN:DAYLIGHT
TZOFFSETFROM:-0600
TZOFFSETTO:-0500
TZNAME:CDT
DTSTART:20240310T080000
END:DAYLIGHT
BEGIN:STANDARD
TZOFFSETFROM:-0500
TZOFFSETTO:-0600
TZNAME:CST
DTSTART:20241103T070000
END:STANDARD
BEGIN:DAYLIGHT
TZOFFSETFROM:-0600
TZOFFSETTO:-0500
TZNAME:CDT
DTSTART:20250309T080000
END:DAYLIGHT
BEGIN:STANDARD
TZOFFSETFROM:-0500
TZOFFSETTO:-0600
TZNAME:CST
DTSTART:20251102T070000
END:STANDARD
BEGIN:DAYLIGHT
TZOFFSETFROM:-0600
TZOFFSETTO:-0500
TZNAME:CDT
DTSTART:20260308T080000
END:DAYLIGHT
BEGIN:STANDARD
TZOFFSETFROM:-0500
TZOFFSETTO:-0600
TZNAME:CST
DTSTART:20261101T070000
END:STANDARD
END:VTIMEZONE
BEGIN:VEVENT
DTSTART;TZID=America/Chicago:20250426T130000
DTEND;TZID=America/Chicago:20250426T160000
DTSTAMP:20260423T020214
CREATED:20240916T232524Z
LAST-MODIFIED:20250426T172650Z
UID:10031516-1745672400-1745683200@wp.stolaf.edu
SUMMARY:Women's Track and Field at Dick & Mary Johnson Invitational
DESCRIPTION:Women’s Track and Field at Dick & Mary Johnson Invitational\nStreaming Video: https://wiacnetwork.com/uweauclaire/
URL:https://wp.stolaf.edu/calendar/event/womens-track-and-field-at-dick-mary-johnson-invitational/
CATEGORIES:Athletics
LOCATION:Eau Claire\, Wis. / Simpson Field
END:VEVENT
BEGIN:VEVENT
DTSTART;TZID=America/Chicago:20250426T130000
DTEND;TZID=America/Chicago:20250426T160000
DTSTAMP:20260423T020214
CREATED:20240916T232523Z
LAST-MODIFIED:20250426T172651Z
UID:10031515-1745672400-1745683200@wp.stolaf.edu
SUMMARY:Men's Track and Field at Dick & Mary Johnson Invitational
DESCRIPTION:Men’s Track and Field at Dick & Mary Johnson Invitational\nStreaming Video: https://wiacnetwork.com/uweauclaire/
URL:https://wp.stolaf.edu/calendar/event/mens-track-and-field-at-dick-mary-johnson-invitational/
CATEGORIES:Athletics
LOCATION:Eau Claire\, Wis. / Simpson Field
END:VEVENT
BEGIN:VEVENT
DTSTART;TZID=America/Chicago:20250426T130000
DTEND;TZID=America/Chicago:20250426T150000
DTSTAMP:20260423T020214
CREATED:20241212T084013Z
LAST-MODIFIED:20250426T172651Z
UID:10032268-1745672400-1745679600@wp.stolaf.edu
SUMMARY:Softball at Gustavus Adolphus College
DESCRIPTION:Softball at Gustavus Adolphus College\nStreaming Video: https://www.miacsportsnetwork.com/gustavus/
URL:https://wp.stolaf.edu/calendar/event/softball-at-gustavus-adolphus-college/
CATEGORIES:Athletics
LOCATION:St. Peter\, Minn. / Gustie Softball Field
END:VEVENT
BEGIN:VEVENT
DTSTART;TZID=America/Chicago:20250426T110000
DTEND;TZID=America/Chicago:20250426T140000
DTSTAMP:20260423T020214
CREATED:20240815T215524Z
LAST-MODIFIED:20250426T172650Z
UID:10030234-1745665200-1745676000@wp.stolaf.edu
SUMMARY:Women's Tennis at Macalester College
DESCRIPTION:Women’s Tennis at Macalester College\nStreaming Video: https://miacsportsnetwork.com/macalester/
URL:https://wp.stolaf.edu/calendar/event/womens-tennis-at-macalester-college/
CATEGORIES:Athletics
LOCATION:St. Paul\, Minn. / Hayden Courts
END:VEVENT
BEGIN:VEVENT
DTSTART;TZID=America/Chicago:20250426T100000
DTEND;TZID=America/Chicago:20250427T100000
DTSTAMP:20260423T020214
CREATED:20250201T131015Z
LAST-MODIFIED:20250426T172650Z
UID:10032995-1745661600-1745748000@wp.stolaf.edu
SUMMARY:Men's Golf at SJU Spring Invitational
DESCRIPTION:Men’s Golf at SJU Spring Invitational
URL:https://wp.stolaf.edu/calendar/event/mens-golf-at-sju-spring-invitational/
CATEGORIES:Athletics
LOCATION:St. Cloud/Monticello\, Minn – Wapicada G.C./Monticello C.C.
END:VEVENT
BEGIN:VEVENT
DTSTART;TZID=America/Chicago:20250426T100000
DTEND;TZID=America/Chicago:20250427T084500
DTSTAMP:20260423T020214
CREATED:20250225T141207Z
LAST-MODIFIED:20250426T172651Z
UID:10033154-1745661600-1745743500@wp.stolaf.edu
SUMMARY:Women's Golf vs St. Olaf/Carleton Invite
DESCRIPTION:Women’s Golf vs St. Olaf/Carleton Invite
URL:https://wp.stolaf.edu/calendar/event/womens-golf-vs-st-olaf-carleton-invite/
CATEGORIES:Athletics
LOCATION:Northfield\, Minn. – Willingers G.C.
END:VEVENT
BEGIN:VEVENT
DTSTART;TZID=America/Chicago:20250424T173000
DTEND;TZID=America/Chicago:20250424T203000
DTSTAMP:20260423T020214
CREATED:20240916T232523Z
LAST-MODIFIED:20250424T171218Z
UID:10031514-1745515800-1745526600@wp.stolaf.edu
SUMMARY:Women's Track and Field at Drake Relays
DESCRIPTION:Women’s Track and Field at Drake Relays\nStreaming Video: https://drakerelays.runnerspace.com/eprofile.php?event_id=631&do=videos&video_id=424480
URL:https://wp.stolaf.edu/calendar/event/womens-track-and-field-at-drake-relays-4/
CATEGORIES:Athletics
LOCATION:Des Moines\, Iowa / Drake Stadium
END:VEVENT
BEGIN:VEVENT
DTSTART;TZID=America/Chicago:20250424T164500
DTEND;TZID=America/Chicago:20250424T194500
DTSTAMP:20260423T020214
CREATED:20240916T232523Z
LAST-MODIFIED:20250424T171217Z
UID:10031511-1745513100-1745523900@wp.stolaf.edu
SUMMARY:Men's Track and Field at Drake Relays
DESCRIPTION:Men’s Track and Field at Drake Relays\nStreaming Video: https://drakerelays.runnerspace.com/eprofile.php?event_id=631&do=videos&video_id=424480
URL:https://wp.stolaf.edu/calendar/event/mens-track-and-field-at-drake-relays-4/
CATEGORIES:Athletics
LOCATION:Des Moines\, Iowa / Drake Stadium
END:VEVENT
BEGIN:VEVENT
DTSTART;TZID=America/Chicago:20250423T170000
DTEND;TZID=America/Chicago:20250423T200000
DTSTAMP:20260423T020214
CREATED:20250107T104018Z
LAST-MODIFIED:20250423T171211Z
UID:10032469-1745427600-1745438400@wp.stolaf.edu
SUMMARY:Baseball vs Macalester College
DESCRIPTION:Baseball vs Macalester College\nStreaming Video: https://www.stolaf.edu/multimedia/play/?e=4993
URL:https://wp.stolaf.edu/calendar/event/baseball-vs-macalester-college/
CATEGORIES:Athletics
LOCATION:Northfield\, Minn.\, Mark Almli Field
END:VEVENT
BEGIN:VEVENT
DTSTART;TZID=America/Chicago:20250423T143000
DTEND;TZID=America/Chicago:20250423T173000
DTSTAMP:20260423T020214
CREATED:20250107T104018Z
LAST-MODIFIED:20250423T171211Z
UID:10032470-1745418600-1745429400@wp.stolaf.edu
SUMMARY:Baseball vs Macalester College
DESCRIPTION:Baseball vs Macalester College\nStreaming Video: https://www.stolaf.edu/multimedia/play/?e=4993
URL:https://wp.stolaf.edu/calendar/event/baseball-vs-macalester-college-2/
CATEGORIES:Athletics
LOCATION:Northfield\, Minn.\, Mark Almli Field
END:VEVENT
BEGIN:VEVENT
DTSTART;TZID=America/Chicago:20250423T123000
DTEND;TZID=America/Chicago:20250423T153000
DTSTAMP:20260423T020214
CREATED:20250308T145711Z
LAST-MODIFIED:20250423T171211Z
UID:10033348-1745411400-1745422200@wp.stolaf.edu
SUMMARY:Men's Track and Field at Gary Wilson Invitational
DESCRIPTION:Men’s Track and Field at Gary Wilson Invitational\nStreaming Video: https://www.bigtenplus.com/en-int/livestream/gary-wilson-invitational/1917080
URL:https://wp.stolaf.edu/calendar/event/mens-track-and-field-at-gary-wilson-invitational-2/
CATEGORIES:Athletics
LOCATION:Minneapolis\, Minn. / University of Minnesota Track & Field Stadium
END:VEVENT
BEGIN:VEVENT
DTSTART;TZID=America/Chicago:20250423T110000
DTEND;TZID=America/Chicago:20250423T140000
DTSTAMP:20260423T020214
CREATED:20250422T171150Z
LAST-MODIFIED:20250423T171211Z
UID:10033694-1745406000-1745416800@wp.stolaf.edu
SUMMARY:Women's Track and Field at Gary Wilson Invitational
DESCRIPTION:Women’s Track and Field at Gary Wilson Invitational\nStreaming Video: https://www.bigtenplus.com/en-int/livestream/gary-wilson-invitational/1917080
URL:https://wp.stolaf.edu/calendar/event/womens-track-and-field-at-gary-wilson-invitational-2/
CATEGORIES:Athletics
LOCATION:Minneapolis\, Minn. / University of Minnesota Track & Field Stadium
END:VEVENT
BEGIN:VEVENT
DTSTART;TZID=America/Chicago:20250422T173000
DTEND;TZID=America/Chicago:20250422T193000
DTSTAMP:20260423T020214
CREATED:20241212T084012Z
LAST-MODIFIED:20250422T171209Z
UID:10032267-1745343000-1745350200@wp.stolaf.edu
SUMMARY:Softball vs Carleton College - Youth Day
DESCRIPTION:Softball vs Carleton College – Youth Day\nStreaming Video: https://www.stolaf.edu/multimedia/play/?e=4999
URL:https://wp.stolaf.edu/calendar/event/softball-vs-carleton-college-2/
CATEGORIES:Athletics
LOCATION:Northfield\, Minn.\, Mabel Shirley Field
END:VEVENT
BEGIN:VEVENT
DTSTART;TZID=America/Chicago:20250422T153000
DTEND;TZID=America/Chicago:20250422T173000
DTSTAMP:20260423T020214
CREATED:20241212T084012Z
LAST-MODIFIED:20250422T171209Z
UID:10032266-1745335800-1745343000@wp.stolaf.edu
SUMMARY:Softball vs Carleton College - Youth Day
DESCRIPTION:Softball vs Carleton College – Youth Day\nStreaming Video: https://www.stolaf.edu/multimedia/play/?e=4999
URL:https://wp.stolaf.edu/calendar/event/softball-vs-carleton-college/
CATEGORIES:Athletics
LOCATION:Northfield\, Minn.\, Mabel Shirley Field
END:VEVENT
END:VCALENDAR