BEGIN:VCALENDAR
VERSION:2.0
PRODID:-//Calendar - ECPv6.15.20//NONSGML v1.0//EN
CALSCALE:GREGORIAN
METHOD:PUBLISH
X-ORIGINAL-URL:https://wp.stolaf.edu/calendar
X-WR-CALDESC:Events for Calendar
REFRESH-INTERVAL;VALUE=DURATION:PT1H
X-Robots-Tag:noindex
X-PUBLISHED-TTL:PT1H
BEGIN:VTIMEZONE
TZID:America/Chicago
BEGIN:DAYLIGHT
TZOFFSETFROM:-0600
TZOFFSETTO:-0500
TZNAME:CDT
DTSTART:20250309T080000
END:DAYLIGHT
BEGIN:STANDARD
TZOFFSETFROM:-0500
TZOFFSETTO:-0600
TZNAME:CST
DTSTART:20251102T070000
END:STANDARD
BEGIN:DAYLIGHT
TZOFFSETFROM:-0600
TZOFFSETTO:-0500
TZNAME:CDT
DTSTART:20260308T080000
END:DAYLIGHT
BEGIN:STANDARD
TZOFFSETFROM:-0500
TZOFFSETTO:-0600
TZNAME:CST
DTSTART:20261101T070000
END:STANDARD
BEGIN:DAYLIGHT
TZOFFSETFROM:-0600
TZOFFSETTO:-0500
TZNAME:CDT
DTSTART:20270314T080000
END:DAYLIGHT
BEGIN:STANDARD
TZOFFSETFROM:-0500
TZOFFSETTO:-0600
TZNAME:CST
DTSTART:20271107T070000
END:STANDARD
END:VTIMEZONE
BEGIN:VEVENT
DTSTART;TZID=America/Chicago:20260105T101000
DTEND;TZID=America/Chicago:20260105T103000
DTSTAMP:20260420T235434
CREATED:20251210T215027Z
LAST-MODIFIED:20251210T215027Z
UID:10036652-1767607800-1767609000@wp.stolaf.edu
SUMMARY:Daily Chapel: Donna Dempewolf
DESCRIPTION:The chapel speaker today will be Pastor Donna Dempewolf; United Methodist Church\, Northfield. \nDaily Chapel is a time of inspiration for body\, mind\, and spirit; a quiet harbor in a busy day; worship. Students\, faculty\, and staff witness to their faith and invite the community to join them. All are welcome! \nIf you are unable to join us in person but would like to watch live or archived chapel services\, please click the web link below.
URL:https://wp.stolaf.edu/calendar/event/daily-chapel-donna-dempewolf-2/
CATEGORIES:Chapel
LOCATION:Boe Memorial Chapel
GEO:44.4582983;-93.161604
END:VEVENT
BEGIN:VEVENT
DTSTART;TZID=America/Chicago:20260106T101000
DTEND;TZID=America/Chicago:20260106T103000
DTSTAMP:20260420T235434
CREATED:20251210T215045Z
LAST-MODIFIED:20251210T215045Z
UID:10036653-1767694200-1767695400@wp.stolaf.edu
SUMMARY:Daily Chapel: Epiphany
DESCRIPTION:Daily Chapel is a time of inspiration for body\, mind\, and spirit; a quiet harbor in a busy day; worship. Students\, faculty\, and staff witness to their faith and invite the community to join them. All are welcome! \nIf you are unable to join us in person but would like to watch live or archived chapel services\, please click the web link below.
URL:https://wp.stolaf.edu/calendar/event/daily-chapel-epiphany/
CATEGORIES:Chapel
LOCATION:Boe Memorial Chapel
GEO:44.4582983;-93.161604
END:VEVENT
BEGIN:VEVENT
DTSTART;TZID=America/Chicago:20260107T101000
DTEND;TZID=America/Chicago:20260107T103000
DTSTAMP:20260420T235434
CREATED:20251210T220328Z
LAST-MODIFIED:20251210T220328Z
UID:10036654-1767780600-1767781800@wp.stolaf.edu
SUMMARY:Daily Chapel: Service of Holy Communion
DESCRIPTION:Daily Chapel is a time of inspiration for body\, mind\, and spirit; a quiet harbor in a busy day; worship. Students\, faculty\, and staff witness to their faith and invite the community to join them. All are welcome! \nIf you are unable to join us in person but would like to watch live or archived chapel services\, please click the web link below.
URL:https://wp.stolaf.edu/calendar/event/daily-chapel-service-of-holy-communion-18/
CATEGORIES:Chapel
LOCATION:Boe Memorial Chapel
GEO:44.4582983;-93.161604
END:VEVENT
BEGIN:VEVENT
DTSTART;TZID=America/Chicago:20260108T101000
DTEND;TZID=America/Chicago:20260108T103000
DTSTAMP:20260420T235434
CREATED:20251210T215537Z
LAST-MODIFIED:20251219T164355Z
UID:10036655-1767867000-1767868200@wp.stolaf.edu
SUMMARY:Daily Chapel: Mark Heiman
DESCRIPTION:The chapel speaker today will be Mark Heiman; Campus Ministry\, All Saints Episcopal Church\, Northfield. \nDaily Chapel is a time of inspiration for body\, mind\, and spirit; a quiet harbor in a busy day; worship. Students\, faculty\, and staff witness to their faith and invite the community to join them. All are welcome! \nIf you are unable to join us in person but would like to watch live or archived chapel services\, please click the web link below.
URL:https://wp.stolaf.edu/calendar/event/daily-chapel-7/
CATEGORIES:Chapel
LOCATION:Boe Memorial Chapel
GEO:44.4582983;-93.161604
END:VEVENT
BEGIN:VEVENT
DTSTART;TZID=America/Chicago:20260109T101000
DTEND;TZID=America/Chicago:20260109T103000
DTSTAMP:20260420T235434
CREATED:20251210T220512Z
LAST-MODIFIED:20251210T220512Z
UID:10036656-1767953400-1767954600@wp.stolaf.edu
SUMMARY:Daily Chapel: Service of Morning Prayer
DESCRIPTION:Daily Chapel is a time of inspiration for body\, mind\, and spirit; a quiet harbor in a busy day; worship. Students\, faculty\, and staff witness to their faith and invite the community to join them. All are welcome! \nIf you are unable to join us in person but would like to watch live or archived chapel services\, please click the web link below.
URL:https://wp.stolaf.edu/calendar/event/daily-chapel-service-of-morning-prayer-15/
CATEGORIES:Chapel
LOCATION:Boe Memorial Chapel
GEO:44.4582983;-93.161604
END:VEVENT
BEGIN:VEVENT
DTSTART;TZID=America/Chicago:20260111T103000
DTEND;TZID=America/Chicago:20260111T113000
DTSTAMP:20260420T235434
CREATED:20251210T220635Z
LAST-MODIFIED:20260102T195113Z
UID:10036671-1768127400-1768131000@wp.stolaf.edu
SUMMARY:Sunday Morning Worship: Baptism of Our Lord
DESCRIPTION:Baptism of Our Lord; Sunday Worship with Holy Communion. \nCollege Pastor Matthew Marohl will deliver the sermon\, assisted by James Bobb\, Cantor to the Student Congregation. The St. Olaf Choir will be conducted by Anton Armstrong ’78\, Tosdal Professor of Music. The St. Olaf Choir\, with 75 mixed voices\, is the premier a cappella choir in the United States. For over a century\, the choir has set a standard of choral excellence and remained at the forefront of choral artistry. Conducted since 1990 by Anton Armstrong\, the St. Olaf Choir continues to develop the tradition that originated with its founder\, F. Melius Christiansen. \nSunday Worship is a time of inspiration and worship for body\, mind\, and spirit; a meaningful beginning to a new week. All are welcome! \nClick the web link below to access streamed and archived services.
URL:https://wp.stolaf.edu/calendar/event/sunday-morning-worship-baptism-of-our-lord/
CATEGORIES:Chapel
LOCATION:Boe Memorial Chapel
GEO:44.4582983;-93.161604
END:VEVENT
BEGIN:VEVENT
DTSTART;TZID=America/Chicago:20260112T101000
DTEND;TZID=America/Chicago:20260112T103000
DTSTAMP:20260420T235434
CREATED:20251210T215555Z
LAST-MODIFIED:20260102T214537Z
UID:10036657-1768212600-1768213800@wp.stolaf.edu
SUMMARY:Daily Chapel: Jonathan Davis '04
DESCRIPTION:The chapel speaker today will be Jonathan Davis ’04; Associate Pastor\, St. John’s Lutheran Church\, Northfield. \nDaily Chapel is a time of inspiration for body\, mind\, and spirit; a quiet harbor in a busy day; worship. Students\, faculty\, and staff witness to their faith and invite the community to join them. All are welcome! \nIf you are unable to join us in person but would like to watch live or archived chapel services\, please click the web link below.
URL:https://wp.stolaf.edu/calendar/event/daily-chapel-8/
CATEGORIES:Chapel
LOCATION:Boe Memorial Chapel
GEO:44.4582983;-93.161604
END:VEVENT
BEGIN:VEVENT
DTSTART;TZID=America/Chicago:20260113T101000
DTEND;TZID=America/Chicago:20260113T103000
DTSTAMP:20260420T235434
CREATED:20251210T215714Z
LAST-MODIFIED:20251210T215714Z
UID:10036658-1768299000-1768300200@wp.stolaf.edu
SUMMARY:Daily Chapel
DESCRIPTION:Daily Chapel is a time of inspiration for body\, mind\, and spirit; a quiet harbor in a busy day; worship. Students\, faculty\, and staff witness to their faith and invite the community to join them. All are welcome! \nIf you are unable to join us in person but would like to watch live or archived chapel services\, please click the web link below.
URL:https://wp.stolaf.edu/calendar/event/daily-chapel-9/
CATEGORIES:Chapel
LOCATION:Boe Memorial Chapel
GEO:44.4582983;-93.161604
END:VEVENT
BEGIN:VEVENT
DTSTART;TZID=America/Chicago:20260114T101000
DTEND;TZID=America/Chicago:20260114T103000
DTSTAMP:20260420T235434
CREATED:20251210T220351Z
LAST-MODIFIED:20251210T220351Z
UID:10036659-1768385400-1768386600@wp.stolaf.edu
SUMMARY:Daily Chapel: Service of Holy Communion
DESCRIPTION:Daily Chapel is a time of inspiration for body\, mind\, and spirit; a quiet harbor in a busy day; worship. Students\, faculty\, and staff witness to their faith and invite the community to join them. All are welcome! \nIf you are unable to join us in person but would like to watch live or archived chapel services\, please click the web link below.
URL:https://wp.stolaf.edu/calendar/event/daily-chapel-service-of-holy-communion-19/
CATEGORIES:Chapel
LOCATION:Boe Memorial Chapel
GEO:44.4582983;-93.161604
END:VEVENT
BEGIN:VEVENT
DTSTART;TZID=America/Chicago:20260115T101000
DTEND;TZID=America/Chicago:20260115T103000
DTSTAMP:20260420T235434
CREATED:20251210T215508Z
LAST-MODIFIED:20251210T215508Z
UID:10036660-1768471800-1768473000@wp.stolaf.edu
SUMMARY:Daily Chapel: Pam Fickenscher
DESCRIPTION:The chapel speaker today will be Pastor Pam Fickenscher; St. John’s Lutheran Church\, Northfield. \nDaily Chapel is a time of inspiration for body\, mind\, and spirit; a quiet harbor in a busy day; worship. Students\, faculty\, and staff witness to their faith and invite the community to join them. All are welcome! \nIf you are unable to join us in person but would like to watch live or archived chapel services\, please click the web link below.
URL:https://wp.stolaf.edu/calendar/event/daily-chapel-pam-fickenscher-2/
CATEGORIES:Chapel
LOCATION:Boe Memorial Chapel
GEO:44.4582983;-93.161604
END:VEVENT
BEGIN:VEVENT
DTSTART;TZID=America/Chicago:20260116T101000
DTEND;TZID=America/Chicago:20260116T103000
DTSTAMP:20260420T235434
CREATED:20251210T220529Z
LAST-MODIFIED:20251210T220529Z
UID:10036661-1768558200-1768559400@wp.stolaf.edu
SUMMARY:Daily Chapel: Service of Morning Prayer
DESCRIPTION:Daily Chapel is a time of inspiration for body\, mind\, and spirit; a quiet harbor in a busy day; worship. Students\, faculty\, and staff witness to their faith and invite the community to join them. All are welcome! \nIf you are unable to join us in person but would like to watch live or archived chapel services\, please click the web link below.
URL:https://wp.stolaf.edu/calendar/event/daily-chapel-service-of-morning-prayer-16/
CATEGORIES:Chapel
LOCATION:Boe Memorial Chapel
GEO:44.4582983;-93.161604
END:VEVENT
BEGIN:VEVENT
DTSTART;TZID=America/Chicago:20260118T103000
DTEND;TZID=America/Chicago:20260118T113000
DTSTAMP:20260420T235434
CREATED:20251210T220651Z
LAST-MODIFIED:20251210T220651Z
UID:10036672-1768732200-1768735800@wp.stolaf.edu
SUMMARY:Sunday Morning Worship: Second Sunday after Epiphany
DESCRIPTION:Second Sunday after Epiphany; Sunday Worship with Holy Communion. \nCollege Pastor Matthew Marohl will deliver the sermon assisted by James Bobb\, Cantor to the Student Congregation. \nSunday Worship is a time of inspiration and worship for body\, mind\, and spirit; a meaningful beginning to a new week. All are welcome! \nClick the web link below to access streamed and archived services.
URL:https://wp.stolaf.edu/calendar/event/sunday-morning-worship-second-sunday-after-epiphany-2/
CATEGORIES:Chapel
LOCATION:Boe Memorial Chapel
GEO:44.4582983;-93.161604
END:VEVENT
BEGIN:VEVENT
DTSTART;TZID=America/Chicago:20260120T101000
DTEND;TZID=America/Chicago:20260120T103000
DTSTAMP:20260420T235434
CREATED:20251210T215831Z
LAST-MODIFIED:20251210T215831Z
UID:10036663-1768903800-1768905000@wp.stolaf.edu
SUMMARY:Daily Chapel: MLK Chapel
DESCRIPTION:Today’s chapel service will be in commemoration of MLK Day. \nDaily Chapel is a time of inspiration for body\, mind\, and spirit; a quiet harbor in a busy day; worship. Students\, faculty\, and staff witness to their faith and invite the community to join them. All are welcome! \nIf you are unable to join us in person but would like to watch live or archived chapel services\, please click the web link below.
URL:https://wp.stolaf.edu/calendar/event/daily-chapel-mlk-chapel-2/
CATEGORIES:Chapel
LOCATION:Boe Memorial Chapel
GEO:44.4582983;-93.161604
END:VEVENT
BEGIN:VEVENT
DTSTART;TZID=America/Chicago:20260121T101000
DTEND;TZID=America/Chicago:20260121T103000
DTSTAMP:20260420T235434
CREATED:20251210T220412Z
LAST-MODIFIED:20251210T220412Z
UID:10036664-1768990200-1768991400@wp.stolaf.edu
SUMMARY:Daily Chapel: Service of Holy Communion
DESCRIPTION:Daily Chapel is a time of inspiration for body\, mind\, and spirit; a quiet harbor in a busy day; worship. Students\, faculty\, and staff witness to their faith and invite the community to join them. All are welcome! \nIf you are unable to join us in person but would like to watch live or archived chapel services\, please click the web link below.
URL:https://wp.stolaf.edu/calendar/event/daily-chapel-service-of-holy-communion-20/
CATEGORIES:Chapel
LOCATION:Boe Memorial Chapel
GEO:44.4582983;-93.161604
END:VEVENT
BEGIN:VEVENT
DTSTART;TZID=America/Chicago:20260122T101000
DTEND;TZID=America/Chicago:20260122T103000
DTSTAMP:20260420T235434
CREATED:20251210T220151Z
LAST-MODIFIED:20251210T220151Z
UID:10036665-1769076600-1769077800@wp.stolaf.edu
SUMMARY:Daily Chapel: Fr. Justus Musinguzi
DESCRIPTION:The chapel speaker today will be Fr. Justus Musinguzi; Church of St. Dominic\, Northfield. \nDaily Chapel is a time of inspiration for body\, mind\, and spirit; a quiet harbor in a busy day; worship. Students\, faculty\, and staff witness to their faith and invite the community to join them. All are welcome! \nIf you are unable to join us in person but would like to watch live or archived chapel services\, please click the web link below.
URL:https://wp.stolaf.edu/calendar/event/daily-chapel-fr-justus-musinguzi/
CATEGORIES:Chapel
LOCATION:Boe Memorial Chapel
GEO:44.4582983;-93.161604
END:VEVENT
BEGIN:VEVENT
DTSTART;TZID=America/Chicago:20260123T101000
DTEND;TZID=America/Chicago:20260123T103000
DTSTAMP:20260420T235434
CREATED:20251210T220556Z
LAST-MODIFIED:20251210T220556Z
UID:10036666-1769163000-1769164200@wp.stolaf.edu
SUMMARY:Daily Chapel: Service of Morning Prayer
DESCRIPTION:Daily Chapel is a time of inspiration for body\, mind\, and spirit; a quiet harbor in a busy day; worship. Students\, faculty\, and staff witness to their faith and invite the community to join them. All are welcome! \nIf you are unable to join us in person but would like to watch live or archived chapel services\, please click the web link below.
URL:https://wp.stolaf.edu/calendar/event/daily-chapel-service-of-morning-prayer-17/
CATEGORIES:Chapel
LOCATION:Boe Memorial Chapel
GEO:44.4582983;-93.161604
END:VEVENT
BEGIN:VEVENT
DTSTART;TZID=America/Chicago:20260125T103000
DTEND;TZID=America/Chicago:20260125T113000
DTSTAMP:20260420T235434
CREATED:20251210T221329Z
LAST-MODIFIED:20251210T222003Z
UID:10036673-1769337000-1769340600@wp.stolaf.edu
SUMMARY:Sunday Morning Worship: Third Sunday after Epiphany
DESCRIPTION:Third Sunday after Epiphany; Sunday Worship with Holy Communion. \nCollege Pastor Matthew Marohl will deliver the sermon assisted by James Bobb\, Cantor to the Student Congregation. \nSunday Worship is a time of inspiration and worship for body\, mind\, and spirit; a meaningful beginning to a new week. All are welcome! \nClick the web link below to access streamed and archived services.
URL:https://wp.stolaf.edu/calendar/event/sunday-morning-worship-third-sunday-after-epiphany-2/
CATEGORIES:Chapel
LOCATION:Boe Memorial Chapel
GEO:44.4582983;-93.161604
END:VEVENT
BEGIN:VEVENT
DTSTART;TZID=America/Chicago:20260126T101000
DTEND;TZID=America/Chicago:20260126T103000
DTSTAMP:20260420T235434
CREATED:20251210T220255Z
LAST-MODIFIED:20251210T220255Z
UID:10036667-1769422200-1769423400@wp.stolaf.edu
SUMMARY:Daily Chapel: Ben Schori
DESCRIPTION:The chapel speaker today will be Pastor Ben Schori; Bethel Lutheran Church\, Northfield. \nDaily Chapel is a time of inspiration for body\, mind\, and spirit; a quiet harbor in a busy day; worship. Students\, faculty\, and staff witness to their faith and invite the community to join them. All are welcome! \nIf you are unable to join us in person but would like to watch live or archived chapel services\, please click the web link below.
URL:https://wp.stolaf.edu/calendar/event/daily-chapel-ben-schori-2/
CATEGORIES:Chapel
LOCATION:Boe Memorial Chapel
GEO:44.4582983;-93.161604
END:VEVENT
BEGIN:VEVENT
DTSTART;TZID=America/Chicago:20260127T101000
DTEND;TZID=America/Chicago:20260127T103000
DTSTAMP:20260420T235434
CREATED:20251210T215731Z
LAST-MODIFIED:20251219T164721Z
UID:10036668-1769508600-1769509800@wp.stolaf.edu
SUMMARY:Daily Chapel: Cody Maynus
DESCRIPTION:The chapel speaker today will be Rev. Cody Maynus; All Saints Episcopal Church\, Northfield. \nDaily Chapel is a time of inspiration for body\, mind\, and spirit; a quiet harbor in a busy day; worship. Students\, faculty\, and staff witness to their faith and invite the community to join them. All are welcome! \nIf you are unable to join us in person but would like to watch live or archived chapel services\, please click the web link below.
URL:https://wp.stolaf.edu/calendar/event/daily-chapel-10/
CATEGORIES:Chapel
LOCATION:Boe Memorial Chapel
GEO:44.4582983;-93.161604
END:VEVENT
BEGIN:VEVENT
DTSTART;TZID=America/Chicago:20260128T101000
DTEND;TZID=America/Chicago:20260128T103000
DTSTAMP:20260420T235434
CREATED:20251210T220456Z
LAST-MODIFIED:20251210T220456Z
UID:10036669-1769595000-1769596200@wp.stolaf.edu
SUMMARY:Daily Chapel: Service of Holy Communion
DESCRIPTION:Daily Chapel is a time of inspiration for body\, mind\, and spirit; a quiet harbor in a busy day; worship. Students\, faculty\, and staff witness to their faith and invite the community to join them. All are welcome! \nIf you are unable to join us in person but would like to watch live or archived chapel services\, please click the web link below.
URL:https://wp.stolaf.edu/calendar/event/daily-chapel-service-of-holy-communion-21/
CATEGORIES:Chapel
LOCATION:Boe Memorial Chapel
GEO:44.4582983;-93.161604
END:VEVENT
BEGIN:VEVENT
DTSTART;TZID=America/Chicago:20260129T101000
DTEND;TZID=America/Chicago:20260129T103000
DTSTAMP:20260420T235434
CREATED:20251210T220614Z
LAST-MODIFIED:20251210T221023Z
UID:10036670-1769681400-1769682600@wp.stolaf.edu
SUMMARY:Daily Chapel: Service of Morning Prayer
DESCRIPTION:Daily Chapel is a time of inspiration for body\, mind\, and spirit; a quiet harbor in a busy day; worship. Students\, faculty\, and staff witness to their faith and invite the community to join them. All are welcome! \nIf you are unable to join us in person but would like to watch live or archived chapel services\, please click the web link below.
URL:https://wp.stolaf.edu/calendar/event/daily-chapel-service-of-morning-prayer-18/
CATEGORIES:Chapel
LOCATION:Boe Memorial Chapel
GEO:44.4582983;-93.161604
END:VEVENT
END:VCALENDAR