BEGIN:VCALENDAR
VERSION:2.0
PRODID:-//Calendar - ECPv6.15.20//NONSGML v1.0//EN
CALSCALE:GREGORIAN
METHOD:PUBLISH
X-ORIGINAL-URL:https://wp.stolaf.edu/calendar
X-WR-CALDESC:Events for Calendar
REFRESH-INTERVAL;VALUE=DURATION:PT1H
X-Robots-Tag:noindex
X-PUBLISHED-TTL:PT1H
BEGIN:VTIMEZONE
TZID:America/Chicago
BEGIN:DAYLIGHT
TZOFFSETFROM:-0600
TZOFFSETTO:-0500
TZNAME:CDT
DTSTART:20250309T080000
END:DAYLIGHT
BEGIN:STANDARD
TZOFFSETFROM:-0500
TZOFFSETTO:-0600
TZNAME:CST
DTSTART:20251102T070000
END:STANDARD
BEGIN:DAYLIGHT
TZOFFSETFROM:-0600
TZOFFSETTO:-0500
TZNAME:CDT
DTSTART:20260308T080000
END:DAYLIGHT
BEGIN:STANDARD
TZOFFSETFROM:-0500
TZOFFSETTO:-0600
TZNAME:CST
DTSTART:20261101T070000
END:STANDARD
BEGIN:DAYLIGHT
TZOFFSETFROM:-0600
TZOFFSETTO:-0500
TZNAME:CDT
DTSTART:20270314T080000
END:DAYLIGHT
BEGIN:STANDARD
TZOFFSETFROM:-0500
TZOFFSETTO:-0600
TZNAME:CST
DTSTART:20271107T070000
END:STANDARD
END:VTIMEZONE
BEGIN:VEVENT
DTSTART;TZID=America/Chicago:20260301T103000
DTEND;TZID=America/Chicago:20260301T113000
DTSTAMP:20260420T203659
CREATED:20260206T164605Z
LAST-MODIFIED:20260206T164605Z
UID:10037151-1772361000-1772364600@wp.stolaf.edu
SUMMARY:Sunday Morning Worship: 2nd Sunday in Lent
DESCRIPTION:2nd Sunday in Lent; Sunday Worship with Holy Communion. \nCollege Pastor Matthew Marohl will deliver the sermon presided by Interim Associate College Pastor Paul Graham ’96. James E. Bobb\, Associate Professor in Music and the Cantor for the Student Congregation\, will assist. The Manitou Singers will be conducted by Therees Hibbard\, Associate Professor of Practice in Music. Comprised of alto and soprano voices from the first-year class\, the Manitou Singers is one of the most popular music organizations on the St. Olaf College campus. With a repertoire that ranges from sacred to secular to popular ballads\, the 100-voice choir sings at the opening worship service of the college as well as at various campus functions throughout the year. \nSunday Worship is a time of inspiration and worship for body\, mind\, and spirit; a meaningful beginning to a new week. All are welcome! \nClick the web link below to access streamed and archived services.
URL:https://wp.stolaf.edu/calendar/event/sunday-morning-worship-2nd-sunday-in-lent/
CATEGORIES:Chapel
LOCATION:Boe Memorial Chapel
GEO:44.4582983;-93.161604
END:VEVENT
BEGIN:VEVENT
DTSTART;TZID=America/Chicago:20260302T101000
DTEND;TZID=America/Chicago:20260302T103000
DTSTAMP:20260420T203659
CREATED:20260130T201848Z
LAST-MODIFIED:20260206T171634Z
UID:10037086-1772446200-1772447400@wp.stolaf.edu
SUMMARY:Daily Chapel: Lenten Series: Walking the Way
DESCRIPTION:The Lenten Chapel Series will include readings and reflections from “Walking the Way”\, a book by John Dear. \nDaily Chapel is a time of inspiration for body\, mind\, and spirit; a quiet harbor in a busy day; worship. Students\, faculty\, and staff witness to their faith and invite the community to join them. All are welcome! \nIf you are unable to join us in person but would like to watch live or archived chapel services\, please click the web link below.
URL:https://wp.stolaf.edu/calendar/event/daily-chapel-lenten-series-2/
CATEGORIES:Chapel
LOCATION:Boe Memorial Chapel
GEO:44.4582983;-93.161604
END:VEVENT
BEGIN:VEVENT
DTSTART;TZID=America/Chicago:20260303T111000
DTEND;TZID=America/Chicago:20260303T113000
DTSTAMP:20260420T203659
CREATED:20260227T221117Z
LAST-MODIFIED:20260227T221117Z
UID:10037436-1772536200-1772537400@wp.stolaf.edu
SUMMARY:Daily Chapel: Dick Nchang '25
DESCRIPTION:The chapel speaker today will be Dick Nchang ’25. \nDaily Chapel is a time of inspiration for body\, mind\, and spirit; a quiet harbor in a busy day; worship. Students\, faculty\, and staff witness to their faith and invite the community to join them. All are welcome! \nIf you are unable to join us in person but would like to watch live or archived chapel services\, please click the web link below.
URL:https://wp.stolaf.edu/calendar/event/daily-chapel-dick-nchang-25/
CATEGORIES:Chapel
LOCATION:Boe Memorial Chapel
GEO:44.4582983;-93.161604
END:VEVENT
BEGIN:VEVENT
DTSTART;TZID=America/Chicago:20260304T101000
DTEND;TZID=America/Chicago:20260304T103000
DTSTAMP:20260420T203659
CREATED:20260227T221209Z
LAST-MODIFIED:20260227T221209Z
UID:10037437-1772619000-1772620200@wp.stolaf.edu
SUMMARY:Daily Chapel: Service of Holy Communion
DESCRIPTION:Daily Chapel is a time of inspiration for body\, mind\, and spirit; a quiet harbor in a busy day; worship. Students\, faculty\, and staff witness to their faith and invite the community to join them. All are welcome! \nIf you are unable to join us in person but would like to watch live or archived chapel services\, please click the web link below.
URL:https://wp.stolaf.edu/calendar/event/daily-chapel-service-of-holy-communion-25/
CATEGORIES:Chapel
LOCATION:Boe Memorial Chapel
GEO:44.4582983;-93.161604
END:VEVENT
BEGIN:VEVENT
DTSTART;TZID=America/Chicago:20260305T110000
DTEND;TZID=America/Chicago:20260305T112000
DTSTAMP:20260420T203659
CREATED:20260227T221415Z
LAST-MODIFIED:20260227T221415Z
UID:10037438-1772708400-1772709600@wp.stolaf.edu
SUMMARY:Daily Chapel: Belle Chanter\, Stillwater High School Choir
DESCRIPTION:Today’s chapel will be led by Belle Chanter\, Stillwater High School Choir; Katelyn Sawatzke ’11\, conductor. \nDaily Chapel is a time of inspiration for body\, mind\, and spirit; a quiet harbor in a busy day; worship. Students\, faculty\, and staff witness to their faith and invite the community to join them. All are welcome! \nIf you are unable to join us in person but would like to watch live or archived chapel services\, please click the web link below.
URL:https://wp.stolaf.edu/calendar/event/daily-chapel-belle-chanter-stillwater-high-school-choir/
CATEGORIES:Chapel
LOCATION:Boe Memorial Chapel
GEO:44.4582983;-93.161604
END:VEVENT
BEGIN:VEVENT
DTSTART;TZID=America/Chicago:20260306T101000
DTEND;TZID=America/Chicago:20260306T103000
DTSTAMP:20260420T203659
CREATED:20260227T221527Z
LAST-MODIFIED:20260227T221527Z
UID:10037439-1772791800-1772793000@wp.stolaf.edu
SUMMARY:Daily Chapel: Service of Morning Prayer
DESCRIPTION:Daily Chapel is a time of inspiration for body\, mind\, and spirit; a quiet harbor in a busy day; worship. Students\, faculty\, and staff witness to their faith and invite the community to join them. All are welcome! \nClick the web link below to access streamed and archived services.
URL:https://wp.stolaf.edu/calendar/event/daily-chapel-service-of-morning-prayer-24/
CATEGORIES:Chapel
LOCATION:Boe Memorial Chapel
GEO:44.4582983;-93.161604
END:VEVENT
BEGIN:VEVENT
DTSTART;TZID=America/Chicago:20260308T103000
DTEND;TZID=America/Chicago:20260308T113000
DTSTAMP:20260420T203659
CREATED:20260206T154738Z
LAST-MODIFIED:20260206T154738Z
UID:10037150-1772965800-1772969400@wp.stolaf.edu
SUMMARY:Sunday Morning Worship: 3rd Sunday in Lent
DESCRIPTION:3rd Sunday in Lent; Sunday Worship with Holy Communion. \nInterim Associate College Pastor Paul Graham ’96 will deliver the sermon presided by College Pastor Matthew Marohl. James E. Bobb\, Associate Professor in Music and the Cantor for the Student Congregation\, will preside. St. Olaf Chapel Choir will be conducted by Joseph Kemper ’11\, Assistant Professor of Music. Founded in 1925\, the St. Olaf Chapel Choir began as one of two mixed choruses at St. Olaf College following the dissolution of the Choral Union. Specializing in the performance of oratorio and larger works\, the St. Olaf Chapel Choir frequently collaborates with the St. Olaf Orchestra as well as instrumentalists and soloists from the St. Olaf community. \nSunday Worship is a time of inspiration and worship for body\, mind\, and spirit; a meaningful beginning to a new week. All are welcome! \nClick the web link below to access streamed and archived services.
URL:https://wp.stolaf.edu/calendar/event/sunday-morning-worship-3rd-sunday-in-lent/
CATEGORIES:Chapel
LOCATION:Boe Memorial Chapel
GEO:44.4582983;-93.161604
END:VEVENT
BEGIN:VEVENT
DTSTART;TZID=America/Chicago:20260309T101000
DTEND;TZID=America/Chicago:20260309T103000
DTSTAMP:20260420T203659
CREATED:20260227T221727Z
LAST-MODIFIED:20260227T221727Z
UID:10037443-1773051000-1773052200@wp.stolaf.edu
SUMMARY:Daily Chapel: Lenten Series: Walking the Way
DESCRIPTION:The Lenten Chapel Series will include readings and reflections from “Walking the Way”\, a book by John Dear. \nDaily Chapel is a time of inspiration for body\, mind\, and spirit; a quiet harbor in a busy day; worship. Students\, faculty\, and staff witness to their faith and invite the community to join them. All are welcome! \nIf you are unable to join us in person but would like to watch live or archived chapel services\, please click the web link below.
URL:https://wp.stolaf.edu/calendar/event/daily-chapel-lenten-series-walking-the-way/
CATEGORIES:Chapel
LOCATION:Boe Memorial Chapel
GEO:44.4582983;-93.161604
END:VEVENT
BEGIN:VEVENT
DTSTART;TZID=America/Chicago:20260310T111000
DTEND;TZID=America/Chicago:20260310T113000
DTSTAMP:20260420T203659
CREATED:20260227T221833Z
LAST-MODIFIED:20260227T221833Z
UID:10037449-1773141000-1773142200@wp.stolaf.edu
SUMMARY:Daily Chapel: St. Olaf Band
DESCRIPTION:Daily Chapel is a time of inspiration for body\, mind\, and spirit; a quiet harbor in a busy day; worship. Students\, faculty\, and staff witness to their faith and invite the community to join them. All are welcome! \nToday’s chapel will be led by the St. Olaf Band; conducted by Henry Dorn\, Professor of Music. Founded in 1891\, the St. Olaf Band is the oldest music organization at St. Olaf College. The band has toured nationally since 1904 and internationally since 1906\, when it performed a four-week\, 30-concert tour of Norway\, making it the first American collegiate band to tour Europe. The band has toured Norway\, Great Britain\, Japan\, central Europe\, Australia\, and New Zealand. \n\n\nIf you are unable to join us in person but would like to watch live or archived chapel services\, please click the web link below.
URL:https://wp.stolaf.edu/calendar/event/daily-chapel-st-olaf-band/
CATEGORIES:Chapel
LOCATION:Boe Memorial Chapel
GEO:44.4582983;-93.161604
END:VEVENT
BEGIN:VEVENT
DTSTART;TZID=America/Chicago:20260311T101000
DTEND;TZID=America/Chicago:20260311T103000
DTSTAMP:20260420T203659
CREATED:20260227T221920Z
LAST-MODIFIED:20260227T221920Z
UID:10037446-1773223800-1773225000@wp.stolaf.edu
SUMMARY:Daily Chapel: Service of Holy Communion
DESCRIPTION:Daily Chapel is a time of inspiration for body\, mind\, and spirit; a quiet harbor in a busy day; worship. Students\, faculty\, and staff witness to their faith and invite the community to join them. All are welcome! \nIf you are unable to join us in person but would like to watch live or archived chapel services\, please click the web link below.
URL:https://wp.stolaf.edu/calendar/event/daily-chapel-service-of-holy-communion-26/
CATEGORIES:Chapel
LOCATION:Boe Memorial Chapel
GEO:44.4582983;-93.161604
END:VEVENT
BEGIN:VEVENT
DTSTART;TZID=America/Chicago:20260312T110000
DTEND;TZID=America/Chicago:20260312T112000
DTSTAMP:20260420T203659
CREATED:20260227T222123Z
LAST-MODIFIED:20260227T222123Z
UID:10037453-1773313200-1773314400@wp.stolaf.edu
SUMMARY:Daily Chapel: Inger Hanson
DESCRIPTION:The chapel speaker today will be Inger Hanson\, Senior Pastor; Bethel Lutheran Church\, Northfield. \nDaily Chapel is a time of inspiration for body\, mind\, and spirit; a quiet harbor in a busy day; worship. Students\, faculty\, and staff witness to their faith and invite the community to join them. All are welcome! \nIf you are unable to join us in person but would like to watch live or archived chapel services\, please click the web link below.
URL:https://wp.stolaf.edu/calendar/event/daily-chapel-inger-hanson/
CATEGORIES:Chapel
LOCATION:Boe Memorial Chapel
GEO:44.4582983;-93.161604
END:VEVENT
BEGIN:VEVENT
DTSTART;TZID=America/Chicago:20260313T101000
DTEND;TZID=America/Chicago:20260313T103000
DTSTAMP:20260420T203659
CREATED:20260227T222206Z
LAST-MODIFIED:20260227T222206Z
UID:10037440-1773396600-1773397800@wp.stolaf.edu
SUMMARY:Daily Chapel: Service of Morning Prayer
DESCRIPTION:Daily Chapel is a time of inspiration for body\, mind\, and spirit; a quiet harbor in a busy day; worship. Students\, faculty\, and staff witness to their faith and invite the community to join them. All are welcome! \nClick the web link below to access streamed and archived services.
URL:https://wp.stolaf.edu/calendar/event/daily-chapel-service-of-morning-prayer-25/
CATEGORIES:Chapel
LOCATION:Boe Memorial Chapel
GEO:44.4582983;-93.161604
END:VEVENT
BEGIN:VEVENT
DTSTART;TZID=America/Chicago:20260315T103000
DTEND;TZID=America/Chicago:20260315T113000
DTSTAMP:20260420T203659
CREATED:20260206T154652Z
LAST-MODIFIED:20260206T154652Z
UID:10037149-1773570600-1773574200@wp.stolaf.edu
SUMMARY:Sunday Morning Worship: 4th Sunday in Lent
DESCRIPTION:4th Sunday in Lent; Sunday Worship with Holy Communion. \nCollege Pastor Matthew Marohl will deliver the sermon presided by Interim Associate College Pastor Paul Graham ’96. James E. Bobb\, Associate Professor in Music and the Cantor for the Student Congregation\, will assist. The Viking Chorus will be conducted by Joseph Kemper ’11\, Assistant Professor of Music. The Viking Chorus of St. Olaf College is a choir of first-year tenors and basses who carry on a legacy of a chorus singing since its founding in 1935. Featuring a broad repertoire with an emphasis on sacred music\, the low voices of Viking sing motets\, cantata movements\, and anthems\, as well as contemporary choral pieces\, spirituals\, folksongs\, and more. \nSunday Worship is a time of inspiration and worship for body\, mind\, and spirit; a meaningful beginning to a new week. All are welcome! \nClick the web link below to access streamed and archived services.
URL:https://wp.stolaf.edu/calendar/event/sunday-morning-worship-4th-sunday-in-lent/
CATEGORIES:Chapel
LOCATION:Boe Memorial Chapel
GEO:44.4582983;-93.161604
END:VEVENT
BEGIN:VEVENT
DTSTART;TZID=America/Chicago:20260316T101000
DTEND;TZID=America/Chicago:20260316T103000
DTSTAMP:20260420T203659
CREATED:20260227T222253Z
LAST-MODIFIED:20260227T222253Z
UID:10037444-1773655800-1773657000@wp.stolaf.edu
SUMMARY:Daily Chapel: Lenten Series: Walking the Way
DESCRIPTION:The Lenten Chapel Series will include readings and reflections from “Walking the Way”\, a book by John Dear. \nDaily Chapel is a time of inspiration for body\, mind\, and spirit; a quiet harbor in a busy day; worship. Students\, faculty\, and staff witness to their faith and invite the community to join them. All are welcome! \nIf you are unable to join us in person but would like to watch live or archived chapel services\, please click the web link below.
URL:https://wp.stolaf.edu/calendar/event/daily-chapel-lenten-series-walking-the-way-2/
CATEGORIES:Chapel
LOCATION:Boe Memorial Chapel
GEO:44.4582983;-93.161604
END:VEVENT
BEGIN:VEVENT
DTSTART;TZID=America/Chicago:20260317T111000
DTEND;TZID=America/Chicago:20260317T113000
DTSTAMP:20260420T203659
CREATED:20260227T222336Z
LAST-MODIFIED:20260227T222336Z
UID:10037450-1773745800-1773747000@wp.stolaf.edu
SUMMARY:Daily Chapel: Annika Rychner
DESCRIPTION:The chapel speaker today will be Annika Rychner\, Interim Executive Director of the Community Action Center\, Northfield. \nDaily Chapel is a time of inspiration for body\, mind\, and spirit; a quiet harbor in a busy day; worship. Students\, faculty\, and staff witness to their faith and invite the community to join them. All are welcome! \nIf you are unable to join us in person but would like to watch live or archived chapel services\, please click the web link below.
URL:https://wp.stolaf.edu/calendar/event/daily-chapel-annika-rychner/
CATEGORIES:Chapel
LOCATION:Boe Memorial Chapel
GEO:44.4582983;-93.161604
END:VEVENT
BEGIN:VEVENT
DTSTART;TZID=America/Chicago:20260318T101000
DTEND;TZID=America/Chicago:20260318T103000
DTSTAMP:20260420T203659
CREATED:20260227T222453Z
LAST-MODIFIED:20260227T222453Z
UID:10037447-1773828600-1773829800@wp.stolaf.edu
SUMMARY:Daily Chapel: Service of Holy Communion
DESCRIPTION:Daily Chapel is a time of inspiration for body\, mind\, and spirit; a quiet harbor in a busy day; worship. Students\, faculty\, and staff witness to their faith and invite the community to join them. All are welcome! \nIf you are unable to join us in person but would like to watch live or archived chapel services\, please click the web link below.
URL:https://wp.stolaf.edu/calendar/event/daily-chapel-service-of-holy-communion-27/
CATEGORIES:Chapel
LOCATION:Boe Memorial Chapel
GEO:44.4582983;-93.161604
END:VEVENT
BEGIN:VEVENT
DTSTART;TZID=America/Chicago:20260319T110000
DTEND;TZID=America/Chicago:20260319T112000
DTSTAMP:20260420T203659
CREATED:20260227T222418Z
LAST-MODIFIED:20260227T222418Z
UID:10037451-1773918000-1773919200@wp.stolaf.edu
SUMMARY:Daily Chapel
DESCRIPTION:Daily Chapel is a time of inspiration for body\, mind\, and spirit; a quiet harbor in a busy day; worship. Students\, faculty\, and staff witness to their faith and invite the community to join them. All are welcome! \n\n\nIf you are unable to join us in person but would like to watch live or archived chapel services\, please click the web link below.
URL:https://wp.stolaf.edu/calendar/event/daily-chapel-11/
CATEGORIES:Chapel
LOCATION:Boe Memorial Chapel
GEO:44.4582983;-93.161604
END:VEVENT
BEGIN:VEVENT
DTSTART;TZID=America/Chicago:20260320T101000
DTEND;TZID=America/Chicago:20260320T103000
DTSTAMP:20260420T203659
CREATED:20260227T222540Z
LAST-MODIFIED:20260227T222540Z
UID:10037441-1774001400-1774002600@wp.stolaf.edu
SUMMARY:Daily Chapel: Service of Morning Prayer
DESCRIPTION:Daily Chapel is a time of inspiration for body\, mind\, and spirit; a quiet harbor in a busy day; worship. Students\, faculty\, and staff witness to their faith and invite the community to join them. All are welcome! \nClick the web link below to access streamed and archived services.
URL:https://wp.stolaf.edu/calendar/event/daily-chapel-service-of-morning-prayer-26/
CATEGORIES:Chapel
LOCATION:Boe Memorial Chapel
GEO:44.4582983;-93.161604
END:VEVENT
BEGIN:VEVENT
DTSTART;TZID=America/Chicago:20260322T103000
DTEND;TZID=America/Chicago:20260322T113000
DTSTAMP:20260420T203700
CREATED:20260206T154538Z
LAST-MODIFIED:20260206T154538Z
UID:10037148-1774175400-1774179000@wp.stolaf.edu
SUMMARY:Sunday Morning Worship: 5th Sunday in Lent
DESCRIPTION:5th Sunday in Lent; Sunday Worship with Holy Communion. \nInterim Associate College Pastor Paul Graham ’96 will deliver the sermon presided by College Pastor Matthew Marohl. James E. Bobb\, Associate Professor in Music and the Cantor for the Student Congregation\, will assist. St. Olaf Chamber Singers will be conducted by Therees Hibbard\, Associate Professor of Practice in Music. Chapel Ringers will be conducted by Jill Mahr\, Adjunct Insructor in Music. \nSunday Worship is a time of inspiration and worship for body\, mind\, and spirit; a meaningful beginning to a new week. All are welcome! \nClick the web link below to access streamed and archived services.
URL:https://wp.stolaf.edu/calendar/event/sunday-morning-worship-5th-sunday-in-lent/
CATEGORIES:Chapel
LOCATION:Boe Memorial Chapel
GEO:44.4582983;-93.161604
END:VEVENT
BEGIN:VEVENT
DTSTART;TZID=America/Chicago:20260323T101000
DTEND;TZID=America/Chicago:20260323T103000
DTSTAMP:20260420T203700
CREATED:20260227T222804Z
LAST-MODIFIED:20260227T222804Z
UID:10037445-1774260600-1774261800@wp.stolaf.edu
SUMMARY:Daily Chapel: Lenten Series: Walking the Way
DESCRIPTION:The Lenten Chapel Series will include readings and reflections from “Walking the Way”\, a book by John Dear. \nDaily Chapel is a time of inspiration for body\, mind\, and spirit; a quiet harbor in a busy day; worship. Students\, faculty\, and staff witness to their faith and invite the community to join them. All are welcome! \nIf you are unable to join us in person but would like to watch live or archived chapel services\, please click the web link below.
URL:https://wp.stolaf.edu/calendar/event/daily-chapel-lenten-series-walking-the-way-3/
CATEGORIES:Chapel
LOCATION:Boe Memorial Chapel
GEO:44.4582983;-93.161604
END:VEVENT
BEGIN:VEVENT
DTSTART;TZID=America/Chicago:20260324T111000
DTEND;TZID=America/Chicago:20260324T113000
DTSTAMP:20260420T203700
CREATED:20260129T195902Z
LAST-MODIFIED:20260211T213852Z
UID:10037066-1774350600-1774351800@wp.stolaf.edu
SUMMARY:Daily Chapel: VOCARE: Spiritual Practice
DESCRIPTION:Today’s chapel will be led by the Nourishing Vocation Project Fellows. \nDaily Chapel is a time of inspiration for body\, mind\, and spirit; a quiet harbor in a busy day; worship. Students\, faculty\, and staff witness to their faith and invite the community to join them. All are welcome! \nIf you are unable to join us in person but would like to watch live or archived chapel services\, please click the web link below.
URL:https://wp.stolaf.edu/calendar/event/daily-chapel-vocare-spiritual-practice/
CATEGORIES:Chapel
LOCATION:Boe Memorial Chapel
GEO:44.4582983;-93.161604
END:VEVENT
BEGIN:VEVENT
DTSTART;TZID=America/Chicago:20260325T101000
DTEND;TZID=America/Chicago:20260325T103000
DTSTAMP:20260420T203700
CREATED:20260227T222840Z
LAST-MODIFIED:20260227T222840Z
UID:10037448-1774433400-1774434600@wp.stolaf.edu
SUMMARY:Daily Chapel: Service of Holy Communion
DESCRIPTION:Daily Chapel is a time of inspiration for body\, mind\, and spirit; a quiet harbor in a busy day; worship. Students\, faculty\, and staff witness to their faith and invite the community to join them. All are welcome! \nIf you are unable to join us in person but would like to watch live or archived chapel services\, please click the web link below.
URL:https://wp.stolaf.edu/calendar/event/daily-chapel-service-of-holy-communion-28/
CATEGORIES:Chapel
LOCATION:Boe Memorial Chapel
GEO:44.4582983;-93.161604
END:VEVENT
BEGIN:VEVENT
DTSTART;TZID=America/Chicago:20260326T110000
DTEND;TZID=America/Chicago:20260326T112000
DTSTAMP:20260420T203700
CREATED:20260227T222911Z
LAST-MODIFIED:20260227T222911Z
UID:10037452-1774522800-1774524000@wp.stolaf.edu
SUMMARY:Daily Chapel: Paavo Rundman '26
DESCRIPTION:The chapel speaker today will be Paavo Rundman\, a senior student. \nDaily Chapel is a time of inspiration for body\, mind\, and spirit; a quiet harbor in a busy day; worship. Students\, faculty\, and staff witness to their faith and invite the community to join them. All are welcome! \nIf you are unable to join us in person but would like to watch live or archived chapel services\, please click the web link below.
URL:https://wp.stolaf.edu/calendar/event/daily-chapel-paavo-rundman-26/
CATEGORIES:Chapel
LOCATION:Boe Memorial Chapel
GEO:44.4582983;-93.161604
END:VEVENT
BEGIN:VEVENT
DTSTART;TZID=America/Chicago:20260327T101000
DTEND;TZID=America/Chicago:20260327T103000
DTSTAMP:20260420T203700
CREATED:20260227T221012Z
LAST-MODIFIED:20260227T221012Z
UID:10037442-1774606200-1774607400@wp.stolaf.edu
SUMMARY:Daily Chapel: Service of Morning Prayer
DESCRIPTION:Daily Chapel is a time of inspiration for body\, mind\, and spirit; a quiet harbor in a busy day; worship. Students\, faculty\, and staff witness to their faith and invite the community to join them. All are welcome! \nClick the web link below to access streamed and archived services.
URL:https://wp.stolaf.edu/calendar/event/daily-chapel-service-of-morning-prayer-23/
CATEGORIES:Chapel
LOCATION:Boe Memorial Chapel
GEO:44.4582983;-93.161604
END:VEVENT
END:VCALENDAR