BEGIN:VCALENDAR
VERSION:2.0
PRODID:-//Calendar - ECPv6.15.20//NONSGML v1.0//EN
CALSCALE:GREGORIAN
METHOD:PUBLISH
X-WR-CALNAME:Calendar
X-ORIGINAL-URL:https://wp.stolaf.edu/calendar
X-WR-CALDESC:Events for Calendar
REFRESH-INTERVAL;VALUE=DURATION:PT1H
X-Robots-Tag:noindex
X-PUBLISHED-TTL:PT1H
BEGIN:VTIMEZONE
TZID:America/Chicago
BEGIN:DAYLIGHT
TZOFFSETFROM:-0600
TZOFFSETTO:-0500
TZNAME:CDT
DTSTART:20250309T080000
END:DAYLIGHT
BEGIN:STANDARD
TZOFFSETFROM:-0500
TZOFFSETTO:-0600
TZNAME:CST
DTSTART:20251102T070000
END:STANDARD
BEGIN:DAYLIGHT
TZOFFSETFROM:-0600
TZOFFSETTO:-0500
TZNAME:CDT
DTSTART:20260308T080000
END:DAYLIGHT
BEGIN:STANDARD
TZOFFSETFROM:-0500
TZOFFSETTO:-0600
TZNAME:CST
DTSTART:20261101T070000
END:STANDARD
BEGIN:DAYLIGHT
TZOFFSETFROM:-0600
TZOFFSETTO:-0500
TZNAME:CDT
DTSTART:20270314T080000
END:DAYLIGHT
BEGIN:STANDARD
TZOFFSETFROM:-0500
TZOFFSETTO:-0600
TZNAME:CST
DTSTART:20271107T070000
END:STANDARD
END:VTIMEZONE
BEGIN:VEVENT
DTSTART;TZID=America/Chicago:20260111T103000
DTEND;TZID=America/Chicago:20260111T113000
DTSTAMP:20260421T012227
CREATED:20251210T220635Z
LAST-MODIFIED:20260102T195113Z
UID:10036671-1768127400-1768131000@wp.stolaf.edu
SUMMARY:Sunday Morning Worship: Baptism of Our Lord
DESCRIPTION:Baptism of Our Lord; Sunday Worship with Holy Communion. \nCollege Pastor Matthew Marohl will deliver the sermon\, assisted by James Bobb\, Cantor to the Student Congregation. The St. Olaf Choir will be conducted by Anton Armstrong ’78\, Tosdal Professor of Music. The St. Olaf Choir\, with 75 mixed voices\, is the premier a cappella choir in the United States. For over a century\, the choir has set a standard of choral excellence and remained at the forefront of choral artistry. Conducted since 1990 by Anton Armstrong\, the St. Olaf Choir continues to develop the tradition that originated with its founder\, F. Melius Christiansen. \nSunday Worship is a time of inspiration and worship for body\, mind\, and spirit; a meaningful beginning to a new week. All are welcome! \nClick the web link below to access streamed and archived services.
URL:https://wp.stolaf.edu/calendar/event/sunday-morning-worship-baptism-of-our-lord/
CATEGORIES:Chapel
LOCATION:Boe Memorial Chapel
GEO:44.4582983;-93.161604
END:VEVENT
END:VCALENDAR