BEGIN:VCALENDAR
VERSION:2.0
PRODID:-//Calendar - ECPv6.15.20//NONSGML v1.0//EN
CALSCALE:GREGORIAN
METHOD:PUBLISH
X-ORIGINAL-URL:https://wp.stolaf.edu/calendar
X-WR-CALDESC:Events for Calendar
REFRESH-INTERVAL;VALUE=DURATION:PT1H
X-Robots-Tag:noindex
X-PUBLISHED-TTL:PT1H
BEGIN:VTIMEZONE
TZID:America/Chicago
BEGIN:DAYLIGHT
TZOFFSETFROM:-0600
TZOFFSETTO:-0500
TZNAME:CDT
DTSTART:20250309T080000
END:DAYLIGHT
BEGIN:STANDARD
TZOFFSETFROM:-0500
TZOFFSETTO:-0600
TZNAME:CST
DTSTART:20251102T070000
END:STANDARD
BEGIN:DAYLIGHT
TZOFFSETFROM:-0600
TZOFFSETTO:-0500
TZNAME:CDT
DTSTART:20260308T080000
END:DAYLIGHT
BEGIN:STANDARD
TZOFFSETFROM:-0500
TZOFFSETTO:-0600
TZNAME:CST
DTSTART:20261101T070000
END:STANDARD
BEGIN:DAYLIGHT
TZOFFSETFROM:-0600
TZOFFSETTO:-0500
TZNAME:CDT
DTSTART:20270314T080000
END:DAYLIGHT
BEGIN:STANDARD
TZOFFSETFROM:-0500
TZOFFSETTO:-0600
TZNAME:CST
DTSTART:20271107T070000
END:STANDARD
END:VTIMEZONE
BEGIN:VEVENT
DTSTART;TZID=America/Chicago:20260517T103000
DTEND;TZID=America/Chicago:20260517T113000
DTSTAMP:20260421T012337
CREATED:20260206T153903Z
LAST-MODIFIED:20260206T153903Z
UID:10037142-1779013800-1779017400@wp.stolaf.edu
SUMMARY:Sunday Morning Worship: 7th Sunday of Easter
DESCRIPTION:The 7th Sunday of Easter; Sunday Worship with Holy Communion. \nSunday Worship is a time of inspiration and worship for body\, mind\, and spirit; a meaningful beginning to a new week. All are welcome! \nClick the web link below to access streamed and archived services.
URL:https://wp.stolaf.edu/calendar/event/sunday-morning-worship-7th-sunday-of-easter/
CATEGORIES:Chapel
LOCATION:Boe Memorial Chapel
GEO:44.4582983;-93.161604
END:VEVENT
END:VCALENDAR