BEGIN:VCALENDAR
VERSION:2.0
PRODID:-//Calendar - ECPv6.15.20//NONSGML v1.0//EN
CALSCALE:GREGORIAN
METHOD:PUBLISH
X-WR-CALNAME:Calendar
X-ORIGINAL-URL:https://wp.stolaf.edu/calendar
X-WR-CALDESC:Events for Calendar
REFRESH-INTERVAL;VALUE=DURATION:PT1H
X-Robots-Tag:noindex
X-PUBLISHED-TTL:PT1H
BEGIN:VTIMEZONE
TZID:America/Chicago
BEGIN:DAYLIGHT
TZOFFSETFROM:-0600
TZOFFSETTO:-0500
TZNAME:CDT
DTSTART:20250309T080000
END:DAYLIGHT
BEGIN:STANDARD
TZOFFSETFROM:-0500
TZOFFSETTO:-0600
TZNAME:CST
DTSTART:20251102T070000
END:STANDARD
BEGIN:DAYLIGHT
TZOFFSETFROM:-0600
TZOFFSETTO:-0500
TZNAME:CDT
DTSTART:20260308T080000
END:DAYLIGHT
BEGIN:STANDARD
TZOFFSETFROM:-0500
TZOFFSETTO:-0600
TZNAME:CST
DTSTART:20261101T070000
END:STANDARD
BEGIN:DAYLIGHT
TZOFFSETFROM:-0600
TZOFFSETTO:-0500
TZNAME:CDT
DTSTART:20270314T080000
END:DAYLIGHT
BEGIN:STANDARD
TZOFFSETFROM:-0500
TZOFFSETTO:-0600
TZNAME:CST
DTSTART:20271107T070000
END:STANDARD
BEGIN:DAYLIGHT
TZOFFSETFROM:-0600
TZOFFSETTO:-0500
TZNAME:CDT
DTSTART:20280312T080000
END:DAYLIGHT
BEGIN:STANDARD
TZOFFSETFROM:-0500
TZOFFSETTO:-0600
TZNAME:CST
DTSTART:20281105T070000
END:STANDARD
END:VTIMEZONE
BEGIN:VEVENT
DTSTART;TZID=America/Chicago:20260514T113000
DTEND;TZID=America/Chicago:20260514T123000
DTSTAMP:20260420T053653
CREATED:20250617T141126Z
LAST-MODIFIED:20250617T141126Z
UID:10034023-1778758200-1778761800@wp.stolaf.edu
SUMMARY:Post-Board Town Hall
DESCRIPTION:St. Olaf faculty and staff are welcome to join the Post-Board Town Hall\, an opportunity to review developments discussed at the most recent Board Meeting. The Post-Board Town Hall will be held in Tomson Hall 280 on May 14 from 11:30 a.m.–12:30 p.m.
URL:https://wp.stolaf.edu/calendar/event/post-board-town-hall-6/
CATEGORIES:Meetings/Workshops
END:VEVENT
BEGIN:VEVENT
DTSTART;TZID=America/Chicago:20260521T083000
DTEND;TZID=America/Chicago:20260521T093000
DTSTAMP:20260420T053653
CREATED:20260414T161435Z
LAST-MODIFIED:20260414T161435Z
UID:10037705-1779352200-1779355800@wp.stolaf.edu
SUMMARY:Women in the Workforce Gathering
DESCRIPTION:We are thrilled to invite you to the second meeting of Women in the Workforce\, a new Community and Belonging Employee Resource Group. \nLed by Director of College Events Amanda Robbins-Butcher ’05\, this group is designed to be a supportive space where we can share experiences\, navigate career challenges\, and celebrate our collective successes. Whether you are looking for mentorship\, networking\, or simply a place to connect with your peers\, we want you here.
URL:https://wp.stolaf.edu/calendar/event/women-in-the-workforce-gathering-2/
CATEGORIES:Meetings/Workshops,Special Events/Celebrations
LOCATION:Buntrock Commons 101 Norway Room
GEO:44.4582983;-93.161604
END:VEVENT
BEGIN:VEVENT
DTSTART;TZID=America/Chicago:20260622T080000
DTEND;TZID=America/Chicago:20260626T170000
DTSTAMP:20260420T053653
CREATED:20260303T214011Z
LAST-MODIFIED:20260303T214011Z
UID:10037431-1782115200-1782493200@wp.stolaf.edu
SUMMARY:Minnesota Private College Week (MPCW)
DESCRIPTION:Prospective students and their families will attend sessions throughout the morning and afternoon.
URL:https://wp.stolaf.edu/calendar/event/minnesota-private-college-week-mpcw/
CATEGORIES:Meetings/Workshops
ORGANIZER;CN="Office of Admissions":MAILTO:admissions@stolaf.edu
LOCATION:Ballrooms in Buntrock Commons
END:VEVENT
BEGIN:VEVENT
DTSTART;TZID=America/Chicago:20261022T113000
DTEND;TZID=America/Chicago:20261022T123000
DTSTAMP:20260420T053653
CREATED:20260310T145759Z
LAST-MODIFIED:20260310T145759Z
UID:10037176-1792668600-1792672200@wp.stolaf.edu
SUMMARY:Post-Board Town Hall
DESCRIPTION:St. Olaf faculty and staff are welcome to join the Post-Board Town Hall\, an opportunity to review developments discussed at the most recent Board Meeting. The Post-Board Town Hall will be held in Tomson Hall 280 on October 22 from 11:30 a.m.–12:30 p.m.
URL:https://wp.stolaf.edu/calendar/event/post-board-town-hall-4/
CATEGORIES:Meetings/Workshops
LOCATION:Tomson 280
END:VEVENT
BEGIN:VEVENT
DTSTART;TZID=America/Chicago:20270218T113000
DTEND;TZID=America/Chicago:20270218T123000
DTSTAMP:20260420T053653
CREATED:20260310T145826Z
LAST-MODIFIED:20260310T145826Z
UID:10037177-1802950200-1802953800@wp.stolaf.edu
SUMMARY:Post-Board Town Hall
DESCRIPTION:St. Olaf faculty and staff are welcome to join the Post-Board Town Hall\, an opportunity to review developments discussed at the most recent Board Meeting. The Post-Board Town Hall will be held in Tomson Hall 280 on February 18 from 11:30 a.m.–12:30 p.m.
URL:https://wp.stolaf.edu/calendar/event/post-board-town-hall-7/
CATEGORIES:Meetings/Workshops
LOCATION:Tomson 280
END:VEVENT
BEGIN:VEVENT
DTSTART;TZID=America/Chicago:20270415T080000
DTEND;TZID=America/Chicago:20270416T140000
DTSTAMP:20260420T053653
CREATED:20260303T214500Z
LAST-MODIFIED:20260303T214500Z
UID:10037027-1807776000-1807884000@wp.stolaf.edu
SUMMARY:Alumni and Family Board Meeting
DESCRIPTION:The St. Olaf Alumni and Family Board will be on campus for their spring meeting April 15 and 16.
URL:https://wp.stolaf.edu/calendar/event/alumni-and-family-board-meeting-5/2027-04-15/
CATEGORIES:Meetings/Workshops
ORGANIZER;CN="Alumni and Parent Relations":MAILTO:alum-office@stolaf.edu
LOCATION:St. Olaf College
END:VEVENT
BEGIN:VEVENT
DTSTART;TZID=America/Chicago:20270513T113000
DTEND;TZID=America/Chicago:20270513T123000
DTSTAMP:20260420T053653
CREATED:20260303T214248Z
LAST-MODIFIED:20260303T214248Z
UID:10037178-1810207800-1810211400@wp.stolaf.edu
SUMMARY:Post-Board Town Hall
DESCRIPTION:St. Olaf faculty and staff are welcome to join the Post-Board Town Hall\, an opportunity to review developments discussed at the most recent Board Meeting. The Post-Board Town Hall will be held in Tomson Hall 280 on May 13 from 11:30 a.m.–12:30 p.m.
URL:https://wp.stolaf.edu/calendar/event/post-board-town-hall-3/
CATEGORIES:Meetings/Workshops
LOCATION:Tomson 280
END:VEVENT
END:VCALENDAR