BEGIN:VCALENDAR
VERSION:2.0
PRODID:-//Calendar - ECPv6.15.20//NONSGML v1.0//EN
CALSCALE:GREGORIAN
METHOD:PUBLISH
X-WR-CALNAME:Calendar
X-ORIGINAL-URL:https://wp.stolaf.edu/calendar
X-WR-CALDESC:Events for Calendar
REFRESH-INTERVAL;VALUE=DURATION:PT1H
X-Robots-Tag:noindex
X-PUBLISHED-TTL:PT1H
BEGIN:VTIMEZONE
TZID:America/Chicago
BEGIN:DAYLIGHT
TZOFFSETFROM:-0600
TZOFFSETTO:-0500
TZNAME:CDT
DTSTART:20250309T080000
END:DAYLIGHT
BEGIN:STANDARD
TZOFFSETFROM:-0500
TZOFFSETTO:-0600
TZNAME:CST
DTSTART:20251102T070000
END:STANDARD
BEGIN:DAYLIGHT
TZOFFSETFROM:-0600
TZOFFSETTO:-0500
TZNAME:CDT
DTSTART:20260308T080000
END:DAYLIGHT
BEGIN:STANDARD
TZOFFSETFROM:-0500
TZOFFSETTO:-0600
TZNAME:CST
DTSTART:20261101T070000
END:STANDARD
BEGIN:DAYLIGHT
TZOFFSETFROM:-0600
TZOFFSETTO:-0500
TZNAME:CDT
DTSTART:20270314T080000
END:DAYLIGHT
BEGIN:STANDARD
TZOFFSETFROM:-0500
TZOFFSETTO:-0600
TZNAME:CST
DTSTART:20271107T070000
END:STANDARD
END:VTIMEZONE
BEGIN:VEVENT
DTSTART;TZID=America/Chicago:20260415T070000
DTEND;TZID=America/Chicago:20260415T083000
DTSTAMP:20260421T024817
CREATED:20251216T145124Z
LAST-MODIFIED:20251216T145124Z
UID:10036709-1776236400-1776241800@wp.stolaf.edu
SUMMARY:Healthy Community Initiative Breakfast
DESCRIPTION:Northfield’s Healthy Community Initiative (HCI) Breakfast will occur at St. Olaf on April 15\, 2026.
URL:https://wp.stolaf.edu/calendar/event/healthy-community-initiative-breakfast/
CATEGORIES:Special Events/Celebrations
LOCATION:Buntrock Commons\, 1521 St Olaf Ave\, Northfield\, MN\, United States
GEO:44.468533;-93.162848
X-APPLE-STRUCTURED-LOCATION;VALUE=URI;X-ADDRESS=Buntrock Commons 1521 St Olaf Ave Northfield MN United States;X-APPLE-RADIUS=500;X-TITLE=1521 St Olaf Ave:geo:-93.162848,44.468533
END:VEVENT
BEGIN:VEVENT
DTSTART;TZID=America/Chicago:20260415T160000
DTEND;TZID=America/Chicago:20260415T170000
DTSTAMP:20260421T024817
CREATED:20260323T202306Z
LAST-MODIFIED:20260323T202328Z
UID:10037611-1776268800-1776272400@wp.stolaf.edu
SUMMARY:Student Employment Awards Ceremony
DESCRIPTION:Supervisors on campus have nominated 26 student workers from 13 different departments for Student Employee of the Year across six categories: Leadership\, Community Service\, Social Impact & Belonging\, Critical Thinking\, Technology & Innovation\, and Overall Student Employee of the Year.  \nAward winners for this year’s Student Employee of the Year will be announced at the Student Employment Awards Ceremony on April 15\, 4 – 5 p.m. in the Buntrock Ballrooms. Our awards ceremony will be a part of the larger campus celebration to recognize the contributions student employees make to campus life during National Student Employment Week (April 13-17).
URL:https://wp.stolaf.edu/calendar/event/student-employment-awards-ceremony/
CATEGORIES:Special Events/Celebrations
ORGANIZER;CN="Student Employment Office":MAILTO:studentwork@stolaf.edu
LOCATION:Ballrooms in Buntrock Commons
END:VEVENT
END:VCALENDAR