BEGIN:VCALENDAR
VERSION:2.0
PRODID:-//Calendar - ECPv6.15.20//NONSGML v1.0//EN
CALSCALE:GREGORIAN
METHOD:PUBLISH
X-ORIGINAL-URL:https://wp.stolaf.edu/calendar
X-WR-CALDESC:Events for Calendar
REFRESH-INTERVAL;VALUE=DURATION:PT1H
X-Robots-Tag:noindex
X-PUBLISHED-TTL:PT1H
BEGIN:VTIMEZONE
TZID:America/Chicago
BEGIN:DAYLIGHT
TZOFFSETFROM:-0600
TZOFFSETTO:-0500
TZNAME:CDT
DTSTART:20240310T080000
END:DAYLIGHT
BEGIN:STANDARD
TZOFFSETFROM:-0500
TZOFFSETTO:-0600
TZNAME:CST
DTSTART:20241103T070000
END:STANDARD
BEGIN:DAYLIGHT
TZOFFSETFROM:-0600
TZOFFSETTO:-0500
TZNAME:CDT
DTSTART:20250309T080000
END:DAYLIGHT
BEGIN:STANDARD
TZOFFSETFROM:-0500
TZOFFSETTO:-0600
TZNAME:CST
DTSTART:20251102T070000
END:STANDARD
BEGIN:DAYLIGHT
TZOFFSETFROM:-0600
TZOFFSETTO:-0500
TZNAME:CDT
DTSTART:20260308T080000
END:DAYLIGHT
BEGIN:STANDARD
TZOFFSETFROM:-0500
TZOFFSETTO:-0600
TZNAME:CST
DTSTART:20261101T070000
END:STANDARD
END:VTIMEZONE
BEGIN:VEVENT
DTSTART;TZID=America/Chicago:20250524T090000
DTEND;TZID=America/Chicago:20250524T100000
DTSTAMP:20260421T130135
CREATED:20250522T143555Z
LAST-MODIFIED:20250522T143555Z
UID:10033828-1748077200-1748080800@wp.stolaf.edu
SUMMARY:Baccalaurete
DESCRIPTION:Graduating seniors and their families and friends are invited to gather to worship and give thanks for the life and the community that was shared by the graduating class. This capstone worship service is led by the Campus pastors and also the St. Olaf Band and the St. Olaf Choir. The decision to hold Commencement on the Campus Green or inside Skoglund is announced at Baccalaureate. This event is free and open to the public.  Link to livestream.
URL:https://wp.stolaf.edu/calendar/event/baccalaurete/
CATEGORIES:Chapel,Special Events/Celebrations
LOCATION:Skoglund
END:VEVENT
BEGIN:VEVENT
DTSTART;TZID=America/Chicago:20250521T150000
DTEND;TZID=America/Chicago:20250521T170000
DTSTAMP:20260421T130135
CREATED:20250408T140032Z
LAST-MODIFIED:20250507T143212Z
UID:10033513-1747839600-1747846800@wp.stolaf.edu
SUMMARY:Jo Beld Retirement Party
DESCRIPTION:There will be a retirement celebration at the St. Olaf House on Wednesday\, May 21\, 3-5 p.m. for Jo Beld to commemorate her accomplishments throughout her career at St. Olaf with staff\, faculty\, and colleagues.  Refreshments will be served.
URL:https://wp.stolaf.edu/calendar/event/jo-beld-retirement-party/
CATEGORIES:Special Events/Celebrations
ORGANIZER;CN="College Events":MAILTO:events@stolaf.edu
END:VEVENT
BEGIN:VEVENT
DTSTART;TZID=America/Chicago:20250520T150000
DTEND;TZID=America/Chicago:20250520T170000
DTSTAMP:20260421T130135
CREATED:20250415T205409Z
LAST-MODIFIED:20250415T205409Z
UID:10033645-1747753200-1747760400@wp.stolaf.edu
SUMMARY:Retirement Party for Deanna Thompson
DESCRIPTION:All are welcome to attend the retirement party of Deanna Thompson\, Director of the Lutheran Center for Faith\, Values and Community.
URL:https://wp.stolaf.edu/calendar/event/retirement-party-for-deanna-thompson/
CATEGORIES:Special Events/Celebrations
LOCATION:Kings Dining Room\, Buntrock Commons
END:VEVENT
BEGIN:VEVENT
DTSTART;TZID=America/Chicago:20250519T150000
DTEND;TZID=America/Chicago:20250519T170000
DTSTAMP:20260421T130135
CREATED:20250514T211447Z
LAST-MODIFIED:20250514T211447Z
UID:10033785-1747666800-1747674000@wp.stolaf.edu
SUMMARY:Retirement Celebration for Jodi Malmgren
DESCRIPTION:All are invited to a retirement celebrate for Jodi Malmgren\, Director of Smith Center for Global Engagement (former) and Interim Director for Government\, Foundations\, and Corporate Relations. \nMonday\, May 19th in the Kings Dining Room at 3-5 p.m with remarks at 3:30 p.m..
URL:https://wp.stolaf.edu/calendar/event/retirement-celebration-for-jodi-malmgren/
CATEGORIES:Special Events/Celebrations
END:VEVENT
BEGIN:VEVENT
DTSTART;TZID=America/Chicago:20250517T120000
DTEND;TZID=America/Chicago:20250517T160000
DTSTAMP:20260421T130135
CREATED:20250311T145802Z
LAST-MODIFIED:20250426T150129Z
UID:10033127-1747483200-1747497600@wp.stolaf.edu
SUMMARY:Gimse Art Endowment Pronoun Button Workshop
DESCRIPTION:An artist-led workshop where members of the St. Olaf community can create their own button displaying their pronouns to increase LGBTQIA2S+ visibility\, support\, and normalization. Stop by to create your custom pronoun button and support the LGBTQIA2S+ community on campus. This event is hosted on Saturday\, May 17 in observance of International Day Against Homophobia\, Transphobia\, and Biphobia. \nCo-presented by artist and Gimse Art Endowment recipient Krista Anderson-Larson\, The Taylor Center for Equity and Inclusion\, and the Wellness Center. This event in generously supported by the Gimse Striving for Peace on Horizon’s Brim Art Endowment.
URL:https://wp.stolaf.edu/calendar/event/gimse-art-endowment-pronoun-button-workshop/
CATEGORIES:Meetings/Workshops,Performing and Visual Arts,Special Events/Celebrations
LOCATION:Flaten Art Barn
GEO:44.4582983;-93.161604
END:VEVENT
BEGIN:VEVENT
DTSTART;TZID=America/Chicago:20250515T150000
DTEND;TZID=America/Chicago:20250515T170000
DTSTAMP:20260421T130135
CREATED:20250505T150340Z
LAST-MODIFIED:20250506T181446Z
UID:10033762-1747321200-1747328400@wp.stolaf.edu
SUMMARY:Well-Being End of the Year Social
DESCRIPTION:Staff and faculty are invited to stop by the Tomson 3rd Floor East Lantern on Thursday\, May 15 at 3–5PM. The Well-Being Committee will provide treats and refreshments and a space to connect socially.
URL:https://wp.stolaf.edu/calendar/event/well-being-end-of-the-year-social/
CATEGORIES:Special Events/Celebrations
ORGANIZER;CN="Well-Being Committee":MAILTO:well-beingcommittee@stolaf.edu
LOCATION:Tomson Hall 3rd Floor East Lantern
GEO:44.4582983;-93.161604
END:VEVENT
BEGIN:VEVENT
DTSTART;TZID=America/Chicago:20250514T150000
DTEND;TZID=America/Chicago:20250514T170000
DTSTAMP:20260421T130135
CREATED:20250310T203614Z
LAST-MODIFIED:20250502T134232Z
UID:10033351-1747234800-1747242000@wp.stolaf.edu
SUMMARY:Retirement Celebration
DESCRIPTION:The Retirement Celebration will take place on May 15th\, 2025\, 3-5 p.m in the King’s Dining Room. Faculty\, Staff\, Emeriti\, and Retirees are invited to celebrate! \nRefreshments will be served.
URL:https://wp.stolaf.edu/calendar/event/retirement-celebration-2/
CATEGORIES:Special Events/Celebrations
LOCATION:Buntrock Commons\, 1521 St Olaf Ave\, Northfield\, MN\, United States
GEO:44.468533;-93.162848
X-APPLE-STRUCTURED-LOCATION;VALUE=URI;X-ADDRESS=Buntrock Commons 1521 St Olaf Ave Northfield MN United States;X-APPLE-RADIUS=500;X-TITLE=1521 St Olaf Ave:geo:-93.162848,44.468533
END:VEVENT
BEGIN:VEVENT
DTSTART;TZID=America/Chicago:20250514T090000
DTEND;TZID=America/Chicago:20250514T130000
DTSTAMP:20260421T130135
CREATED:20250122T203122Z
LAST-MODIFIED:20250122T203122Z
UID:10032568-1747213200-1747227600@wp.stolaf.edu
SUMMARY:GradFest 2025
DESCRIPTION:GradFest 2025 will be held Wednesday\, May 14 from 9AM to 1PM in Buntrock Crossroads. \nGradFest brings together all of the people and departments who are and will be integral resources as you transition from your time as a St. Olaf student to a St. Olaf alumnus. Bring your questions\, your feedback\, and your appetite (there will be snacks!). Meet with College Events\, The Bookstore\, Piper Center\, Alumni and Parent Relations\, Student Financial Aid Services\, The Registrar’s Office\, Office of Student Activities\, and Information Technology (IT)\, to cover all your bases for Commencement and your transition to alumnus!
URL:https://wp.stolaf.edu/calendar/event/gradfest-2025/
CATEGORIES:Academic Year,Special Events/Celebrations
ORGANIZER;CN="College Events":MAILTO:events@stolaf.edu
LOCATION:BC Crossroads
END:VEVENT
BEGIN:VEVENT
DTSTART;TZID=America/Chicago:20250512T150000
DTEND;TZID=America/Chicago:20250512T170000
DTSTAMP:20260421T130135
CREATED:20250408T140009Z
LAST-MODIFIED:20250408T140009Z
UID:10033512-1747062000-1747069200@wp.stolaf.edu
SUMMARY:Celebration for Marci Sortor
DESCRIPTION:Marci Sortor will be transitioning out of her role as Provost and will return to the professoriate at the end of the 2024-2025 academic year. There will be celebration to recognize her accomplishments for staff\, faculty\, and colleagues at the St. Olaf House on Monday\, May 12th\, 3-5 p.m. Refreshments will be served.
URL:https://wp.stolaf.edu/calendar/event/celebration-for-marci-sortor/
CATEGORIES:Special Events/Celebrations
ORGANIZER;CN="College Events":MAILTO:events@stolaf.edu
END:VEVENT
BEGIN:VEVENT
DTSTART;TZID=America/Chicago:20250510T123000
DTEND;TZID=America/Chicago:20250510T153000
DTSTAMP:20260421T130135
CREATED:20250410T164446Z
LAST-MODIFIED:20250416T143127Z
UID:10033534-1746880200-1746891000@wp.stolaf.edu
SUMMARY:The King's Royal Guard Band and Drill Team of Norway
DESCRIPTION:All are welcome to attend a performance by His Majesty The King’s Royal Guard Band and Drill Team of Norway. They will be coming to St. Olaf’s Campus on Saturday\, May 10 to commemorate 200 years of Norwegian history\, culture and tradition in the United States. Experience a combination of music\, formation and precision-drill from a wind band\, a drum-and-bugle corms and a rifle drill platoon. \nSchedule of events: \n12:30 p.m.: Band and Drill Display\, Tostrud Fieldhouse  \n1:45 p.m.: Bugle and Woodwind Band Performance\, Skoglund Auditorium \n2:30 p.m.: Community Reception: Skoglund Auditorium \n 
URL:https://wp.stolaf.edu/calendar/event/the-kings-royal-guard-band-and-drill-team-of-norway/
CATEGORIES:150th,Special Events/Celebrations
ORGANIZER;CN="College Events":MAILTO:events@stolaf.edu
LOCATION:Skoglund & Tostrud
END:VEVENT
BEGIN:VEVENT
DTSTART;TZID=America/Chicago:20250509T183000
DTEND;TZID=America/Chicago:20250509T200000
DTSTAMP:20260421T130135
CREATED:20250429T210719Z
LAST-MODIFIED:20250429T210756Z
UID:10033697-1746815400-1746820800@wp.stolaf.edu
SUMMARY:Celebrate Asia Pasifika: Film Event (Moana 2)
DESCRIPTION:The St. Olaf community is welcome to attend a screening of Moana 2 (2024)\, an animated film directed by Dana Ledoux Miller\, Jason Hand\, and David Derrick Jr\, in celebration of AANHPI Heritage Month. This event is hosted by the Asian Conversations program. \nAfter her initial journey\, Moana—determined and courageous—answers a new call from her wayfinding ancestors. She sets out with her crew on a daring voyage into the distant and uncharted waters of Oceania\, venturing into forgotten seas and facing challenges unlike any she has encountered before. \nSponsored by Asian Studies Department\, Academic Civic Engagement\, Taylor Center for Equity and Inclusion\, and Northfield Public Library.
URL:https://wp.stolaf.edu/calendar/event/celebrate-asia-pasifika-film-event-moana-2/
CATEGORIES:Special Events/Celebrations
LOCATION:Buntrock Commons Viking Theater
GEO:44.4582983;-93.161604
END:VEVENT
BEGIN:VEVENT
DTSTART;TZID=America/Chicago:20250508T183000
DTEND;TZID=America/Chicago:20250508T200000
DTSTAMP:20260421T130135
CREATED:20250429T210630Z
LAST-MODIFIED:20250429T210748Z
UID:10033696-1746729000-1746734400@wp.stolaf.edu
SUMMARY:Celebrate Asia Pasifika: Film Event (Moana)
DESCRIPTION:The St. Olaf community is welcome to attend a screening of Moana (2016)\, an animated film directed by John Musker and Ron Clements\, in celebration of AANHPI Heritage Month. This event is hosted by the Asian Conversations program. \nThe film follows Moana\, a brave and determined teenager who sets sail on a bold journey to help her island and its people. Along the way\, she teams up with the demigod Maui\, and together they face formidable challenges on the open sea. As Moana navigates these adventures\, she not only uncovers the history of her ancestors but also discovers her own sense of identity and purpose. \nSponsored by Asian Studies Department\, Academic Civic Engagement\, Taylor Center for Equity and Inclusion\, and Northfield Public Library.
URL:https://wp.stolaf.edu/calendar/event/celebrate-asia-pasifika-film-event-moana/
CATEGORIES:Special Events/Celebrations
LOCATION:Buntrock Commons\, Viking Theater
END:VEVENT
BEGIN:VEVENT
DTSTART;TZID=America/Chicago:20250508T173000
DTEND;TZID=America/Chicago:20250508T190000
DTSTAMP:20260421T130135
CREATED:20250408T190357Z
LAST-MODIFIED:20250408T190357Z
UID:10033521-1746725400-1746730800@wp.stolaf.edu
SUMMARY:MSCS Senior Banquet
DESCRIPTION:MSCS Seniors are invited to attend the senior banquet. This event will be held in the Sun Ballroom on Thursday\, May 8th\, 5:30-7:30 p.m. Refreshments will be served.
URL:https://wp.stolaf.edu/calendar/event/mscs-senior-banquet/
CATEGORIES:Special Events/Celebrations
LOCATION:BC 225C (Sun ballrom)
END:VEVENT
BEGIN:VEVENT
DTSTART;TZID=America/Chicago:20250507T180000
DTEND;TZID=America/Chicago:20250507T190000
DTSTAMP:20260421T130135
CREATED:20250429T205733Z
LAST-MODIFIED:20250429T205733Z
UID:10033698-1746640800-1746644400@wp.stolaf.edu
SUMMARY:Celebrate Asia Pasifika: Speaker Event (Saymoukda D. Vongsay)
DESCRIPTION:All are welcome to attend “Taking Up Space: The Power of Storytelling in Leadership\,” a fireside chat with Saymoukda Duangphouxay Vongsay\, featuring student organization leaders from Asian American Student Union (AASU)\, Hmong Ole Student Association (HOSA)\, Pamilya Pinoy\, Vietnamese Culture Organization (VCO)\, and more. This event is in celebration of AANHPI Heritage Month hosted by the Asian Conversations program.  \nSaymoukda is a Lao-American playwright whose work has been presented by the Smithsonian Asian Pacific American Center (NY)\, Theater Mu (MN)\, Lower Depth Theater (LA)\, Asian Improv Arts (IL)\, and elsewhere. She’s currently a Mellon Foundation Playwright in Residence at Theater Mu\, a Jerome@Camargo Artist in Residence in Cassis\, France\, a Playwrights Center Core Writer\, a Lanesboro Arts Artist in Residence\, and a Forecast Public Art grantee. Recent honors include a Jerome Hill fellowship\, a Bush Foundation Leadership fellowship\, and being the first Minnesotan artist to be invited as an artist in residence at the Kennedy Center REACH. \nSponsored by Asian Studies Department\, Academic Civic Engagement\, Leraas Fund\, Taylor Center for Equity and Inclusion\, and Northfield Public Library.
URL:https://wp.stolaf.edu/calendar/event/celebrate-asia-pasifika-speaker-event-saymoukda-d-vongsay/
CATEGORIES:Speakers/Lectures,Special Events/Celebrations
LOCATION:Buntrock Commons Viking Theater
GEO:44.4582983;-93.161604
END:VEVENT
BEGIN:VEVENT
DTSTART;TZID=America/Chicago:20250506T193000
DTEND;TZID=America/Chicago:20250506T210000
DTSTAMP:20260421T130135
CREATED:20250429T205627Z
LAST-MODIFIED:20250429T205628Z
UID:10033699-1746559800-1746565200@wp.stolaf.edu
SUMMARY:Celebrate Asia Pasifika: Kay Ganda Ng Ating Musika!  An Evening of Filipino Music
DESCRIPTION:All are welcome to attend Kay Ganda Ng Ating Musika! An Evening of Filipino Music\, featuring Walter Tambor\, Isabella Dawis\, and Paolo Debuque\, along with students from Pamilya Pinoy in celebration of AANHIPI Heritage Month on May 6 at 7:30 p.m. in Boe Memorial Chapel hosted by the Asian Conversations program. \nWalter Tambor is a Minneapolis-based pianist\, choral director\, and music educator. He teaches at MacPhail Center for Music and is the Music Director of LeagueAires\, a 50-voice women’s choir dedicated to sharing the joy and healing power of music. From 2008 to 2023\, he was Accompanist and Associate Conductor of the Minneapolis Youth Chorus\, and from 2004 to 2022\, he directed Contemporary and World Music at the Basilica of Saint Mary. He has worked extensively in theater and currently sings with the Minnesota Chorale. Before moving to Minneapolis\, he taught and mentored foster children through the Chicago Children’s Choir Academy and DePaul University\, and served as Assistant Organist/Choir Director at Saint Clement Church. Walter holds degrees from the University of Notre Dame and DePaul University. \nIsabella Dawis is a Filipina-American singer\, actor\, and writer of musical theater\, plays\, and operas. She is a 2023–25 Jerome Hill Artist Fellow and has performed as a soprano with organizations such as Minnesota Opera\, the New York Philharmonic Biennial\, and Skylark Opera. Her acting credits include productions with the Guthrie Theater\, Theater Mu\, Ten Thousand Things\, and more. Isabella has received the Kleban Prize\, Fred Ebb Award\, Weston-Ghostlight New Musical Award\, and an American Opera Project fellowship. Her original work has been supported by the Atlanta Opera\, Theater Latté Da\, Berkeley Rep\, the Kurt Weill Foundation\, and other leading arts institutions. \nPaolo Debuque is a Filipino- and Chinese-American conductor based in Minneapolis\, known for innovative programming and community-centered art. He currently leads the St. Olaf Chapel Choir and Viking Chorus. Paolo is the Founding Artistic Director of A Thousand Tongues\, an arts organization uplifting Asian-American stories through music. His recent work includes a residency at Luther College and a collaboration with the Minnesota Chorale. He studied at Swarthmore College\, earned his MM in Choral Conducting from the University of Michigan\, and is pursuing a DMA at the University of Minnesota. His mentors include Jerry Blackstone\, Simon Carrington\, and Dale Warland. \nSponsored by Asian Studies Department\, Academic Civic Engagement\, Leraas Fund\, Taylor Center for Equity and Inclusion\, and Northfield Public Library.
URL:https://wp.stolaf.edu/calendar/event/celebrate-asia-pasifika-kay-ganda-ng-ating-musika-an-evening-of-filipino-music/
CATEGORIES:Performing and Visual Arts,Special Events/Celebrations
LOCATION:Boe Chapel
END:VEVENT
BEGIN:VEVENT
DTSTART;TZID=America/Chicago:20250506T183000
DTEND;TZID=America/Chicago:20250506T203000
DTSTAMP:20260421T130135
CREATED:20250311T145720Z
LAST-MODIFIED:20250311T145720Z
UID:10033182-1746556200-1746563400@wp.stolaf.edu
SUMMARY:Phi Beta Kappa Induction Ceremony
DESCRIPTION:Phi Beta Kappa Inductees will be celebrated at the St. Olaf House at 6:30-8:30 p.m.\, on May 6th\, 2025.
URL:https://wp.stolaf.edu/calendar/event/phi-beta-kappa-induction-ceremony-2/
CATEGORIES:Special Events/Celebrations
ORGANIZER;CN="College Events":MAILTO:events@stolaf.edu
LOCATION:1520 Saint Olaf Avenue\, Northfield\, Minnesota 55057\, United States
GEO:44.4615114;-93.1830588
END:VEVENT
BEGIN:VEVENT
DTSTART;TZID=America/Chicago:20250504T140000
DTEND;TZID=America/Chicago:20250504T160000
DTSTAMP:20260421T130135
CREATED:20250425T171010Z
LAST-MODIFIED:20250425T171010Z
UID:10033706-1746367200-1746374400@wp.stolaf.edu
SUMMARY:Celebrate Asia Pasifika: World of Anime Fair @ Northfield Public Library
DESCRIPTION:Once a little-known cultural form outside of Japan and long considered a niche subculture\, anime and manga have\, since the turn of the 21st century\, grown into a vibrant global phenomenon. Join the students of ASIAN 230: The Philosophy of Anime for a joyful celebration of this dynamic genre of art\, media\, and storytelling— World of Anime Fair— at the Northfield Public Library. Enjoy an afternoon filled with anime-inspired activities for all ages\, including workshops\, games\, cosplay\, and more. From longtime anime enthusiast to completely newcomer to the genre\, there’s something for everyone to discover. \nSponsored by Asian Studies Department\, Academic Civic Engagement\, Taylor Center for Equity and Inclusion\, and Northfield Public Library.
URL:https://wp.stolaf.edu/calendar/event/celebrate-asia-pasifika-world-of-anime-fair-northfield-public-library/
CATEGORIES:Special Events/Celebrations
LOCATION:Northfield\, Minn.
END:VEVENT
BEGIN:VEVENT
DTSTART;TZID=America/Chicago:20250503T110000
DTEND;TZID=America/Chicago:20250503T140000
DTSTAMP:20260421T130135
CREATED:20250425T170628Z
LAST-MODIFIED:20250425T170628Z
UID:10033701-1746270000-1746280800@wp.stolaf.edu
SUMMARY:Celebrate Asia Pasifika: AANHPI Heritage Month Celebration @ Northfield Public Library
DESCRIPTION:Please join our vibrant community members from St. Olaf College\, Northfield Public Library\, and special guests as we come together to celebrate the Asian American Native Hawaiian Pacific Islander (AANHPI) Heritage Month! \nOpening remarks by Mayor Erica Zweifel  of Northfield. Cultural performances and presentations by Circus Manduhai together with St. Olaf students including Asian American Student Union (AASU)\, Celebrate South Asia! (CSA!)\, D-VINE\, Hmong Ole Student Association (HOSA)\, Karen Student Organization (KSO)\, Krush\, Natya\, Pamilya Pinoy\, Taiko Drumming\, and Vietnamese Culture Organization (VCO)\, and many more\, along with food and boba tea from local restaurants… Delight in the arts\, histories\, music\, dance\, circus acts\, and cuisine that showcase the rich tapestry of Asian  and Asian American cultures in Northfield. \nSponsored by Asian Studies Department\, Academic Civic Engagement\, Taylor Center for Equity and Inclusion\, and Northfield Public Library.
URL:https://wp.stolaf.edu/calendar/event/celebrate-asia-pasifika-aanhpi-heritage-month-celebration-northfield-public-library/
CATEGORIES:Special Events/Celebrations
LOCATION:Northfield\, MN
END:VEVENT
BEGIN:VEVENT
DTSTART;TZID=America/Chicago:20250502T153000
DTEND;TZID=America/Chicago:20250502T170000
DTSTAMP:20260421T130135
CREATED:20250326T193135Z
LAST-MODIFIED:20250429T173843Z
UID:10033425-1746199800-1746205200@wp.stolaf.edu
SUMMARY:Davis UWC Scholars Gathering & Davis Cup Presentation
DESCRIPTION:Faculty\, Staff and Davis United World College Scholars are invited to a reception on May 2nd at 3:30 p.m. in the Ballrooms. There will be light refreshments and programming.
URL:https://wp.stolaf.edu/calendar/event/uwc-scholars-gathering-davis-cup-presentation/2025-05-02/2/
CATEGORIES:Special Events/Celebrations
ORGANIZER;CN="College Events":MAILTO:events@stolaf.edu
LOCATION:Ballrooms in Buntrock Commons
END:VEVENT
BEGIN:VEVENT
DTSTART;TZID=America/Chicago:20250502T101000
DTEND;TZID=America/Chicago:20250502T103000
DTSTAMP:20260421T130135
CREATED:20241220T180402Z
LAST-MODIFIED:20241220T180402Z
UID:10032393-1746180600-1746181800@wp.stolaf.edu
SUMMARY:Daily Chapel: Honors Day Convocation
DESCRIPTION:The purposes of Honors Day are to celebrate the academic accomplishments of students\, to express gratitude to faculty members\, and to say “thank you” to donors and friends of the college who provide scholarships. \nHonors Day is one of four occasions in the academic year when the St. Olaf faculty process in academic regalia.  It is a special event in the cycle of the academic year\, and we look forward to seeing you there!
URL:https://wp.stolaf.edu/calendar/event/daily-chapel-honors-day-convocation/
CATEGORIES:Chapel,Special Events/Celebrations
ORGANIZER;CN="College Event/Office of the Provost":MAILTO:hanscom@stolaf.edu
LOCATION:Boe Memorial Chapel
GEO:44.4582983;-93.161604
END:VEVENT
BEGIN:VEVENT
DTSTART;TZID=America/Chicago:20250502T080000
DTEND;TZID=America/Chicago:20250502T170000
DTSTAMP:20260421T130135
CREATED:20250326T193135Z
LAST-MODIFIED:20250429T173843Z
UID:10033734-1746172800-1746205200@wp.stolaf.edu
SUMMARY:Davis UWC Scholars Gathering & Davis Cup Presentation
DESCRIPTION:Faculty\, Staff and Davis United World College Scholars are invited to a reception on May 2nd at 3:30 p.m. in the Ballrooms. There will be light refreshments and programming.
URL:https://wp.stolaf.edu/calendar/event/uwc-scholars-gathering-davis-cup-presentation/2025-05-02/1/
CATEGORIES:Special Events/Celebrations
ORGANIZER;CN="College Events":MAILTO:events@stolaf.edu
LOCATION:Ballrooms in Buntrock Commons
END:VEVENT
BEGIN:VEVENT
DTSTART;TZID=America/Chicago:20250426T090000
DTEND;TZID=America/Chicago:20250426T130000
DTSTAMP:20260421T130135
CREATED:20240522T160133Z
LAST-MODIFIED:20250311T160731Z
UID:10028987-1745658000-1745672400@wp.stolaf.edu
SUMMARY:Ole Cup 2025
DESCRIPTION:Welcome to the 2025 Ole Cup! Launched in 2014\, the Ole Cup is an annual student entrepreneurial pitch competition open to all St. Olaf students. The Ole Cup helped launch successful businesses like JonnyPops\, Teranga Strings\, and the Ole Thrift Shop. The winner of the Ole Cup is awarded a $10\,000 prize to help launch their business.
URL:https://wp.stolaf.edu/calendar/event/ole-cup-2025/
CATEGORIES:Special Events/Celebrations
ORGANIZER;CN="Piper Center":MAILTO:piper.center@stolaf.edu
LOCATION:Buntrock Commons\, Viking Theater
END:VEVENT
BEGIN:VEVENT
DTSTART;TZID=America/Chicago:20250422T130000
DTEND;TZID=America/Chicago:20250422T200000
DTSTAMP:20260421T130135
CREATED:20250311T152719Z
LAST-MODIFIED:20250404T160501Z
UID:10033402-1745326800-1745352000@wp.stolaf.edu
SUMMARY:St. Olaf Days of Service | Feed My Starving Children
DESCRIPTION:As we commemorate the 150th anniversary of St. Olaf\, we’re inviting the St. Olaf community to mark the milestone in a quintessentially Ole way: by making the world a little better for those around us. \nParticipate in St. Olaf’s Day of Service by volunteering with Feed My Starving Children in the Pause on April 21 – 22. In two hour positions\, help pack nutritious meals for children in need around the world. It’s a fun and rewarding experience that makes a real difference. No special skills required\, just bring your enthusiasm and willingness to help. Let’s come together to make a positive impact! \nPlease follow this link to register. Please sign up for only 1 shift per person to allow as many volunteers as possible. If additional spots are available closer to the date\, we will let everyone know. \nThank you for volunteering!
URL:https://wp.stolaf.edu/calendar/event/st-olaf-day-of-service-feed-my-starving-children/2025-04-22/
CATEGORIES:Special Events/Celebrations
ORGANIZER;CN="College Events":MAILTO:events@stolaf.edu
LOCATION:Buntrock Commons Lion’s Pause
GEO:44.4582983;-93.161604
END:VEVENT
BEGIN:VEVENT
DTSTART;TZID=America/Chicago:20250421T130000
DTEND;TZID=America/Chicago:20250421T200000
DTSTAMP:20260421T130135
CREATED:20250311T152719Z
LAST-MODIFIED:20250404T160501Z
UID:10033132-1745240400-1745265600@wp.stolaf.edu
SUMMARY:St. Olaf Days of Service | Feed My Starving Children
DESCRIPTION:As we commemorate the 150th anniversary of St. Olaf\, we’re inviting the St. Olaf community to mark the milestone in a quintessentially Ole way: by making the world a little better for those around us. \nParticipate in St. Olaf’s Day of Service by volunteering with Feed My Starving Children in the Pause on April 21 – 22. In two hour positions\, help pack nutritious meals for children in need around the world. It’s a fun and rewarding experience that makes a real difference. No special skills required\, just bring your enthusiasm and willingness to help. Let’s come together to make a positive impact! \nPlease follow this link to register. Please sign up for only 1 shift per person to allow as many volunteers as possible. If additional spots are available closer to the date\, we will let everyone know. \nThank you for volunteering!
URL:https://wp.stolaf.edu/calendar/event/st-olaf-day-of-service-feed-my-starving-children/2025-04-21/
CATEGORIES:Special Events/Celebrations
ORGANIZER;CN="College Events":MAILTO:events@stolaf.edu
LOCATION:Buntrock Commons Lion’s Pause
GEO:44.4582983;-93.161604
END:VEVENT
BEGIN:VEVENT
DTSTART;VALUE=DATE:20250421
DTEND;VALUE=DATE:20250422
DTSTAMP:20260421T130135
CREATED:20250407T154541Z
LAST-MODIFIED:20250407T154541Z
UID:10033511-1745193600-1745279999@wp.stolaf.edu
SUMMARY:Easter Egg Hunt
DESCRIPTION:The St. Olaf community is welcome to participate in an Easter Egg Hunt in Rolvaag Memorial Library hosted by Library and IT Services (LITS). Find an egg and keep what’s inside!
URL:https://wp.stolaf.edu/calendar/event/easter-egg-hunt/
CATEGORIES:Special Events/Celebrations
LOCATION:Rolvaag Memorial Library
GEO:44.4582983;-93.161604
END:VEVENT
BEGIN:VEVENT
DTSTART;VALUE=DATE:20250401
DTEND;VALUE=DATE:20250501
DTSTAMP:20260421T130135
CREATED:20250313T144213Z
LAST-MODIFIED:20250313T144213Z
UID:10033366-1743465600-1746057599@wp.stolaf.edu
SUMMARY:April Walking Challenge
DESCRIPTION:The Well-Being Committee invites all staff and faculty to participate in the 2nd Annual April Walking Challenge and collectively reach the campus goal of 28M steps in the month of April. The Staff & Faculty Well-Being webpage has instructions on how to download the StepUp app and join the STO group or self report your steps weekly. Let’s get those sneakers ready!
URL:https://wp.stolaf.edu/calendar/event/april-walking-challenge/
CATEGORIES:Special Events/Celebrations
ORGANIZER;CN="Human Resources":MAILTO:hrstaff@stolaf.edu
END:VEVENT
END:VCALENDAR