BEGIN:VCALENDAR
VERSION:2.0
PRODID:-//Calendar - ECPv6.15.20//NONSGML v1.0//EN
CALSCALE:GREGORIAN
METHOD:PUBLISH
X-ORIGINAL-URL:https://wp.stolaf.edu/calendar
X-WR-CALDESC:Events for Calendar
REFRESH-INTERVAL;VALUE=DURATION:PT1H
X-Robots-Tag:noindex
X-PUBLISHED-TTL:PT1H
BEGIN:VTIMEZONE
TZID:America/Chicago
BEGIN:DAYLIGHT
TZOFFSETFROM:-0600
TZOFFSETTO:-0500
TZNAME:CDT
DTSTART:20240310T080000
END:DAYLIGHT
BEGIN:STANDARD
TZOFFSETFROM:-0500
TZOFFSETTO:-0600
TZNAME:CST
DTSTART:20241103T070000
END:STANDARD
BEGIN:DAYLIGHT
TZOFFSETFROM:-0600
TZOFFSETTO:-0500
TZNAME:CDT
DTSTART:20250309T080000
END:DAYLIGHT
BEGIN:STANDARD
TZOFFSETFROM:-0500
TZOFFSETTO:-0600
TZNAME:CST
DTSTART:20251102T070000
END:STANDARD
BEGIN:DAYLIGHT
TZOFFSETFROM:-0600
TZOFFSETTO:-0500
TZNAME:CDT
DTSTART:20260308T080000
END:DAYLIGHT
BEGIN:STANDARD
TZOFFSETFROM:-0500
TZOFFSETTO:-0600
TZNAME:CST
DTSTART:20261101T070000
END:STANDARD
END:VTIMEZONE
BEGIN:VEVENT
DTSTART;TZID=America/Chicago:20251024T183000
DTEND;TZID=America/Chicago:20251024T193000
DTSTAMP:20260422T095300
CREATED:20251014T172551Z
LAST-MODIFIED:20251014T191807Z
UID:10035745-1761330600-1761334200@wp.stolaf.edu
SUMMARY:BAC to Basics
DESCRIPTION:Join the Wellness Center for BAC to Basics to learn how blood alcohol levels work and what different ranges mean for your body and brain.
URL:https://wp.stolaf.edu/calendar/event/bac-to-basics/
CATEGORIES:SGA and Student Life
LOCATION:Holland Hall 502
END:VEVENT
BEGIN:VEVENT
DTSTART;TZID=America/Chicago:20251028T190000
DTEND;TZID=America/Chicago:20251028T200000
DTSTAMP:20260422T095300
CREATED:20251014T172642Z
LAST-MODIFIED:20251014T172642Z
UID:10035746-1761678000-1761681600@wp.stolaf.edu
SUMMARY:From Stress to Success: Staying Organized in College Workshop
DESCRIPTION:Join the Mental Health Team for tips on staying organized\, managing responsibilities\, and recharging this fall!
URL:https://wp.stolaf.edu/calendar/event/from-stress-to-success-staying-organized-in-college-workshop/
CATEGORIES:SGA and Student Life
ORGANIZER;CN="Wellness Center":MAILTO:wellness@stolaf.edu
LOCATION:Holland Hall 502
END:VEVENT
END:VCALENDAR