BEGIN:VCALENDAR
VERSION:2.0
PRODID:-//Calendar - ECPv6.15.20//NONSGML v1.0//EN
CALSCALE:GREGORIAN
METHOD:PUBLISH
X-WR-CALNAME:Calendar
X-ORIGINAL-URL:https://wp.stolaf.edu/calendar
X-WR-CALDESC:Events for Calendar
REFRESH-INTERVAL;VALUE=DURATION:PT1H
X-Robots-Tag:noindex
X-PUBLISHED-TTL:PT1H
BEGIN:VTIMEZONE
TZID:America/Chicago
BEGIN:DAYLIGHT
TZOFFSETFROM:-0600
TZOFFSETTO:-0500
TZNAME:CDT
DTSTART:20240310T080000
END:DAYLIGHT
BEGIN:STANDARD
TZOFFSETFROM:-0500
TZOFFSETTO:-0600
TZNAME:CST
DTSTART:20241103T070000
END:STANDARD
BEGIN:DAYLIGHT
TZOFFSETFROM:-0600
TZOFFSETTO:-0500
TZNAME:CDT
DTSTART:20250309T080000
END:DAYLIGHT
BEGIN:STANDARD
TZOFFSETFROM:-0500
TZOFFSETTO:-0600
TZNAME:CST
DTSTART:20251102T070000
END:STANDARD
BEGIN:DAYLIGHT
TZOFFSETFROM:-0600
TZOFFSETTO:-0500
TZNAME:CDT
DTSTART:20260308T080000
END:DAYLIGHT
BEGIN:STANDARD
TZOFFSETFROM:-0500
TZOFFSETTO:-0600
TZNAME:CST
DTSTART:20261101T070000
END:STANDARD
END:VTIMEZONE
BEGIN:VEVENT
DTSTART;TZID=America/Chicago:20250514T120000
DTEND;TZID=America/Chicago:20250514T130000
DTSTAMP:20260422T191644
CREATED:20240816T194228Z
LAST-MODIFIED:20250421T142704Z
UID:10030204-1747224000-1747227600@wp.stolaf.edu
SUMMARY:Learn over Lunch with PubSafe
DESCRIPTION:Public Safety hosts monthly training opportunities open to the campus community – faculty\, staff\, and students! Check out the PubSafe Newsletter to learn about this month’s training topic.  \n Learn more at http://stolaf.presence.io/event/learn-over-lunch-with-pubsafe-9
URL:https://wp.stolaf.edu/calendar/event/learn-over-lunch-with-pubsafe-5/
CATEGORIES:SGA and Student Life
LOCATION:Viking Theater
END:VEVENT
END:VCALENDAR