BEGIN:VCALENDAR
VERSION:2.0
PRODID:-//Calendar - ECPv6.15.20//NONSGML v1.0//EN
CALSCALE:GREGORIAN
METHOD:PUBLISH
X-WR-CALNAME:Calendar
X-ORIGINAL-URL:https://wp.stolaf.edu/calendar
X-WR-CALDESC:Events for Calendar
REFRESH-INTERVAL;VALUE=DURATION:PT1H
X-Robots-Tag:noindex
X-PUBLISHED-TTL:PT1H
BEGIN:VTIMEZONE
TZID:America/Chicago
BEGIN:DAYLIGHT
TZOFFSETFROM:-0600
TZOFFSETTO:-0500
TZNAME:CDT
DTSTART:20240310T080000
END:DAYLIGHT
BEGIN:STANDARD
TZOFFSETFROM:-0500
TZOFFSETTO:-0600
TZNAME:CST
DTSTART:20241103T070000
END:STANDARD
BEGIN:DAYLIGHT
TZOFFSETFROM:-0600
TZOFFSETTO:-0500
TZNAME:CDT
DTSTART:20250309T080000
END:DAYLIGHT
BEGIN:STANDARD
TZOFFSETFROM:-0500
TZOFFSETTO:-0600
TZNAME:CST
DTSTART:20251102T070000
END:STANDARD
BEGIN:DAYLIGHT
TZOFFSETFROM:-0600
TZOFFSETTO:-0500
TZNAME:CDT
DTSTART:20260308T080000
END:DAYLIGHT
BEGIN:STANDARD
TZOFFSETFROM:-0500
TZOFFSETTO:-0600
TZNAME:CST
DTSTART:20261101T070000
END:STANDARD
END:VTIMEZONE
BEGIN:VEVENT
DTSTART;TZID=America/Chicago:20250913T200000
DTEND;TZID=America/Chicago:20250913T211500
DTSTAMP:20260422T131054
CREATED:20250602T211909Z
LAST-MODIFIED:20250913T210225Z
UID:10033786-1757793600-1757798100@wp.stolaf.edu
SUMMARY:24 Hour Musical
DESCRIPTION:What happens when you give a bunch of college students one day to stage a musical? Join us to find out! \nEMPTY Theater’s inaugural 24-hour musical — a hilarious night of catchy songs\, improvisation\, and bold choices — will be staged on Saturday\, September 13. Whether you’re a theatre lover or somebody who typically stays away\, the 24-hour musical is just plain fun — the product of chaos\, talent\, and exhaustion!
URL:https://wp.stolaf.edu/calendar/event/24-hour-musical-2/
CATEGORIES:SGA and Student Life
LOCATION:Pause Mane Stage
END:VEVENT
END:VCALENDAR