BEGIN:VCALENDAR
VERSION:2.0
PRODID:-//Calendar - ECPv6.15.20//NONSGML v1.0//EN
CALSCALE:GREGORIAN
METHOD:PUBLISH
X-ORIGINAL-URL:https://wp.stolaf.edu/calendar
X-WR-CALDESC:Events for Calendar
REFRESH-INTERVAL;VALUE=DURATION:PT1H
X-Robots-Tag:noindex
X-PUBLISHED-TTL:PT1H
BEGIN:VTIMEZONE
TZID:America/Chicago
BEGIN:DAYLIGHT
TZOFFSETFROM:-0600
TZOFFSETTO:-0500
TZNAME:CDT
DTSTART:20250309T080000
END:DAYLIGHT
BEGIN:STANDARD
TZOFFSETFROM:-0500
TZOFFSETTO:-0600
TZNAME:CST
DTSTART:20251102T070000
END:STANDARD
BEGIN:DAYLIGHT
TZOFFSETFROM:-0600
TZOFFSETTO:-0500
TZNAME:CDT
DTSTART:20260308T080000
END:DAYLIGHT
BEGIN:STANDARD
TZOFFSETFROM:-0500
TZOFFSETTO:-0600
TZNAME:CST
DTSTART:20261101T070000
END:STANDARD
BEGIN:DAYLIGHT
TZOFFSETFROM:-0600
TZOFFSETTO:-0500
TZNAME:CDT
DTSTART:20270314T080000
END:DAYLIGHT
BEGIN:STANDARD
TZOFFSETFROM:-0500
TZOFFSETTO:-0600
TZNAME:CST
DTSTART:20271107T070000
END:STANDARD
END:VTIMEZONE
BEGIN:VEVENT
DTSTART;TZID=America/Chicago:20260223T090000
DTEND;TZID=America/Chicago:20260223T100000
DTSTAMP:20260422T041502
CREATED:20260219T205134Z
LAST-MODIFIED:20260220T150825Z
UID:10037303-1771837200-1771840800@wp.stolaf.edu
SUMMARY:Blood Pressure Checks with Health Services
DESCRIPTION:As a part of Wellness Week\, stop by the Wellness Center on Monday morning to check your blood pressure!
URL:https://wp.stolaf.edu/calendar/event/blood-pressure-checks-with-health-services/
CATEGORIES:SGA and Student Life
ORGANIZER;CN="Wellness Center":MAILTO:wellness@stolaf.edu
LOCATION:Wellness Center – BC 120
END:VEVENT
BEGIN:VEVENT
DTSTART;TZID=America/Chicago:20260223T150000
DTEND;TZID=America/Chicago:20260223T160000
DTSTAMP:20260422T041502
CREATED:20260219T224327Z
LAST-MODIFIED:20260220T150746Z
UID:10037304-1771858800-1771862400@wp.stolaf.edu
SUMMARY:Let's Talk with St. Olaf Counseling Center
DESCRIPTION:“Let’s Talk” is a program that provides a 15-20 minute in-person confidential consultation with a counselor from the St. Olaf Counseling Center. The counselor will listen closely to your concerns and provide support\, perspective\, and suggestions for resources.  Let’s Talk is a drop-in service that is first come\, first served and is offered currently at the Counseling Center.
URL:https://wp.stolaf.edu/calendar/event/lets-talk-with-st-olaf-counseling-center/
CATEGORIES:SGA and Student Life
ORGANIZER;CN="St. Olaf Counseling Center":MAILTO:counselingcenterboehouse@stolaf.edu 
LOCATION:BC 111 – Taylor Center
END:VEVENT
END:VCALENDAR