BEGIN:VCALENDAR
VERSION:2.0
PRODID:-//Calendar - ECPv6.15.20//NONSGML v1.0//EN
CALSCALE:GREGORIAN
METHOD:PUBLISH
X-WR-CALNAME:Calendar
X-ORIGINAL-URL:https://wp.stolaf.edu/calendar
X-WR-CALDESC:Events for Calendar
REFRESH-INTERVAL;VALUE=DURATION:PT1H
X-Robots-Tag:noindex
X-PUBLISHED-TTL:PT1H
BEGIN:VTIMEZONE
TZID:America/Chicago
BEGIN:DAYLIGHT
TZOFFSETFROM:-0600
TZOFFSETTO:-0500
TZNAME:CDT
DTSTART:20240310T080000
END:DAYLIGHT
BEGIN:STANDARD
TZOFFSETFROM:-0500
TZOFFSETTO:-0600
TZNAME:CST
DTSTART:20241103T070000
END:STANDARD
BEGIN:DAYLIGHT
TZOFFSETFROM:-0600
TZOFFSETTO:-0500
TZNAME:CDT
DTSTART:20250309T080000
END:DAYLIGHT
BEGIN:STANDARD
TZOFFSETFROM:-0500
TZOFFSETTO:-0600
TZNAME:CST
DTSTART:20251102T070000
END:STANDARD
BEGIN:DAYLIGHT
TZOFFSETFROM:-0600
TZOFFSETTO:-0500
TZNAME:CDT
DTSTART:20260308T080000
END:DAYLIGHT
BEGIN:STANDARD
TZOFFSETFROM:-0500
TZOFFSETTO:-0600
TZNAME:CST
DTSTART:20261101T070000
END:STANDARD
END:VTIMEZONE
BEGIN:VEVENT
DTSTART;TZID=America/Chicago:20251112T190000
DTEND;TZID=America/Chicago:20251112T200000
DTSTAMP:20260420T150641
CREATED:20251110T222038Z
LAST-MODIFIED:20251110T222038Z
UID:10036259-1762974000-1762977600@wp.stolaf.edu
SUMMARY:The Career Studio
DESCRIPTION:Students are welcome to attend The Career Studio hosted by the Piper Center. \nThe Studio is an opportunity for students to work on… \n\nResumes\nCover letters\nInternship search\nApplications\nNetworking\nOther career activities\n\nin a relaxed environment with support from Piper Center Peer Advisors. \nStudents will have the opportunity to talk to Peer Advisors and other students about career related stress or challenges that they are encountering. So stop by for some hot cocoa and tea\, bring your friends\, and spill the tea with the Peer Advisors. \nWhat is stressing you out and how can the Piper Center help you manage career prep along side your busy academic and social calendars.
URL:https://wp.stolaf.edu/calendar/event/the-career-studio/
CATEGORIES:Vocation and Career
ORGANIZER;CN="Piper Center":MAILTO:piper.center@stolaf.edu
LOCATION:BC022 (The Lion’s Pause – The Jungle)
END:VEVENT
BEGIN:VEVENT
DTSTART;TZID=America/Chicago:20251110T190000
DTEND;TZID=America/Chicago:20251110T200000
DTSTAMP:20260420T150641
CREATED:20250930T171255Z
LAST-MODIFIED:20250930T171255Z
UID:10035662-1762801200-1762804800@wp.stolaf.edu
SUMMARY:Healing Arts: Exploring Careers in Music\, Art\, and Dance Therapy
DESCRIPTION:Students are welcome to attend Healing Arts: Exploring Careers in Music\, Art & Dance Therapy hosted by the Piper Center for Vocation and Career. This is a virtual panel designed for Fine Arts undergraduates interested in turning their passion for music\, visual art\, or dance into a career in creative arts therapy. Hear from practicing professionals in music\, art\, and dance/movement therapy as they share their career journeys\, day-to-day work\, and insights into graduate training.
URL:https://wp.stolaf.edu/calendar/event/healing-arts-exploring-careers-in-music-art-and-dance-therapy/
CATEGORIES:Vocation and Career
ORGANIZER;CN="Piper Center":MAILTO:piper.center@stolaf.edu
LOCATION:Virtual
END:VEVENT
BEGIN:VEVENT
DTSTART;TZID=America/Chicago:20251105T173000
DTEND;TZID=America/Chicago:20251105T184500
DTSTAMP:20260420T150641
CREATED:20251024T213110Z
LAST-MODIFIED:20251024T213110Z
UID:10036024-1762363800-1762368300@wp.stolaf.edu
SUMMARY:First-Gen College Alumni Panel at Carleton College
DESCRIPTION:Join us at Carleton for dinner and a First-Generation alumni panel as they discuss their experience as a first-gen college student\, career insights and life after college. (Shuttle from Buntrock to Carleton between 4:45-5:15 p.m. and return after) \nRSVP HERE! (Limited spots available!) \n 
URL:https://wp.stolaf.edu/calendar/event/first-gen-college-alumni-panel-at-carleton-college/
CATEGORIES:Meetings/Workshops,Speakers/Lectures,Special Events/Celebrations,Vocation and Career
ORGANIZER;CN="St. Olaf TRIO McNair Scholars Program":MAILTO:melgar@stolaf.edu
LOCATION:Carleton College Weitz Center 236
END:VEVENT
BEGIN:VEVENT
DTSTART;TZID=America/Chicago:20251104T190000
DTEND;TZID=America/Chicago:20251104T200000
DTSTAMP:20260420T150641
CREATED:20250812T154122Z
LAST-MODIFIED:20251028T192225Z
UID:10034792-1762282800-1762286400@wp.stolaf.edu
SUMMARY:Tibetan Medicine: Intersection of Ethics\, Philosophy\, and Healing
DESCRIPTION:All are invited to a lecture with Tenzin Namdul\, TMD\, PhD\, on the topic of Tibetan Medicine: Intersection of Ethics\, Philosophy\, and Healing. The lecture will take place in Regents Hall of Natural Science 150. Dr. Namdul is a University of Minnesota Assistant Professor and Director of the Tibetan Healing Initiative. \nStream the lecture live or watch the recording. \nThis lecture is presented in conjunction with the Flaten Art Museum’s fall exhibition Gateway to Himalayan Art\, on view September 12 – December 7\, 2025. Special thanks to the St. Olaf Departments of Nursing and Biology for co-hosting this program.
URL:https://wp.stolaf.edu/calendar/event/tibetan-medicine-intersection-of-ethics-philosophy-and-healing/
CATEGORIES:Multicultural,Speakers/Lectures,Vocation and Career
ORGANIZER;CN="Flaten Art Museum":MAILTO:beckerj@stolaf.edu
LOCATION:Regents 150
END:VEVENT
BEGIN:VEVENT
DTSTART;TZID=America/Chicago:20251104T160000
DTEND;TZID=America/Chicago:20251104T170000
DTSTAMP:20260420T150641
CREATED:20251024T212916Z
LAST-MODIFIED:20251024T212916Z
UID:10036023-1762272000-1762275600@wp.stolaf.edu
SUMMARY:Piper Center Open House for First-Generation Students
DESCRIPTION:Stop by anytime to enjoy refreshments and conversation with peers\, Piper Center coaches\, and peer advisors about your interests\, strengths\, and career questions!
URL:https://wp.stolaf.edu/calendar/event/piper-center-open-house-for-first-generation-students/
CATEGORIES:Vocation and Career
ORGANIZER;CN="Piper Center":MAILTO:piper.center@stolaf.edu
LOCATION:Tomson Hall 270
GEO:44.460516;-93.162622
END:VEVENT
BEGIN:VEVENT
DTSTART;TZID=America/Chicago:20251103T190000
DTEND;TZID=America/Chicago:20251103T201500
DTSTAMP:20260420T150641
CREATED:20250930T160740Z
LAST-MODIFIED:20250930T160740Z
UID:10035661-1762196400-1762200900@wp.stolaf.edu
SUMMARY:Pre-Health Gap Year Showcase
DESCRIPTION:Students are welcome to attend Pre-Health Gap Year Showcase hosted by the Piper Center for Vocation and Career. Connect with recent alumni in pre-health gap year roles during an open networking session. Hear their experiences\, learn why they chose gap years\, and get advice on finding opportunities before graduate or professional school.
URL:https://wp.stolaf.edu/calendar/event/pre-health-gap-year-showcase/
CATEGORIES:Vocation and Career
ORGANIZER;CN="Piper Center":MAILTO:piper.center@stolaf.edu
LOCATION:Regents 4th Floor Atrium
END:VEVENT
BEGIN:VEVENT
DTSTART;VALUE=DATE:20251103
DTEND;VALUE=DATE:20251108
DTSTAMP:20260420T150641
CREATED:20250930T155954Z
LAST-MODIFIED:20250930T155954Z
UID:10035660-1762128000-1762559999@wp.stolaf.edu
SUMMARY:1:1 Alumni-Student Career Chats
DESCRIPTION:Students are welcome to attend the 1:1 Alumni-Student Career Chats hosted by the Piper Center for Vocation and Career. Sign-up for a 1:1 conversation with alumni who have navigated life after St. Olaf and have pursued careers related to your interests. Check the website for a list of the alumni you could meet with.
URL:https://wp.stolaf.edu/calendar/event/11-alumni-student-career-chats/
CATEGORIES:Vocation and Career
ORGANIZER;CN="Piper Center":MAILTO:piper.center@stolaf.edu
LOCATION:1520 Saint Olaf Avenue\, Northfield\, Minnesota 55057\, United States
GEO:44.4615114;-93.1830588
END:VEVENT
BEGIN:VEVENT
DTSTART;TZID=America/Chicago:20251031T100000
DTEND;TZID=America/Chicago:20251031T150000
DTSTAMP:20260420T150641
CREATED:20250930T155924Z
LAST-MODIFIED:20250930T155924Z
UID:10035659-1761904800-1761922800@wp.stolaf.edu
SUMMARY:Government & Nonprofit Career Fair
DESCRIPTION:Students are welcome to attend the Government & Nonprofit Career Fair hosted by the Piper Center for Vocation and Career. Attend the Career Fair from 10 a.m.–3 p.m. at the University of Minnesota. Connect with local\, regional\, and national nonprofit organizations\, as well as county\, state\, and federal government agencies about internship and job opportunities. \nTransportation will be provided via the Piper Center.  \nDeadline to Register: October 24
URL:https://wp.stolaf.edu/calendar/event/government-nonprofit-career-fair/
CATEGORIES:Vocation and Career
ORGANIZER;CN="Piper Center":MAILTO:piper.center@stolaf.edu
LOCATION:Coffman Great Hall\, 300 Washington Ave SE\, Minneapolis\, MN 55455
GEO:44.92955;-93.204513
END:VEVENT
BEGIN:VEVENT
DTSTART;TZID=America/Chicago:20251030T160000
DTEND;TZID=America/Chicago:20251030T170000
DTSTAMP:20260420T150641
CREATED:20250930T155828Z
LAST-MODIFIED:20250930T155828Z
UID:10035658-1761840000-1761843600@wp.stolaf.edu
SUMMARY:Explore Careers in Chemistry: Student-Alum Virtual Meet Up
DESCRIPTION:Students and alumni are welcome to attend Explore Careers in Chemistry: Student-Alum Virtual Meet Up hosted by the Piper Center for Vocation and Career. Students\, connect with Oles working in a diverse array of chemistry roles via a fun\, easy and efficient platform.
URL:https://wp.stolaf.edu/calendar/event/explore-careers-in-chemistry-student-alum-virtual-meet-up/
CATEGORIES:Vocation and Career
ORGANIZER;CN="Piper Center":MAILTO:piper.center@stolaf.edu
LOCATION:Virtual
END:VEVENT
BEGIN:VEVENT
DTSTART;TZID=America/Chicago:20251027T190000
DTEND;TZID=America/Chicago:20251027T200000
DTSTAMP:20260420T150641
CREATED:20250930T134720Z
LAST-MODIFIED:20250930T144248Z
UID:10035657-1761591600-1761595200@wp.stolaf.edu
SUMMARY:The Entrepreneurial Artist: Launching Your Own Arts Venture After College
DESCRIPTION:Students are welcome to attend The Entrepreneurial Artist: Launching Your Own Arts Venture After College hosted by the Piper Center for Vocation and Career. Thinking about going freelance or starting your own creative business after graduation? Join a handful of St. Olaf alums for a practical\, honest look at how to build a thriving career in the arts through entrepreneurship.
URL:https://wp.stolaf.edu/calendar/event/the-entrepreneurial-artist-launching-your-own-arts-venture-after-college/
CATEGORIES:Vocation and Career
ORGANIZER;CN="Piper Center":MAILTO:piper.center@stolaf.edu
LOCATION:Virtual
END:VEVENT
BEGIN:VEVENT
DTSTART;VALUE=DATE:20251020
DTEND;VALUE=DATE:20251022
DTSTAMP:20260420T150641
CREATED:20250929T182704Z
LAST-MODIFIED:20250930T145519Z
UID:10035645-1760918400-1761091199@wp.stolaf.edu
SUMMARY:Epic Connections
DESCRIPTION:Students are welcome to attend the Epic Systems Connections hosted by the Piper Center for Vocation and Career. This is a career immersion experience at Epic in Madison\, WI\, where students will explore careers in technology\, project management\, and implementation consulting. Participants will connect with alumni and their colleagues to learn about individual roles in a large technology & consulting organization. Students will also engage in a real-world case that highlights a key issue or problem. \nDeadline to Apply: October 5
URL:https://wp.stolaf.edu/calendar/event/epic-connections/
CATEGORIES:Vocation and Career
ORGANIZER;CN="Piper Center":MAILTO:piper.center@stolaf.edu
LOCATION:Off campus
END:VEVENT
BEGIN:VEVENT
DTSTART;VALUE=DATE:20251020
DTEND;VALUE=DATE:20251021
DTSTAMP:20260420T150641
CREATED:20250929T182901Z
LAST-MODIFIED:20250930T145542Z
UID:10035646-1760918400-1761004799@wp.stolaf.edu
SUMMARY:Minnesota Vikings Connections
DESCRIPTION:Students are welcome to attend the Minnesota Vikings Connections hosted by the Piper Center for Vocation and Career. This is a half-day career immersion at the Minnesota Vikings to explore the business of sports administration\, athletic training and performance\, and allied health roles in sports. Participants will connect with alumni and their colleagues to explore how a sports organization functions and learn about the individual roles that make it all work. \nDeadline to Apply: October 12
URL:https://wp.stolaf.edu/calendar/event/minnesota-vikings-connections/
CATEGORIES:Vocation and Career
ORGANIZER;CN="Piper Center":MAILTO:piper.center@stolaf.edu
LOCATION:Off campus
END:VEVENT
BEGIN:VEVENT
DTSTART;TZID=America/Chicago:20251013T180000
DTEND;TZID=America/Chicago:20251013T190000
DTSTAMP:20260420T150641
CREATED:20250930T134634Z
LAST-MODIFIED:20250930T144046Z
UID:10035656-1760378400-1760382000@wp.stolaf.edu
SUMMARY:Statistics and Data Science Alumni Virtual Panel
DESCRIPTION:Students are welcome to attend the Statistics and Data Science Alumni Virtual Panel hosted by the Piper Center for Vocation and Career. Hear from and connect with several alumni pursuing careers related to statistics and data science. Students in all class years and majors are encouraged to attend.
URL:https://wp.stolaf.edu/calendar/event/statistics-and-data-science-alumni-virtual-panel/
CATEGORIES:Vocation and Career
ORGANIZER;CN="Piper Center":MAILTO:piper.center@stolaf.edu
LOCATION:Virtual
END:VEVENT
BEGIN:VEVENT
DTSTART;TZID=America/Chicago:20251008T180000
DTEND;TZID=America/Chicago:20251008T190000
DTSTAMP:20260420T150641
CREATED:20250930T212214Z
LAST-MODIFIED:20250930T212214Z
UID:10035674-1759946400-1759950000@wp.stolaf.edu
SUMMARY:Environmental Health Alumni Virtual Panel
DESCRIPTION:Students are welcome to attend  the Environmental Health Alumni Virtual Panel hosted by the Piper Center for Vocation and Career. Explore internships and careers related to Environmental Health with alumni who are engaged with the National Institute of Environmental Health Sciences (NIEHS)\, which has a mission to research how the environment affects biological systems across a lifespan and to use this knowledge to reduce disease and promote human health. \n 
URL:https://wp.stolaf.edu/calendar/event/environmental-health-alumni-virtual-panel/
CATEGORIES:Vocation and Career
ORGANIZER;CN="Piper Center":MAILTO:piper.center@stolaf.edu
LOCATION:Virtual
END:VEVENT
BEGIN:VEVENT
DTSTART;TZID=America/Chicago:20250922T183000
DTEND;TZID=America/Chicago:20250922T203000
DTSTAMP:20260420T150641
CREATED:20250908T133551Z
LAST-MODIFIED:20250908T133551Z
UID:10035042-1758565800-1758573000@wp.stolaf.edu
SUMMARY:Fall Recruiting Showcase 2025
DESCRIPTION:All students are welcome to attend the Fall Recruiting Showcase hosted by the Piper Center. This is an event designed to help you learn about and make connections with key employers in a casual\, low-stakes environment.
URL:https://wp.stolaf.edu/calendar/event/fall-recruiting-showcase-2025/
CATEGORIES:Vocation and Career
ORGANIZER;CN="Piper Center":MAILTO:piper.center@stolaf.edu
LOCATION:Tomson 280
END:VEVENT
BEGIN:VEVENT
DTSTART;TZID=America/Chicago:20250507T120000
DTEND;TZID=America/Chicago:20250507T130000
DTSTAMP:20260420T150641
CREATED:20250205T152111Z
LAST-MODIFIED:20250205T152111Z
UID:10033008-1746619200-1746622800@wp.stolaf.edu
SUMMARY:What Nourishes You?
DESCRIPTION:Each month the Lutheran Center hosts a breakfast or lunch for staff and faculty featuring a St. Olaf staff or faculty member who responds to the question “What Nourishes You?” reflecting on the values\, core commitments\, relationships\, faith\, activism\, and beyond that nourish and sustain us. There will be space for 12 people to join us for each conversation. \nThis month’s featured speaker is Michaela Brown\, Associate Chaplain for Jewish Life. \nRSVP here
URL:https://wp.stolaf.edu/calendar/event/what-nourishes-you/
CATEGORIES:Vocation and Career
LOCATION:BC143
END:VEVENT
BEGIN:VEVENT
DTSTART;TZID=America/Chicago:20250424T083000
DTEND;TZID=America/Chicago:20250424T090000
DTSTAMP:20260420T150641
CREATED:20250205T152240Z
LAST-MODIFIED:20250205T152240Z
UID:10033007-1745483400-1745485200@wp.stolaf.edu
SUMMARY:What Nourishes You?
DESCRIPTION:Each month the Lutheran Center hosts a breakfast or lunch for staff and faculty featuring a St. Olaf staff or faculty member who responds to the question “What Nourishes You?” reflecting on the values\, core commitments\, relationships\, faith\, activism\, and beyond that nourish and sustain us. There will be space for 12 people to join us for each conversation. \nThis month’s featured speaker is Sara Pillatzki-Warzeha\, Visiting Instructor in Theatre. \nRSVP here
URL:https://wp.stolaf.edu/calendar/event/what-nourishes-you-2/
CATEGORIES:Vocation and Career
LOCATION:BC142
END:VEVENT
END:VCALENDAR