BEGIN:VCALENDAR
VERSION:2.0
PRODID:-//Calendar - ECPv6.15.20//NONSGML v1.0//EN
CALSCALE:GREGORIAN
METHOD:PUBLISH
X-ORIGINAL-URL:https://wp.stolaf.edu/calendar
X-WR-CALDESC:Events for Calendar
REFRESH-INTERVAL;VALUE=DURATION:PT1H
X-Robots-Tag:noindex
X-PUBLISHED-TTL:PT1H
BEGIN:VTIMEZONE
TZID:America/Chicago
BEGIN:DAYLIGHT
TZOFFSETFROM:-0600
TZOFFSETTO:-0500
TZNAME:CDT
DTSTART:20250309T080000
END:DAYLIGHT
BEGIN:STANDARD
TZOFFSETFROM:-0500
TZOFFSETTO:-0600
TZNAME:CST
DTSTART:20251102T070000
END:STANDARD
BEGIN:DAYLIGHT
TZOFFSETFROM:-0600
TZOFFSETTO:-0500
TZNAME:CDT
DTSTART:20260308T080000
END:DAYLIGHT
BEGIN:STANDARD
TZOFFSETFROM:-0500
TZOFFSETTO:-0600
TZNAME:CST
DTSTART:20261101T070000
END:STANDARD
BEGIN:DAYLIGHT
TZOFFSETFROM:-0600
TZOFFSETTO:-0500
TZNAME:CDT
DTSTART:20270314T080000
END:DAYLIGHT
BEGIN:STANDARD
TZOFFSETFROM:-0500
TZOFFSETTO:-0600
TZNAME:CST
DTSTART:20271107T070000
END:STANDARD
END:VTIMEZONE
BEGIN:VEVENT
DTSTART;TZID=America/Chicago:20260305T113000
DTEND;TZID=America/Chicago:20260305T124500
DTSTAMP:20260420T140952
CREATED:20250807T140308Z
LAST-MODIFIED:20250807T140308Z
UID:10034620-1772710200-1772714700@wp.stolaf.edu
SUMMARY:Major Declaration Celebration: Class of 2028
DESCRIPTION:Sophomore students are invited to declare their major and celebrate\, hosted by the Academic Success Center! This event will be held in the Ballrooms on Thursday\, March 5th\, from 11:30 a.m. – 12:45 p.m.
URL:https://wp.stolaf.edu/calendar/event/major-declaration-celebration-class-of-2028/
CATEGORIES:Special Events/Celebrations
LOCATION:Ballrooms in Buntrock Commons
END:VEVENT
END:VCALENDAR