BEGIN:VCALENDAR
VERSION:2.0
PRODID:-//Calendar - ECPv6.15.20//NONSGML v1.0//EN
CALSCALE:GREGORIAN
METHOD:PUBLISH
X-WR-CALNAME:Calendar
X-ORIGINAL-URL:https://wp.stolaf.edu/calendar
X-WR-CALDESC:Events for Calendar
REFRESH-INTERVAL;VALUE=DURATION:PT1H
X-Robots-Tag:noindex
X-PUBLISHED-TTL:PT1H
BEGIN:VTIMEZONE
TZID:America/Chicago
BEGIN:DAYLIGHT
TZOFFSETFROM:-0600
TZOFFSETTO:-0500
TZNAME:CDT
DTSTART:20240310T080000
END:DAYLIGHT
BEGIN:STANDARD
TZOFFSETFROM:-0500
TZOFFSETTO:-0600
TZNAME:CST
DTSTART:20241103T070000
END:STANDARD
BEGIN:DAYLIGHT
TZOFFSETFROM:-0600
TZOFFSETTO:-0500
TZNAME:CDT
DTSTART:20250309T080000
END:DAYLIGHT
BEGIN:STANDARD
TZOFFSETFROM:-0500
TZOFFSETTO:-0600
TZNAME:CST
DTSTART:20251102T070000
END:STANDARD
BEGIN:DAYLIGHT
TZOFFSETFROM:-0600
TZOFFSETTO:-0500
TZNAME:CDT
DTSTART:20260308T080000
END:DAYLIGHT
BEGIN:STANDARD
TZOFFSETFROM:-0500
TZOFFSETTO:-0600
TZNAME:CST
DTSTART:20261101T070000
END:STANDARD
BEGIN:DAYLIGHT
TZOFFSETFROM:-0600
TZOFFSETTO:-0500
TZNAME:CDT
DTSTART:20270314T080000
END:DAYLIGHT
BEGIN:STANDARD
TZOFFSETFROM:-0500
TZOFFSETTO:-0600
TZNAME:CST
DTSTART:20271107T070000
END:STANDARD
END:VTIMEZONE
BEGIN:VEVENT
DTSTART;TZID=America/Chicago:20260207T120000
DTEND;TZID=America/Chicago:20260207T140000
DTSTAMP:20260421T110527
CREATED:20251223T214509Z
LAST-MODIFIED:20251223T214509Z
UID:10036807-1770465600-1770472800@wp.stolaf.edu
SUMMARY:St. Olaf Alumni Pre-Concert Brunch | Houston\, TX
DESCRIPTION:Join fellow Oles for a festive brunch in Houston before the St. Olaf Choir takes the stage at South Main Baptist Church! Hosted by Richard Nebel ’73\, this gathering is a wonderful opportunity to connect with the local alumni community and share your favorite memories of the Hill. \nEvent details: \n\n\n\nDate: Saturday\, February 7\, 2026\nTime: 12:00 p.m. – 2:30 p.m.\nLocation: Grangers Restaurant – 1200 Binz Street\, Houston\, TX 77004\nHost: Richard Nebel ’73\n\n\n\nQuestions? If you have questions regarding the brunch\, please contact Richard Nebel at ricknebel5@gmail.com. \nConcert Information \nFollowing the brunch\, the St. Olaf Choir\, conducted by Anton Armstrong\, will perform at South Main Baptist Church at 3:00 p.m. \nNote: Tickets for the concert must be purchased separately. You can secure your seats at stolaf.edu/tickets/choir or by calling 800-363-5487.
URL:https://wp.stolaf.edu/calendar/event/st-olaf-alumni-pre-concert-brunch-houston-tx/
CATEGORIES:Alumni
END:VEVENT
BEGIN:VEVENT
DTSTART;TZID=America/Chicago:20250922T170000
DTEND;TZID=America/Chicago:20250922T190000
DTSTAMP:20260421T110527
CREATED:20250723T140008Z
LAST-MODIFIED:20250723T140008Z
UID:10034164-1758560400-1758567600@wp.stolaf.edu
SUMMARY:Omaha Oles Happy Hour
DESCRIPTION:You’re warmly invited to join Omaha-based alumni Colin Brown ’15 for an informal Ole happy hour this fall. This is a wonderful opportunity to gather\, socialize\, and strengthen our St. Olaf community right here in the Omaha region. \nCome share stories\, network\, or simply enjoy the company of other Oles. There’s no formal agenda – just a relaxed evening of good conversation and camaraderie. \nEvent details: \n\n\n\nEvent: Omaha Oles Happy Hour\nDate: Monday\, September 22\, 2025\nTime: 5:00 PM – 7:00 PM\nLocation: Gather Omaha\, 1108 Howard St\, Omaha\, NE 68102\nHosted By: Colin Brown ’15\nCost: Free to attend! (Appetizers and first-round of drinks provided)\n\n\n\nWe can’t wait to see you there and catch up! \nUm! Yah! Yah!
URL:https://wp.stolaf.edu/calendar/event/omaha-oles-happy-hour/
CATEGORIES:Alumni
END:VEVENT
BEGIN:VEVENT
DTSTART;TZID=America/Chicago:20250920T100000
DTEND;TZID=America/Chicago:20250920T120000
DTSTAMP:20260421T110527
CREATED:20250723T135841Z
LAST-MODIFIED:20250723T135841Z
UID:10034163-1758362400-1758369600@wp.stolaf.edu
SUMMARY:St. Olaf Virtual Book Club
DESCRIPTION:You’re invited to the next meeting of the St. Olaf Virtual Book Club! Join fellow Oles for a thoughtful discussion of “True Biz” by Sara Novic. \nThe students at the River Valley School for the Deaf just want to hook up\, pass their history finals\, and have politicians\, doctors\, and their parents stop telling them what to do with their bodies. This revelatory novel plunges readers into the halls of a residential school for the deaf\, where they’ll meet Charlie\, a rebellious transfer student who’s never met another deaf person before; Austin\, the school’s golden boy\, whose world is rocked when his baby sister is born hearing; and February\, the hearing headmistress\, a CODA (child of deaf adult(s)) who is fighting to keep her school open and her marriage intact\, but might not be able to do both. As a series of crises both personal and political threaten to unravel each of them\, Charlie\, Austin\, and February find their lives inextricable from one another—and changed forever. \nThis is a story of sign language and lip-reading\, disability and civil rights\, isolation and injustice\, first love and loss\, and\, above all\, great persistence\, daring\, and joy. Absorbing and assured\, idiosyncratic and relatable\, this is an unforgettable journey into the Deaf community and a universal celebration of human connection. \n\n\n\n\n\nEvent: St. Olaf Virtual Book Club\nBook: True Biz by Sara Novic\nDate: Saturday\, September 20\, 2025\nTime: 10 a.m. to Noon Eastern Time (US and Canada)\n\n\n\n\n\n\n\n\n\n\n\nZoom meeting details will be provided via email after registration. \nQuestions: Michele Foss ’97 
URL:https://wp.stolaf.edu/calendar/event/st-olaf-virtual-book-club/
CATEGORIES:Alumni
LOCATION:Virtual Event
END:VEVENT
BEGIN:VEVENT
DTSTART;TZID=America/Chicago:20250911T170000
DTEND;TZID=America/Chicago:20250911T190000
DTSTAMP:20260421T110527
CREATED:20250610T181817Z
LAST-MODIFIED:20250610T181817Z
UID:10033866-1757610000-1757617200@wp.stolaf.edu
SUMMARY:Oles in Austin Happy Hour
DESCRIPTION:Get ready to connect with fellow Oles in the heart of Texas! \nSt. Olaf community members are warmly invited to join Austin-based alumni Todd Boss ’91 and Craig Hella Johnson ’84 for an informal happy hour this fall. This is a wonderful opportunity to gather\, socialize\, and strengthen our St. Olaf community right here in the Austin region. \nCome share stories\, network\, or simply enjoy the company of other Oles. There’s no formal agenda – just a relaxed evening of good conversation and camaraderie. \nEvent details: \n\n\n\nEvent: Oles in Texas Happy Hour\nDate: Thursday\, September 11\, 2025\nTime: 5:00 PM – 7:00 PM\nLocation: Lazarus Brewing Co.\, 1902 E 6th St\, Austin\, TX 78702\nHosted By: Todd Boss ’91 and Craig Hella Johnson ’84\nCost: Free to attend! (Guests will be responsible for their own beverage and food purchases.)\n\n\n\nWe can’t wait to see you there and catch up! \nUm! Yah! Yah!
URL:https://wp.stolaf.edu/calendar/event/oles-in-austin-happy-hour/
CATEGORIES:Alumni
END:VEVENT
BEGIN:VEVENT
DTSTART;TZID=America/Chicago:20250826T173000
DTEND;TZID=America/Chicago:20250826T193000
DTSTAMP:20260421T110527
CREATED:20250709T141151Z
LAST-MODIFIED:20250709T141151Z
UID:10034055-1756229400-1756236600@wp.stolaf.edu
SUMMARY:DC Oles: Happy Hour at Prost
DESCRIPTION:Calling all DC Oles! \nOles\, come unwind and connect with your St. Olaf community at an Ole happy hour on Tuesday\, August 26\, at Prost DC\, from 5:30 to 7:30 p.m. \nWhether you’re a long-time resident or new to the area\, this is a great chance to catch up with old friends\, meet someone new\, welcome our newest alumni to the DC family\, and just enjoy a casual happy hour. \nThe first round is on St. Olaf! \nWe’re looking forward to a fun time with fellow Oles! \n\n\n\nDate: Tuesday\, August 26\, 2025\nTime: 5:30 to 7:30 p.m.\nLocation: Prost DC\nCost: Free\nWho: St. Olaf Alumni\n\n\n\n\n\n\n\n\n\nQuestions? Email Lily Braafladt ’22 at lbraaf2259@gmail.com
URL:https://wp.stolaf.edu/calendar/event/dc-oles-happy-hour-at-prost/
CATEGORIES:Alumni
END:VEVENT
BEGIN:VEVENT
DTSTART;TZID=America/Chicago:20250729T173000
DTEND;TZID=America/Chicago:20250729T193000
DTSTAMP:20260421T110527
CREATED:20250617T193141Z
LAST-MODIFIED:20250617T193158Z
UID:10034031-1753810200-1753817400@wp.stolaf.edu
SUMMARY:Denver Student Send-Off Picnic & Alumni Social
DESCRIPTION:Join the Denver Ole community for a fun\, relaxed evening as it hosts its annual Student Send-off Picnic! Let’s come together for a casual social event. Enjoy food\, refreshments and catch up with fellow Oles as we send off our newest students with a big Um! Yah! Yah! \nDate: Tuesday\, July 29 \nTime: 5:30 to 7:30 p.m. \nLocation: Sloan Lake Park (Shelter #1) 4507 W 17th Ave\, Denver\, CO \nCost: Free \nDetails: All Denver Oles and their families are invited to come together for a casual social evening of food\, refreshments\, and conversation. It’s the perfect chance to wish our newest Oles a fantastic academic year and connect with your local Ole community! \nQuestions? Email Mitch Rennie ‘14 at mitch.rennie@gmail.com
URL:https://wp.stolaf.edu/calendar/event/denver-student-send-off-picnic-alumni-social/
CATEGORIES:Alumni
END:VEVENT
BEGIN:VEVENT
DTSTART;TZID=America/Chicago:20250719T090000
DTEND;TZID=America/Chicago:20250719T110000
DTSTAMP:20260421T110527
CREATED:20250610T140918Z
LAST-MODIFIED:20250610T141152Z
UID:10033864-1752915600-1752922800@wp.stolaf.edu
SUMMARY:St. Olaf Virtual Book Club
DESCRIPTION:Members of the St. Olaf community are invited to the next meeting of the St. Olaf Virtual Book Club on Saturday\, July 19. Join fellow Oles for a thoughtful discussion of Percival Everett’s acclaimed novel\, “James.” \nThis powerful book offers a re-imagining of Mark Twain’s Adventures of Huckleberry Finn\, told from the perspective of Jim\, an enslaved man seeking freedom. “James” has garnered significant recognition\, winning the 2024 Kirkus Prize\, the National Book Award for Fiction\, and the 2025 Pulitzer Prize for Fiction. We anticipate a rich and engaging conversation! \n\n\n\n\n\nEvent: St. Olaf Book Club\nBook: “James” by Percival Everett\nDate: Saturday\, July 19\, 2025\nTime: 10:00 AM – 12:00 PM Eastern Time (US and Canada)\n\n\n\n\n\n\n\n\n\n\n\nZoom Meeting Details \nTopic: St Olaf Virtual Book Club  \nJoin Zoom Meeting: \nhttps://us02web.zoom.us/j/83625652323?pwd=2gdFwjf4bAKfVTET5x3syHfVkY6447.1 \nMeeting ID: 836 2565 2323 \nPasscode: 955319 \nQuestions: Michele Foss ’97 
URL:https://wp.stolaf.edu/calendar/event/st-olaf-virtual-book-club-4/
CATEGORIES:Alumni
END:VEVENT
BEGIN:VEVENT
DTSTART;TZID=America/Chicago:20250718T173000
DTEND;TZID=America/Chicago:20250718T210000
DTSTAMP:20260421T110527
CREATED:20250611T130637Z
LAST-MODIFIED:20250617T174716Z
UID:10033865-1752859800-1752872400@wp.stolaf.edu
SUMMARY:Hmong Alumni Network: Summer Jam!
DESCRIPTION:You’re invited to the second annual St. Olaf Hmong Alumni Summer Jam! Join fellow Oles\, students\, and their families for an evening of community and fun. \nGet ready to reconnect and celebrate! The St. Olaf College Hmong Alumni Network warmly invites all alumni\, current students\, incoming students (future Oles)\, and your families to our second annual Summer Jam! \nJoin us for a delightful evening of community\, conversation\, and connection. It’s the perfect chance to connect across generations and welcome our newest Oles to the St. Olaf family. We’ll have delicious food\, refreshments\, music and fun lawn games! We’re excited to bring everyone together to celebrate our vibrant community and to offer a warm St. Olaf welcome to our incoming students as they begin their journey on the Hill. \nWHEN: Friday\, July 18 @ 5:30 p.m. – 9:00 p.m. \nWHERE: Keller Williams | Roseville\, MN (Hosted by Lily Moua) \nQUESTIONS: Viva Yang ’01 (vivayang@hotmail.com)
URL:https://wp.stolaf.edu/calendar/event/hmong-alumni-network-summer-jam/
CATEGORIES:Alumni
END:VEVENT
BEGIN:VEVENT
DTSTART;TZID=America/Chicago:20250608T100000
DTEND;TZID=America/Chicago:20250608T133000
DTSTAMP:20260421T110527
CREATED:20250409T142146Z
LAST-MODIFIED:20250512T161254Z
UID:10033522-1749376800-1749389400@wp.stolaf.edu
SUMMARY:Life-Saving Care: A Tour of The Marine Mammal Center
DESCRIPTION:Bay Area Oles and their families are invited for a special Ole-led tour of the Marine Mammal Center on Saturday\, June 8. We’re excited to have our very own Mark Brokering ’74\, a dedicated volunteer\, guide us through this incredible facility. \nThis is a fantastic opportunity for kids and adults alike to learn about the over 50 years of marine mammal rescue and rehabilitation done by the center and to see these animals up close. Bring your family for an educational and memorable experience. \n\n\nEvent Details: \n\n\n\nCost: FREE\nDate: Sunday\, June 8\, 2025\nTime: 10 a.m. to 1:30 p.m.\nLocation: The Marine Mammal Center\nAddress: 2000 Bunker Road\, Sausalito\, CA\n\n\n\nQuestions? Contact Sonja Clark ’03 at sonjaclark@gmail.com
URL:https://wp.stolaf.edu/calendar/event/life-saving-care-a-tour-of-the-marine-mammal-center/
CATEGORIES:Alumni
END:VEVENT
BEGIN:VEVENT
DTSTART;TZID=America/Chicago:20250510T120000
DTEND;TZID=America/Chicago:20250510T140000
DTSTAMP:20260421T110527
CREATED:20250409T142226Z
LAST-MODIFIED:20250409T142226Z
UID:10033523-1746878400-1746885600@wp.stolaf.edu
SUMMARY:A Year of Cabernet Sauvignon
DESCRIPTION:Seattle alumni are invited to join the Barnard Griffin Winery Woodinville Tasting Room on Saturday\, May 10\, from noon to 2 p.m. for a guided exploration of Cabernet Sauvignon! \nIf wine had a quintessential “comfort food”\, it would be a glass of hearty Cabernet Sauvignon. Long considered the king of wine grapes\, Cabernet Sauvignon has a storied history and is one of the first grapes most people think of when they think of red wine. We will discuss what makes Cab such a stand-out from the vineyard to your glass and how oak became Cabernet’s best friend in the cellar. We’ll also taste and explore Barnard Griffin’s spectrum of great Cabernet from various vineyard sites across Washington state! \nThe tasting will be led by Alaina Crawford\, Barnard Griffin’s Woodinville Tasting Room Manager\, who holds a Level 3 certification in Wine from the Wine & Spirit Education Trust (WSET). \n\n\nEvent Details: \n\n\n\nCost: $50 per person\nSpaces: 20\nDate: Saturday\, May 10\, 2025\nTime: Noon to 2 p.m.\nLocation: Barnard Griffin Winery\nAddress: 17401 133rd Ave NE\, C108; Woodinville\, WA 98072\n\n\n\nQuestions? Contact Corina Rahmig ’02 at corinajung@gmail.com
URL:https://wp.stolaf.edu/calendar/event/a-year-of-cabernet-sauvignon/
CATEGORIES:Alumni
END:VEVENT
BEGIN:VEVENT
DTSTART;TZID=America/Chicago:20250504T180000
DTEND;TZID=America/Chicago:20250504T200000
DTSTAMP:20260421T110527
CREATED:20250205T152643Z
LAST-MODIFIED:20250305T170118Z
UID:10032993-1746381600-1746388800@wp.stolaf.edu
SUMMARY:Alumni Night at Frozen the Musical
DESCRIPTION:All are welcome for a magical evening at the Children’s Theatre Company’s production of Frozen the Broadway Musical! Before the show\, there will be a special reception just for the St. Olaf community\, complete with light fare\, refreshments and a possible guest appearance by a cast member from the show. This is a wonderful opportunity to relive your favorite moments from Frozen\, connect with fellow alumni\, faculty\, staff\, and make new memories with your family. We hope to see you there! \nDate: Sunday\, May 4\, 2025 \nTime: 6:00 PM \nLocation: Children’s Theatre Company\, Minneapolis \nDiscounted Pricing: $25 for adults\, $15 for children and seniors (+$5 processing fee) \nSpecial St. Olaf Discount: Use code ALUMNI at checkout to receive the discounted price. \nGet Your Tickets Now: https://my.childrenstheatre.org/14643/14990?promo=ALUMNI \nQuestions? Contact the Office of Alumni and Parent Relations at alum-office@stolaf.edu
URL:https://wp.stolaf.edu/calendar/event/alumni-night-at-frozen-the-musical/
CATEGORIES:Alumni
END:VEVENT
END:VCALENDAR