BEGIN:VCALENDAR
VERSION:2.0
PRODID:-//Calendar - ECPv6.15.20//NONSGML v1.0//EN
CALSCALE:GREGORIAN
METHOD:PUBLISH
X-ORIGINAL-URL:https://wp.stolaf.edu/calendar
X-WR-CALDESC:Events for Calendar
REFRESH-INTERVAL;VALUE=DURATION:PT1H
X-Robots-Tag:noindex
X-PUBLISHED-TTL:PT1H
BEGIN:VTIMEZONE
TZID:America/Chicago
BEGIN:DAYLIGHT
TZOFFSETFROM:-0600
TZOFFSETTO:-0500
TZNAME:CDT
DTSTART:20240310T080000
END:DAYLIGHT
BEGIN:STANDARD
TZOFFSETFROM:-0500
TZOFFSETTO:-0600
TZNAME:CST
DTSTART:20241103T070000
END:STANDARD
BEGIN:DAYLIGHT
TZOFFSETFROM:-0600
TZOFFSETTO:-0500
TZNAME:CDT
DTSTART:20250309T080000
END:DAYLIGHT
BEGIN:STANDARD
TZOFFSETFROM:-0500
TZOFFSETTO:-0600
TZNAME:CST
DTSTART:20251102T070000
END:STANDARD
BEGIN:DAYLIGHT
TZOFFSETFROM:-0600
TZOFFSETTO:-0500
TZNAME:CDT
DTSTART:20260308T080000
END:DAYLIGHT
BEGIN:STANDARD
TZOFFSETFROM:-0500
TZOFFSETTO:-0600
TZNAME:CST
DTSTART:20261101T070000
END:STANDARD
END:VTIMEZONE
BEGIN:VEVENT
DTSTART;TZID=America/Chicago:20251122T180000
DTEND;TZID=America/Chicago:20251122T200000
DTSTAMP:20260420T220952
CREATED:20251114T163315Z
LAST-MODIFIED:20251118T162759Z
UID:10036354-1763834400-1763841600@wp.stolaf.edu
SUMMARY:Omkara 2025
DESCRIPTION:The St. Olaf Community and guests are welcome to attend Omkara 2025. Omkara is the annual South Asian celebration organized by Celebrate South Asia! (CSA!) featuring vibrant performances\, music\, and much more. \nJoin CSA! for a night of culture\, community\, and joy!
URL:https://wp.stolaf.edu/calendar/event/omkara-2025/
CATEGORIES:Multicultural,Special Events/Celebrations
ORGANIZER;CN="Celebrate South Asia!":MAILTO:satish1@stolaf.edu
LOCATION:BC031 the Pause main Stage
END:VEVENT
END:VCALENDAR