BEGIN:VCALENDAR
VERSION:2.0
PRODID:-//Calendar - ECPv6.15.20//NONSGML v1.0//EN
CALSCALE:GREGORIAN
METHOD:PUBLISH
X-WR-CALNAME:Calendar
X-ORIGINAL-URL:https://wp.stolaf.edu/calendar
X-WR-CALDESC:Events for Calendar
REFRESH-INTERVAL;VALUE=DURATION:PT1H
X-Robots-Tag:noindex
X-PUBLISHED-TTL:PT1H
BEGIN:VTIMEZONE
TZID:America/Chicago
BEGIN:DAYLIGHT
TZOFFSETFROM:-0600
TZOFFSETTO:-0500
TZNAME:CDT
DTSTART:20240310T080000
END:DAYLIGHT
BEGIN:STANDARD
TZOFFSETFROM:-0500
TZOFFSETTO:-0600
TZNAME:CST
DTSTART:20241103T070000
END:STANDARD
BEGIN:DAYLIGHT
TZOFFSETFROM:-0600
TZOFFSETTO:-0500
TZNAME:CDT
DTSTART:20250309T080000
END:DAYLIGHT
BEGIN:STANDARD
TZOFFSETFROM:-0500
TZOFFSETTO:-0600
TZNAME:CST
DTSTART:20251102T070000
END:STANDARD
BEGIN:DAYLIGHT
TZOFFSETFROM:-0600
TZOFFSETTO:-0500
TZNAME:CDT
DTSTART:20260308T080000
END:DAYLIGHT
BEGIN:STANDARD
TZOFFSETFROM:-0500
TZOFFSETTO:-0600
TZNAME:CST
DTSTART:20261101T070000
END:STANDARD
BEGIN:DAYLIGHT
TZOFFSETFROM:-0600
TZOFFSETTO:-0500
TZNAME:CDT
DTSTART:20270314T080000
END:DAYLIGHT
BEGIN:STANDARD
TZOFFSETFROM:-0500
TZOFFSETTO:-0600
TZNAME:CST
DTSTART:20271107T070000
END:STANDARD
END:VTIMEZONE
BEGIN:VEVENT
DTSTART;TZID=America/Chicago:20260409T113000
DTEND;TZID=America/Chicago:20260409T123000
DTSTAMP:20260420T150538
CREATED:20250624T180740Z
LAST-MODIFIED:20250624T180740Z
UID:10033860-1775734200-1775737800@wp.stolaf.edu
SUMMARY:SOAR Session
DESCRIPTION:All first-year students attend their peer-led St. Olaf Orientation to Academics and Resources (SOAR) Session.  SOAR provides an extended orientation for students throughout their first year to intentionally foster peer connections and equip them with the knowledge\, skills\, and resources to be successful at St. Olaf.
URL:https://wp.stolaf.edu/calendar/event/soar-session-2/2026-04-09/
CATEGORIES:Meetings/Workshops
ORGANIZER;CN="SOAR":MAILTO:hupton1@stolaf.edu
END:VEVENT
BEGIN:VEVENT
DTSTART;TZID=America/Chicago:20260319T113000
DTEND;TZID=America/Chicago:20260319T123000
DTSTAMP:20260420T150538
CREATED:20250624T180740Z
LAST-MODIFIED:20250624T180740Z
UID:10033859-1773919800-1773923400@wp.stolaf.edu
SUMMARY:SOAR Session
DESCRIPTION:All first-year students attend their peer-led St. Olaf Orientation to Academics and Resources (SOAR) Session.  SOAR provides an extended orientation for students throughout their first year to intentionally foster peer connections and equip them with the knowledge\, skills\, and resources to be successful at St. Olaf.
URL:https://wp.stolaf.edu/calendar/event/soar-session-2/2026-03-19/
CATEGORIES:Meetings/Workshops
ORGANIZER;CN="SOAR":MAILTO:hupton1@stolaf.edu
END:VEVENT
BEGIN:VEVENT
DTSTART;TZID=America/Chicago:20260226T113000
DTEND;TZID=America/Chicago:20260226T123000
DTSTAMP:20260420T150538
CREATED:20250624T180740Z
LAST-MODIFIED:20250624T180740Z
UID:10033858-1772105400-1772109000@wp.stolaf.edu
SUMMARY:SOAR Session
DESCRIPTION:All first-year students attend their peer-led St. Olaf Orientation to Academics and Resources (SOAR) Session.  SOAR provides an extended orientation for students throughout their first year to intentionally foster peer connections and equip them with the knowledge\, skills\, and resources to be successful at St. Olaf.
URL:https://wp.stolaf.edu/calendar/event/soar-session-2/2026-02-26/
CATEGORIES:Meetings/Workshops
ORGANIZER;CN="SOAR":MAILTO:hupton1@stolaf.edu
END:VEVENT
BEGIN:VEVENT
DTSTART;TZID=America/Chicago:20260212T113000
DTEND;TZID=America/Chicago:20260212T123000
DTSTAMP:20260420T150538
CREATED:20250624T180740Z
LAST-MODIFIED:20250624T180740Z
UID:10033857-1770895800-1770899400@wp.stolaf.edu
SUMMARY:SOAR Session
DESCRIPTION:All first-year students attend their peer-led St. Olaf Orientation to Academics and Resources (SOAR) Session.  SOAR provides an extended orientation for students throughout their first year to intentionally foster peer connections and equip them with the knowledge\, skills\, and resources to be successful at St. Olaf.
URL:https://wp.stolaf.edu/calendar/event/soar-session-2/2026-02-12/
CATEGORIES:Meetings/Workshops
ORGANIZER;CN="SOAR":MAILTO:hupton1@stolaf.edu
END:VEVENT
BEGIN:VEVENT
DTSTART;TZID=America/Chicago:20251120T113000
DTEND;TZID=America/Chicago:20251120T123000
DTSTAMP:20260420T150538
CREATED:20250624T180740Z
LAST-MODIFIED:20250624T180740Z
UID:10033856-1763638200-1763641800@wp.stolaf.edu
SUMMARY:SOAR Session
DESCRIPTION:All first-year students attend their peer-led St. Olaf Orientation to Academics and Resources (SOAR) Session.  SOAR provides an extended orientation for students throughout their first year to intentionally foster peer connections and equip them with the knowledge\, skills\, and resources to be successful at St. Olaf.
URL:https://wp.stolaf.edu/calendar/event/soar-session-2/2025-11-20/
CATEGORIES:Meetings/Workshops
ORGANIZER;CN="SOAR":MAILTO:hupton1@stolaf.edu
END:VEVENT
BEGIN:VEVENT
DTSTART;TZID=America/Chicago:20251106T113000
DTEND;TZID=America/Chicago:20251106T123000
DTSTAMP:20260420T150538
CREATED:20250624T180740Z
LAST-MODIFIED:20250624T180740Z
UID:10033855-1762428600-1762432200@wp.stolaf.edu
SUMMARY:SOAR Session
DESCRIPTION:All first-year students attend their peer-led St. Olaf Orientation to Academics and Resources (SOAR) Session.  SOAR provides an extended orientation for students throughout their first year to intentionally foster peer connections and equip them with the knowledge\, skills\, and resources to be successful at St. Olaf.
URL:https://wp.stolaf.edu/calendar/event/soar-session-2/2025-11-06/
CATEGORIES:Meetings/Workshops
ORGANIZER;CN="SOAR":MAILTO:hupton1@stolaf.edu
END:VEVENT
BEGIN:VEVENT
DTSTART;TZID=America/Chicago:20251016T113000
DTEND;TZID=America/Chicago:20251016T123000
DTSTAMP:20260420T150538
CREATED:20250624T180740Z
LAST-MODIFIED:20250624T180740Z
UID:10033854-1760614200-1760617800@wp.stolaf.edu
SUMMARY:SOAR Session
DESCRIPTION:All first-year students attend their peer-led St. Olaf Orientation to Academics and Resources (SOAR) Session.  SOAR provides an extended orientation for students throughout their first year to intentionally foster peer connections and equip them with the knowledge\, skills\, and resources to be successful at St. Olaf.
URL:https://wp.stolaf.edu/calendar/event/soar-session-2/2025-10-16/
CATEGORIES:Meetings/Workshops
ORGANIZER;CN="SOAR":MAILTO:hupton1@stolaf.edu
END:VEVENT
BEGIN:VEVENT
DTSTART;TZID=America/Chicago:20250925T113000
DTEND;TZID=America/Chicago:20250925T123000
DTSTAMP:20260420T150538
CREATED:20250624T180740Z
LAST-MODIFIED:20250624T180740Z
UID:10033853-1758799800-1758803400@wp.stolaf.edu
SUMMARY:SOAR Session
DESCRIPTION:All first-year students attend their peer-led St. Olaf Orientation to Academics and Resources (SOAR) Session.  SOAR provides an extended orientation for students throughout their first year to intentionally foster peer connections and equip them with the knowledge\, skills\, and resources to be successful at St. Olaf.
URL:https://wp.stolaf.edu/calendar/event/soar-session-2/2025-09-25/
CATEGORIES:Meetings/Workshops
ORGANIZER;CN="SOAR":MAILTO:hupton1@stolaf.edu
END:VEVENT
BEGIN:VEVENT
DTSTART;TZID=America/Chicago:20250911T113000
DTEND;TZID=America/Chicago:20250911T123000
DTSTAMP:20260420T150538
CREATED:20250624T180740Z
LAST-MODIFIED:20250624T180740Z
UID:10033852-1757590200-1757593800@wp.stolaf.edu
SUMMARY:SOAR Session
DESCRIPTION:All first-year students attend their peer-led St. Olaf Orientation to Academics and Resources (SOAR) Session.  SOAR provides an extended orientation for students throughout their first year to intentionally foster peer connections and equip them with the knowledge\, skills\, and resources to be successful at St. Olaf.
URL:https://wp.stolaf.edu/calendar/event/soar-session-2/2025-09-11/
CATEGORIES:Meetings/Workshops
ORGANIZER;CN="SOAR":MAILTO:hupton1@stolaf.edu
END:VEVENT
END:VCALENDAR