BEGIN:VCALENDAR
VERSION:2.0
PRODID:-//Calendar - ECPv6.15.20//NONSGML v1.0//EN
CALSCALE:GREGORIAN
METHOD:PUBLISH
X-ORIGINAL-URL:https://wp.stolaf.edu/calendar
X-WR-CALDESC:Events for Calendar
REFRESH-INTERVAL;VALUE=DURATION:PT1H
X-Robots-Tag:noindex
X-PUBLISHED-TTL:PT1H
BEGIN:VTIMEZONE
TZID:America/Chicago
BEGIN:DAYLIGHT
TZOFFSETFROM:-0600
TZOFFSETTO:-0500
TZNAME:CDT
DTSTART:20240310T080000
END:DAYLIGHT
BEGIN:STANDARD
TZOFFSETFROM:-0500
TZOFFSETTO:-0600
TZNAME:CST
DTSTART:20241103T070000
END:STANDARD
BEGIN:DAYLIGHT
TZOFFSETFROM:-0600
TZOFFSETTO:-0500
TZNAME:CDT
DTSTART:20250309T080000
END:DAYLIGHT
BEGIN:STANDARD
TZOFFSETFROM:-0500
TZOFFSETTO:-0600
TZNAME:CST
DTSTART:20251102T070000
END:STANDARD
BEGIN:DAYLIGHT
TZOFFSETFROM:-0600
TZOFFSETTO:-0500
TZNAME:CDT
DTSTART:20260308T080000
END:DAYLIGHT
BEGIN:STANDARD
TZOFFSETFROM:-0500
TZOFFSETTO:-0600
TZNAME:CST
DTSTART:20261101T070000
END:STANDARD
BEGIN:DAYLIGHT
TZOFFSETFROM:-0600
TZOFFSETTO:-0500
TZNAME:CDT
DTSTART:20270314T080000
END:DAYLIGHT
BEGIN:STANDARD
TZOFFSETFROM:-0500
TZOFFSETTO:-0600
TZNAME:CST
DTSTART:20271107T070000
END:STANDARD
END:VTIMEZONE
BEGIN:VEVENT
DTSTART;TZID=America/Chicago:20260319T113000
DTEND;TZID=America/Chicago:20260319T123000
DTSTAMP:20260422T150727
CREATED:20260217T210019Z
LAST-MODIFIED:20260217T210019Z
UID:10037036-1773919800-1773923400@wp.stolaf.edu
SUMMARY:Out For Lunch: Women's History Month
DESCRIPTION:Join us for a lunch time event during Women’s History Month to recognize and highlight the role and contribution of  LGBTQIA+ people in our society and our local community.
URL:https://wp.stolaf.edu/calendar/event/out-for-lunch-womens-history-month/
CATEGORIES:Multicultural
ORGANIZER;CN="Taylor Center for Equity and Inclusion":MAILTO:taylorcenter@stolaf.edu
LOCATION:BC 111 – Taylor Center Lounge
END:VEVENT
BEGIN:VEVENT
DTSTART;TZID=America/Chicago:20260226T180000
DTEND;TZID=America/Chicago:20260226T190000
DTSTAMP:20260422T150727
CREATED:20260219T224829Z
LAST-MODIFIED:20260220T152205Z
UID:10037308-1772128800-1772132400@wp.stolaf.edu
SUMMARY:Taylor Center Community Time
DESCRIPTION:Join the Taylor Center in a relaxing space for community-building and painting.
URL:https://wp.stolaf.edu/calendar/event/taylor-center-community-time/
CATEGORIES:Multicultural
ORGANIZER;CN="Taylor Center for Equity and Inclusion":MAILTO:taylorcenter@stolaf.edu
LOCATION:BC 111 – Taylor Center Lounge
END:VEVENT
BEGIN:VEVENT
DTSTART;TZID=America/Chicago:20260224T160000
DTEND;TZID=America/Chicago:20260224T170000
DTSTAMP:20260422T150727
CREATED:20260212T222034Z
LAST-MODIFIED:20260220T151411Z
UID:10037210-1771948800-1771952400@wp.stolaf.edu
SUMMARY:Staying Rooted: Embodied Practices for Uncertain Times
DESCRIPTION:The St. Olaf community is welcome to attend “Staying Rooted: Embodied Practices for Uncertain Times”\, led by Jamil Stamschror-Lott\, mental health therapist and owner of Creative Kuponya in the South Minneapolis community and a 2024 Bush Foundation Fellow. This workshop explores how to navigate constant change without losing your values\, face challenges with integrity\, and build mental\, emotional\, and social resources through collective care. Through practical tools and guided reflection\, we’ll examine what it means to sustain ourselves\, and our communities\, during difficult times.
URL:https://wp.stolaf.edu/calendar/event/staying-rooted-embodied-practices-for-uncertain-times/
CATEGORIES:Black History Month,Special Events/Celebrations
ORGANIZER;CN="Taylor Center for Equity and Inclusion":MAILTO:taylorcenter@stolaf.edu
LOCATION:Buntrock Commons Viking Theater
GEO:44.4582983;-93.161604
END:VEVENT
BEGIN:VEVENT
DTSTART;TZID=America/Chicago:20260223T110000
DTEND;TZID=America/Chicago:20260223T140000
DTSTAMP:20260422T150727
CREATED:20260220T175411Z
LAST-MODIFIED:20260220T175547Z
UID:10037279-1771844400-1771855200@wp.stolaf.edu
SUMMARY:Wellness Center Workshop: Fruit Flavors of the World
DESCRIPTION:Join the Wellness and Taylor Centers for fruit tasting with flavors from around the world! This event is a part of Wellness Week.
URL:https://wp.stolaf.edu/calendar/event/fruit-flavors-of-the-world/
CATEGORIES:Multicultural
ORGANIZER;CN="Taylor Center for Equity and Inclusion":MAILTO:taylorcenter@stolaf.edu
LOCATION:BC Crossroads
END:VEVENT
BEGIN:VEVENT
DTSTART;TZID=America/Chicago:20260220T170000
DTEND;TZID=America/Chicago:20260220T200000
DTSTAMP:20260422T150727
CREATED:20260203T153236Z
LAST-MODIFIED:20260203T153236Z
UID:10037038-1771606800-1771617600@wp.stolaf.edu
SUMMARY:2026 Lunar New Year Celebration
DESCRIPTION:Come join the college’s annual Lunar New Year celebration\, hosted by St. Olaf’s multicultural Asian student organizations! \nEnjoy a beautiful\, creative\, and exciting night in The Lion’s Pause for Lunar New Year 2026. Many of your favorite multicultural student organizations will be dancing\, singing\, and performing on stage to celebrate the incoming Year of the Horse. Doors open at 5 p.m.\, show starts at 6 p.m.
URL:https://wp.stolaf.edu/calendar/event/2026-lunar-new-year-celebration/
CATEGORIES:Multicultural,Special Events/Celebrations
ORGANIZER;CN="Taylor Center for Equity and Inclusion":MAILTO:taylorcenter@stolaf.edu
LOCATION:Lion’s Pause Mane Stage
END:VEVENT
BEGIN:VEVENT
DTSTART;TZID=America/Chicago:20260209T170000
DTEND;TZID=America/Chicago:20260209T190000
DTSTAMP:20260422T150727
CREATED:20260203T152939Z
LAST-MODIFIED:20260204T154551Z
UID:10037100-1770656400-1770663600@wp.stolaf.edu
SUMMARY:2026  Black History Month Celebration: Soul Bowl Community Gathering
DESCRIPTION:All are welcome to attend the Community Gathering event to kick-off the 2026 Black History Month Celebration! \nFood will be provided for those who RSVP HERE!
URL:https://wp.stolaf.edu/calendar/event/2026-black-history-month-celebration-soul-bowl-community-gathering/
CATEGORIES:Black History Month
ORGANIZER;CN="Taylor Center for Equity and Inclusion":MAILTO:taylorcenter@stolaf.edu
LOCATION:Ytterboe Hall\, Lower Lounge\, 1631 Campus Dr\, Northfield MN\, 55057\, Northfield\, MN\, United States
GEO:44.4617321;-93.1884854
X-APPLE-STRUCTURED-LOCATION;VALUE=URI;X-ADDRESS=Ytterboe Hall Lower Lounge 1631 Campus Dr Northfield MN 55057 Northfield MN United States;X-APPLE-RADIUS=500;X-TITLE=1631 Campus Dr\, Northfield MN\, 55057:geo:-93.1884854,44.4617321
END:VEVENT
BEGIN:VEVENT
DTSTART;TZID=America/Chicago:20260122T160000
DTEND;TZID=America/Chicago:20260122T210000
DTSTAMP:20260422T150727
CREATED:20251223T225346Z
LAST-MODIFIED:20251223T225346Z
UID:10036810-1769097600-1769115600@wp.stolaf.edu
SUMMARY:Keynote with Bettina Love
DESCRIPTION:In this keynote\, participants will uncover lesser-known stories of influential figures like Dr. Martin Luther King Jr.\, Coretta Scott King\, Bayard Rustin\, and Mahalia Jackson – highlighting the pivotal roles of women and queer individuals in the civil rights movement. Moving beyond the iconic “I Have a Dream” speech\, this presentation reveals how intersectionality shaped the movement for social justice. Love will explore organizing principles such as community building and collective action\, offering strategies for teaching a richer\, more inclusive Black history. By highlighting overlooked figures and contributions\, this session expands Dr. King’s legacy and provides actionable insights for educators and leaders to promote social justice and equality today.
URL:https://wp.stolaf.edu/calendar/event/keynote-with-bettina-love/
CATEGORIES:Multicultural
ORGANIZER;CN="Taylor Center for Equity and Inclusion":MAILTO:taylorcenter@stolaf.edu
LOCATION:Macalaster College Saint Paul Minnesota
END:VEVENT
BEGIN:VEVENT
DTSTART;TZID=America/Chicago:20260120T163000
DTEND;TZID=America/Chicago:20260120T180000
DTSTAMP:20260422T150727
CREATED:20251223T221951Z
LAST-MODIFIED:20260107T175103Z
UID:10036809-1768926600-1768932000@wp.stolaf.edu
SUMMARY:Martin Luther King Dinner: Food Justice
DESCRIPTION:A panel discussion on food justice will take place on January 20 at 4:30 p.m. in the King’s Dining Room in Buntrock Commons. The event will feature panelists J. DeVon Nolen\, Reginaldo Haslett-Marroquin\, and a representative from Sharing Our Roots. Dinner will be provided by Bon Appétit. RSVP here. \nJ. DeVon Nolen – Nolen serves as a Community Engagement Consultant for Minneapolis Climate Action\, bringing 27 years of experience in effective community engagement. As a member of the founding cohort for the Environmental Justice Coordinating Council (EJCC) with the Public Policy Project\, Nolen quickly learned what it meant to live\, work\, play and worship in an environmentally overburdened community. Nolen’s work is about closing the gap in access to information and understanding where residents can be a part of change for the future. Nolan is excited to be a bridge for transformational change that guides people to become green\, sustainable and self- reliant communities. \nReginaldo Haslett-Marroquin – Haslett-Marroquin\, founder of the Regenerative Agriculture Alliance and author of In the Shadow of Green Man\, leads the movement for developing innovative poultry-centered regenerative agriculture systems around the world. When he teaches\, he is building the Salvatierra Farm in Minneapolis\, which focuses on the development of multi-level strategies for building triple bottom-line regenerative food and agriculture systems. He currently oversees system implementation in the United States\, Mexico\, Guatemala\, and Colombia. He graduated from the Central National School of Agriculture\, and studied at the Universidad de San Carlos in Guatemala. He is also a graduate of Augsburg College in Minneapolis. \nSharing Our Roots – This organization works at the intersection of land justice\, food security\, and conservation. Sharing Our Roots envisions a world where food and agriculture systems are profitable for farmers\, fair to workers\, beneficial to consumer health\, restorative for rural communities\, and regenerative for the environment. On 100+ acres of previously degraded farmland in Dakota County\, immigrant\, BIPOC\, LGBTQ+\, and emerging farmers and community gardeners work together to produce nourishing food and restore ecosystem health.
URL:https://wp.stolaf.edu/calendar/event/martin-luther-king-dinner-food-justice/
CATEGORIES:Multicultural
ORGANIZER;CN="Taylor Center for Equity and Inclusion":MAILTO:taylorcenter@stolaf.edu
LOCATION:BC 211 (Valhalla Ballroom)
END:VEVENT
BEGIN:VEVENT
DTSTART;TZID=America/Chicago:20260119T060000
DTEND;TZID=America/Chicago:20260119T120000
DTSTAMP:20260422T150727
CREATED:20251223T221729Z
LAST-MODIFIED:20251223T221729Z
UID:10036808-1768802400-1768824000@wp.stolaf.edu
SUMMARY:Martin Luther King Holiday Breakfast
DESCRIPTION:The annual Dr. Martin Luther King Jr. Holiday Breakfast began in 1991\, when the Twin Cities United Negro College Fund (UNCF) and General Mills joined forces to host a celebration honoring the legacy of Dr. Martin Luther King Jr. and inspiring individuals to live out Dr. King’s message of unity in their communities and beyond. This year’s event will feature keynote addresses from Soledad O’Brien and Freeman A. Hrabowski III. Taylor Center will be providing tickets and transportation for our community members\, students\, faculty\, and staff to attend.
URL:https://wp.stolaf.edu/calendar/event/martin-luther-king-holiday-breakfast/
CATEGORIES:Multicultural
ORGANIZER;CN="Taylor Center for Equity and Inclusion":MAILTO:taylorcenter@stolaf.edu
END:VEVENT
BEGIN:VEVENT
DTSTART;TZID=America/Chicago:20251122T180000
DTEND;TZID=America/Chicago:20251122T200000
DTSTAMP:20260422T150727
CREATED:20251114T163315Z
LAST-MODIFIED:20251118T162759Z
UID:10036354-1763834400-1763841600@wp.stolaf.edu
SUMMARY:Omkara 2025
DESCRIPTION:The St. Olaf Community and guests are welcome to attend Omkara 2025. Omkara is the annual South Asian celebration organized by Celebrate South Asia! (CSA!) featuring vibrant performances\, music\, and much more. \nJoin CSA! for a night of culture\, community\, and joy!
URL:https://wp.stolaf.edu/calendar/event/omkara-2025/
CATEGORIES:Multicultural,Special Events/Celebrations
ORGANIZER;CN="Celebrate South Asia!":MAILTO:satish1@stolaf.edu
LOCATION:BC031 the Pause main Stage
END:VEVENT
BEGIN:VEVENT
DTSTART;TZID=America/Chicago:20251107T160000
DTEND;TZID=America/Chicago:20251107T170000
DTSTAMP:20260422T150727
CREATED:20251104T181824Z
LAST-MODIFIED:20251104T181824Z
UID:10036199-1762531200-1762534800@wp.stolaf.edu
SUMMARY:Taylor Center Coffee Hour: Food Crossing Cultures
DESCRIPTION:The Taylor Center Coffee Hour events are small group conversations for St. Olaf Students hosted by Taylor Center Program Assistants that creates opportunities for collaborative dialogues around issues that impact the lives of Oles on areas of culture\, identity and success\, and student wellbeing. \nWe provide the space\, coffee/tea\, and pastries for students of all backgrounds to meet new people and engage in meaningful conversations.
URL:https://wp.stolaf.edu/calendar/event/taylor-center-coffee-hour-food-crossing-cultures/
CATEGORIES:Multicultural
ORGANIZER;CN="Taylor Center for Equity and Inclusion":MAILTO:taylorcenter@stolaf.edu
LOCATION:BC111 – Taylor Center Lounge
END:VEVENT
BEGIN:VEVENT
DTSTART;TZID=America/Chicago:20251106T110000
DTEND;TZID=America/Chicago:20251106T130000
DTSTAMP:20260422T150727
CREATED:20251024T213539Z
LAST-MODIFIED:20251102T151932Z
UID:10036025-1762426800-1762434000@wp.stolaf.edu
SUMMARY:First-Gen College Celebration in the Taylor Center
DESCRIPTION:Join us at the Taylor Center to celebrate First-Gen pride! Enjoy donuts\, tote bags\, fun photo ops\, and a chance to thank those who’ve inspired your journey.
URL:https://wp.stolaf.edu/calendar/event/first-gen-college-celebration-in-the-taylor-center/
CATEGORIES:Special Events/Celebrations
ORGANIZER;CN="Taylor Center for Equity and Inclusion":MAILTO:taylorcenter@stolaf.edu
END:VEVENT
BEGIN:VEVENT
DTSTART;TZID=America/Chicago:20251101T180000
DTEND;TZID=America/Chicago:20251101T200000
DTSTAMP:20260422T150727
CREATED:20251024T212042Z
LAST-MODIFIED:20251024T212042Z
UID:10036035-1762020000-1762027200@wp.stolaf.edu
SUMMARY:Día De Los Muertos/Day of the Dead Celebration
DESCRIPTION:The St. Olaf Community is invited to attend the 2025 Día de Los Muertos / Day of the Dead Celebration hosted by The Taylor Center\, ¡PRESENTE! and SOMOS. \nFrom the end of October until November 2\, Día de Muertos is a widely observed tradition among individuals of Mexican and Latin American ancestry. By creating ofrendas (altars)\, sharing special food and gathering for lively reunions this celebration honor those who have passed. \nOctober 25 – November 2: Boe Hallway Display (all day) \nNovember 1 : Altar set up & Gathering (6 pm) \n 
URL:https://wp.stolaf.edu/calendar/event/dia-de-los-muertos-day-of-the-dead-celebration/
CATEGORIES:Special Events/Celebrations
ORGANIZER;CN="Taylor Center for Equity and Inclusion":MAILTO:taylorcenter@stolaf.edu
LOCATION:BC 111 – Taylor Center Lounge
END:VEVENT
BEGIN:VEVENT
DTSTART;TZID=America/Chicago:20251023T160000
DTEND;TZID=America/Chicago:20251023T180000
DTSTAMP:20260422T150727
CREATED:20250909T133732Z
LAST-MODIFIED:20250910T163847Z
UID:10035072-1761235200-1761242400@wp.stolaf.edu
SUMMARY:4th Annual Grose LGBTQIA+ Lecture
DESCRIPTION:The St. Olaf community and public are welcome to attend the fourth annual Grose LGBTQIA+ Lecture\, hosted by the Taylor Center for Equity and Inclusion. Featuring a multi-religious panel\, this series strives to highlight the religious diversity present in the lives of LGBTQIA+ people on campus and in the world\, building on St. Olaf’s “rooted and open” Lutheran tradition. \nThe schedule of events includes: \n\n4-4:30 p.m. Reception in Viking Theater Lobby\n4:30-5:45 p.m. Keynote Lecture from Reverend Hierald Osorto\, followed by a conversation with specially invited guests Bishop Jen Nagel\, Ameera Khan\, Rabbi Michaela Brown\, and Reverend Peter Schattauer.\n5:45-6 p.m. Closing
URL:https://wp.stolaf.edu/calendar/event/4th-annual-grose-lgbtqia-lecture/
CATEGORIES:Speakers/Lectures
ORGANIZER;CN="College Events":MAILTO:events@stolaf.edu
LOCATION:Buntrock Commons\, Viking Theater
END:VEVENT
BEGIN:VEVENT
DTSTART;TZID=America/Chicago:20251013T183000
DTEND;TZID=America/Chicago:20251013T190000
DTSTAMP:20260422T150727
CREATED:20251006T195131Z
LAST-MODIFIED:20251006T195153Z
UID:10035720-1760380200-1760382000@wp.stolaf.edu
SUMMARY:Indigenous Peoples' Day Campus Blessing
DESCRIPTION:Visiting Assistant Professor of Religion Kelly Sherman-Conroy will host a blessing of the land in front of Boe Memorial Chapel. This will be followed by a prayer\, drumming\, and words for and from other Indigenous staff and students. All are welcome to attend.
URL:https://wp.stolaf.edu/calendar/event/indigenous-peoples-day-campus-blessing/
CATEGORIES:Multicultural,Special Events/Celebrations
ORGANIZER;CN="Taylor Center for Equity and Inclusion":MAILTO:taylorcenter@stolaf.edu
LOCATION:Boe Chapel Plaza
END:VEVENT
BEGIN:VEVENT
DTSTART;TZID=America/Chicago:20251013T130000
DTEND;TZID=America/Chicago:20251013T150000
DTSTAMP:20260422T150727
CREATED:20250924T195744Z
LAST-MODIFIED:20250924T195754Z
UID:10035491-1760360400-1760367600@wp.stolaf.edu
SUMMARY:Campus Celebration of National Coming Out Day
DESCRIPTION:The campus community is invited to celebrate National Coming Out Day with cake\, drinks\, and a brief program in Buntrock Commons Crossroads on Monday\, October 13\, starting at 1 p.m.\, with remarks beginning at 1:30 p.m. The 2025 National Coming Out Day is celebrated on Saturday\, October 11. \nStudents who have registered to receive a Pride @ St. Olaf T-shirt can also pick-up their shirt at this event between 1 p.m.- 3 p.m.
URL:https://wp.stolaf.edu/calendar/event/campus-celebration-of-national-coming-out-day/
CATEGORIES:Multicultural
ORGANIZER;CN="Taylor Center for Equity and Inclusion":MAILTO:taylorcenter@stolaf.edu
END:VEVENT
BEGIN:VEVENT
DTSTART;TZID=America/Chicago:20251010T193000
DTEND;TZID=America/Chicago:20251010T210000
DTSTAMP:20260422T150727
CREATED:20250924T131227Z
LAST-MODIFIED:20250924T131227Z
UID:10035525-1760124600-1760130000@wp.stolaf.edu
SUMMARY:Raíces: A Latin-American Music Celebration
DESCRIPTION:*Hispanic Heritage Month Event* \nRaíces is a concert that celebrates the richness\, diversity\, and beauty of Latin American music. \nThis concert\, part of the campus Hispanic Heritage Month celebration\, is free and open to all. Performances will feature music from across the continent\, with talented campus musicians and special guests: Maja Radovanlija (guitar) and Jared Mikach ‘17 (piano). \nRaíces is a musical initiative of Moisés Duarte ’26 presented in collaboration with the Taylor Center\, the Spanish Program\, the Northfield Public Library\, ¡PRESENTE!\, and SOMOS.
URL:https://wp.stolaf.edu/calendar/event/raices-a-latin-american-music-celebration/
CATEGORIES:Special Events/Celebrations
ORGANIZER;CN="Taylor Center for Equity and Inclusion":MAILTO:taylorcenter@stolaf.edu
LOCATION:Christiansen Hall of Music 100 Urness Recital Hall
GEO:44.4582983;-93.161604
END:VEVENT
BEGIN:VEVENT
DTSTART;TZID=America/Chicago:20251002T113000
DTEND;TZID=America/Chicago:20251002T123000
DTSTAMP:20260422T150727
CREATED:20250924T194230Z
LAST-MODIFIED:20250924T194230Z
UID:10035490-1759404600-1759408200@wp.stolaf.edu
SUMMARY:Out For Lunch Monthly Series
DESCRIPTION:Out For Lunch Monthly Series: A conversation about gender and sexuality resources and programs on campus for students– RSVP HERE \nFall 2025 “Out For Lunch” kick-off Celebrates LGBTQIA+ History Month with  a conversation about fostering a vibrant campus community life for all students. Damian Waite of the Taylor Center and Andrea Marshall\, Director of the Wellness Center\, will engage in a timely dialogue as we start a new school year about campus gender and sexuality resources and programs available for students and how we all can help to foster a caring community this school year. All are invited to attend. \nLunch is available for participants who have registered for the event.
URL:https://wp.stolaf.edu/calendar/event/out-for-lunch-monthly-series/
CATEGORIES:Multicultural
ORGANIZER;CN="Taylor Center for Equity and Inclusion":MAILTO:taylorcenter@stolaf.edu
LOCATION:Regents Natural Sciences Room 356-B
END:VEVENT
BEGIN:VEVENT
DTSTART;TZID=America/Chicago:20251001T180000
DTEND;TZID=America/Chicago:20251001T193000
DTSTAMP:20260422T150727
CREATED:20250924T193351Z
LAST-MODIFIED:20250928T200349Z
UID:10035489-1759341600-1759347000@wp.stolaf.edu
SUMMARY:St. Olaf Celebrates LGBTQIA+ History Month
DESCRIPTION:The St. Olaf community celebrates LGBTQIA+ History Month.  Join us for a trivia and game night kick-off event on October 1 at 6 p.m. in Valhalla Room in Buntrock Commons. This event is sponsored by Gender and Sexuality Studies\, Northfield Pride\, and The Taylor Center. \nTrivia and Games Night MC: \nIntroducing your NB trivia MC\, Jae/Jem\, pronouns they/them!  Jae/Jem is a regular trivia host at the Ole Store Restaurant on Tuesday nights and a local crafty king.  Jae is a Gemini and can often be spotted in their natural habitat of any of our local coffee shops or lollygagging about the trees. \nFrom Jae/Jem about trivia night topic: To kick off LGBT+ history month we will be exploring some of the people\, places\, and movements that have shaped our history!  The late & the great Maya Angelou said\, “The more you know of your history\, the more liberated you are.” So let’s test our knowledge of our history\, and participate in collective joy & liberation!
URL:https://wp.stolaf.edu/calendar/event/st-olaf-celebrates-lgbtqia-history-month-2/
CATEGORIES:Multicultural
ORGANIZER;CN="Northfield Pride":MAILTO:waite1@stolaf.edu
LOCATION:BC 211 (Valhalla Ballroom)
END:VEVENT
BEGIN:VEVENT
DTSTART;TZID=America/Chicago:20250915T170000
DTEND;TZID=America/Chicago:20250915T200000
DTSTAMP:20260422T150727
CREATED:20250903T205029Z
LAST-MODIFIED:20250904T150816Z
UID:10034952-1757955600-1757966400@wp.stolaf.edu
SUMMARY:Hispanic Heritage Month Event
DESCRIPTION:The campus community is invited to a Hispanic Heritage Month event on Mellby Lawn at 5 p.m. A troupe of Aztec Dancers will perform at 6 p.m. Delicious Pupusas will be serving pupusas at this time.
URL:https://wp.stolaf.edu/calendar/event/hispanic-heritage-month-event/
CATEGORIES:Multicultural
ORGANIZER;CN="Taylor Center for Equity and Inclusion":MAILTO:taylorcenter@stolaf.edu
END:VEVENT
END:VCALENDAR