BEGIN:VCALENDAR
VERSION:2.0
PRODID:-//Calendar - ECPv6.15.20//NONSGML v1.0//EN
CALSCALE:GREGORIAN
METHOD:PUBLISH
X-WR-CALNAME:Calendar
X-ORIGINAL-URL:https://wp.stolaf.edu/calendar
X-WR-CALDESC:Events for Calendar
REFRESH-INTERVAL;VALUE=DURATION:PT1H
X-Robots-Tag:noindex
X-PUBLISHED-TTL:PT1H
BEGIN:VTIMEZONE
TZID:America/Chicago
BEGIN:DAYLIGHT
TZOFFSETFROM:-0600
TZOFFSETTO:-0500
TZNAME:CDT
DTSTART:20240310T080000
END:DAYLIGHT
BEGIN:STANDARD
TZOFFSETFROM:-0500
TZOFFSETTO:-0600
TZNAME:CST
DTSTART:20241103T070000
END:STANDARD
BEGIN:DAYLIGHT
TZOFFSETFROM:-0600
TZOFFSETTO:-0500
TZNAME:CDT
DTSTART:20250309T080000
END:DAYLIGHT
BEGIN:STANDARD
TZOFFSETFROM:-0500
TZOFFSETTO:-0600
TZNAME:CST
DTSTART:20251102T070000
END:STANDARD
BEGIN:DAYLIGHT
TZOFFSETFROM:-0600
TZOFFSETTO:-0500
TZNAME:CDT
DTSTART:20260308T080000
END:DAYLIGHT
BEGIN:STANDARD
TZOFFSETFROM:-0500
TZOFFSETTO:-0600
TZNAME:CST
DTSTART:20261101T070000
END:STANDARD
END:VTIMEZONE
BEGIN:VEVENT
DTSTART;TZID=America/Chicago:20250426T153000
DTEND;TZID=America/Chicago:20250426T183000
DTSTAMP:20260421T073834
CREATED:20250107T104019Z
LAST-MODIFIED:20250426T172651Z
UID:10032472-1745681400-1745692200@wp.stolaf.edu
SUMMARY:Baseball at Bethel University
DESCRIPTION:Baseball at Bethel University\nStreaming Video: https://miacsportsnetwork.com/bethelmn/
URL:https://wp.stolaf.edu/calendar/event/baseball-at-bethel-university-2/
CATEGORIES:Athletics
LOCATION:Arden Hills\, Minn. / Hargis Park
END:VEVENT
BEGIN:VEVENT
DTSTART;TZID=America/Chicago:20250426T130000
DTEND;TZID=America/Chicago:20250426T160000
DTSTAMP:20260421T073834
CREATED:20250107T104019Z
LAST-MODIFIED:20250426T172651Z
UID:10032471-1745672400-1745683200@wp.stolaf.edu
SUMMARY:Baseball at Bethel University
DESCRIPTION:Baseball at Bethel University\nStreaming Video: https://miacsportsnetwork.com/bethelmn/
URL:https://wp.stolaf.edu/calendar/event/baseball-at-bethel-university/
CATEGORIES:Athletics
LOCATION:Arden Hills\, Minn. / Hargis Park
END:VEVENT
END:VCALENDAR