BEGIN:VCALENDAR
VERSION:2.0
PRODID:-//Calendar - ECPv6.15.20//NONSGML v1.0//EN
CALSCALE:GREGORIAN
METHOD:PUBLISH
X-ORIGINAL-URL:https://wp.stolaf.edu/calendar
X-WR-CALDESC:Events for Calendar
REFRESH-INTERVAL;VALUE=DURATION:PT1H
X-Robots-Tag:noindex
X-PUBLISHED-TTL:PT1H
BEGIN:VTIMEZONE
TZID:America/Chicago
BEGIN:DAYLIGHT
TZOFFSETFROM:-0600
TZOFFSETTO:-0500
TZNAME:CDT
DTSTART:20250309T080000
END:DAYLIGHT
BEGIN:STANDARD
TZOFFSETFROM:-0500
TZOFFSETTO:-0600
TZNAME:CST
DTSTART:20251102T070000
END:STANDARD
BEGIN:DAYLIGHT
TZOFFSETFROM:-0600
TZOFFSETTO:-0500
TZNAME:CDT
DTSTART:20260308T080000
END:DAYLIGHT
BEGIN:STANDARD
TZOFFSETFROM:-0500
TZOFFSETTO:-0600
TZNAME:CST
DTSTART:20261101T070000
END:STANDARD
BEGIN:DAYLIGHT
TZOFFSETFROM:-0600
TZOFFSETTO:-0500
TZNAME:CDT
DTSTART:20270314T080000
END:DAYLIGHT
BEGIN:STANDARD
TZOFFSETFROM:-0500
TZOFFSETTO:-0600
TZNAME:CST
DTSTART:20271107T070000
END:STANDARD
END:VTIMEZONE
BEGIN:VEVENT
DTSTART;TZID=America/Chicago:20260523T090000
DTEND;TZID=America/Chicago:20260523T120000
DTSTAMP:20260420T150642
CREATED:20251217T191024Z
LAST-MODIFIED:20251217T191024Z
UID:10036758-1779526800-1779537600@wp.stolaf.edu
SUMMARY:Commencement Weekend: Saturday Brunch
DESCRIPTION:Buntrock Commons\, Stav Hall\, 9 a.m. – 12 p.m. \nEnjoy brunch with family\, friends\, and students. Tickets may be purchased through the online registration process. There is no charge for graduating seniors or current students with an active meal plan. If your current student (non-senior) is planning to attend this brunch and is not under an active meal plan\, please select “Adult” when registering this student for brunch online.
URL:https://wp.stolaf.edu/calendar/event/commencement-weekend-saturday-brunch/
CATEGORIES:Special Events/Celebrations
ORGANIZER;CN="College Events":MAILTO:events@stolaf.edu
LOCATION:Buntrock Commons in front of Stav Hall
GEO:44.4582983;-93.161604
END:VEVENT
END:VCALENDAR