BEGIN:VCALENDAR
VERSION:2.0
PRODID:-//Calendar - ECPv6.15.20//NONSGML v1.0//EN
CALSCALE:GREGORIAN
METHOD:PUBLISH
X-WR-CALNAME:Calendar
X-ORIGINAL-URL:https://wp.stolaf.edu/calendar
X-WR-CALDESC:Events for Calendar
REFRESH-INTERVAL;VALUE=DURATION:PT1H
X-Robots-Tag:noindex
X-PUBLISHED-TTL:PT1H
BEGIN:VTIMEZONE
TZID:America/Chicago
BEGIN:DAYLIGHT
TZOFFSETFROM:-0600
TZOFFSETTO:-0500
TZNAME:CDT
DTSTART:20250309T080000
END:DAYLIGHT
BEGIN:STANDARD
TZOFFSETFROM:-0500
TZOFFSETTO:-0600
TZNAME:CST
DTSTART:20251102T070000
END:STANDARD
BEGIN:DAYLIGHT
TZOFFSETFROM:-0600
TZOFFSETTO:-0500
TZNAME:CDT
DTSTART:20260308T080000
END:DAYLIGHT
BEGIN:STANDARD
TZOFFSETFROM:-0500
TZOFFSETTO:-0600
TZNAME:CST
DTSTART:20261101T070000
END:STANDARD
BEGIN:DAYLIGHT
TZOFFSETFROM:-0600
TZOFFSETTO:-0500
TZNAME:CDT
DTSTART:20270314T080000
END:DAYLIGHT
BEGIN:STANDARD
TZOFFSETFROM:-0500
TZOFFSETTO:-0600
TZNAME:CST
DTSTART:20271107T070000
END:STANDARD
END:VTIMEZONE
BEGIN:VEVENT
DTSTART;TZID=America/Chicago:20260501T193000
DTEND;TZID=America/Chicago:20260501T210000
DTSTAMP:20260421T182859
CREATED:20260414T161116Z
LAST-MODIFIED:20260414T161116Z
UID:10037698-1777663800-1777669200@wp.stolaf.edu
SUMMARY:Performance: St. Olaf Jazz Orchestra
DESCRIPTION:The St. Olaf Jazz Orchestra\, directed by Associate Professor of Music Joseph L. Jefferson\, performs in their spring concert “Breath Away” as part of the 3rd Annual Jazz Residency\, featuring jazz pianist Willerm Delisfort. Delisfort is a versatile pianist\, composer\, and educator known for his dynamic performances and deep roots in the jazz tradition. This event is free and open to the public.
URL:https://wp.stolaf.edu/calendar/event/performance-st-olaf-jazz-orchestra/
CATEGORIES:Music
ORGANIZER;CN="Music Department":MAILTO:barth@stolaf.edu
LOCATION:Lions Pause
END:VEVENT
BEGIN:VEVENT
DTSTART;TZID=America/Chicago:20260503T153000
DTEND;TZID=America/Chicago:20260503T170000
DTSTAMP:20260421T182859
CREATED:20260414T161209Z
LAST-MODIFIED:20260414T161209Z
UID:10037699-1777822200-1777827600@wp.stolaf.edu
SUMMARY:Performance: St. Olaf Jazz Ensemble and Combos
DESCRIPTION:The St. Olaf Jazz Ensemble and Combos\, directed by Associate Professor of Music Joseph L. Jefferson and Instructor of Music Pete Whitman\, present their spring concert. This event is free and open to the public.
URL:https://wp.stolaf.edu/calendar/event/performance-st-olaf-jazz-ensemble-and-combos/
CATEGORIES:Music
ORGANIZER;CN="Music Department":MAILTO:barth@stolaf.edu
LOCATION:Lions Pause
END:VEVENT
END:VCALENDAR