BEGIN:VCALENDAR
VERSION:2.0
PRODID:-//Calendar - ECPv6.15.20//NONSGML v1.0//EN
CALSCALE:GREGORIAN
METHOD:PUBLISH
X-ORIGINAL-URL:https://wp.stolaf.edu/calendar
X-WR-CALDESC:Events for Calendar
REFRESH-INTERVAL;VALUE=DURATION:PT1H
X-Robots-Tag:noindex
X-PUBLISHED-TTL:PT1H
BEGIN:VTIMEZONE
TZID:America/Chicago
BEGIN:DAYLIGHT
TZOFFSETFROM:-0600
TZOFFSETTO:-0500
TZNAME:CDT
DTSTART:20250309T080000
END:DAYLIGHT
BEGIN:STANDARD
TZOFFSETFROM:-0500
TZOFFSETTO:-0600
TZNAME:CST
DTSTART:20251102T070000
END:STANDARD
BEGIN:DAYLIGHT
TZOFFSETFROM:-0600
TZOFFSETTO:-0500
TZNAME:CDT
DTSTART:20260308T080000
END:DAYLIGHT
BEGIN:STANDARD
TZOFFSETFROM:-0500
TZOFFSETTO:-0600
TZNAME:CST
DTSTART:20261101T070000
END:STANDARD
BEGIN:DAYLIGHT
TZOFFSETFROM:-0600
TZOFFSETTO:-0500
TZNAME:CDT
DTSTART:20270314T080000
END:DAYLIGHT
BEGIN:STANDARD
TZOFFSETFROM:-0500
TZOFFSETTO:-0600
TZNAME:CST
DTSTART:20271107T070000
END:STANDARD
END:VTIMEZONE
BEGIN:VEVENT
DTSTART;TZID=America/Chicago:20260131T190000
DTEND;TZID=America/Chicago:20260131T220000
DTSTAMP:20260421T060032
CREATED:20250807T211444Z
LAST-MODIFIED:20260131T182116Z
UID:10034729-1769886000-1769896800@wp.stolaf.edu
SUMMARY:Men's Hockey at Augsburg University
DESCRIPTION:Men’s Hockey at Augsburg University\nStreaming Video: https://miacsportsnetwork.com/augsburg/
URL:https://wp.stolaf.edu/calendar/event/mens-hockey-at-augsburg-university/
CATEGORIES:Athletics
LOCATION:Minneapolis\, Minn. / Ed Saugestad Rink
END:VEVENT
BEGIN:VEVENT
DTSTART;TZID=America/Chicago:20260130T190000
DTEND;TZID=America/Chicago:20260130T220000
DTSTAMP:20260421T060032
CREATED:20250807T211443Z
LAST-MODIFIED:20260130T180614Z
UID:10034723-1769799600-1769810400@wp.stolaf.edu
SUMMARY:Women's Hockey at Augsburg University
DESCRIPTION:Women’s Hockey at Augsburg University\nStreaming Video: https://miacsportsnetwork.com/augsburg/\nTickets: https://athletics.augsburg.edu/sports/2022/9/26/tickets.aspx
URL:https://wp.stolaf.edu/calendar/event/womens-hockey-at-augsburg-university/
CATEGORIES:Athletics
LOCATION:Minneapolis\, Minn. / Ed Saugestad Rink
END:VEVENT
END:VCALENDAR