BEGIN:VCALENDAR
VERSION:2.0
PRODID:-//Calendar - ECPv6.15.20//NONSGML v1.0//EN
CALSCALE:GREGORIAN
METHOD:PUBLISH
X-WR-CALNAME:Calendar
X-ORIGINAL-URL:https://wp.stolaf.edu/calendar
X-WR-CALDESC:Events for Calendar
REFRESH-INTERVAL;VALUE=DURATION:PT1H
X-Robots-Tag:noindex
X-PUBLISHED-TTL:PT1H
BEGIN:VTIMEZONE
TZID:America/Chicago
BEGIN:DAYLIGHT
TZOFFSETFROM:-0600
TZOFFSETTO:-0500
TZNAME:CDT
DTSTART:20240310T080000
END:DAYLIGHT
BEGIN:STANDARD
TZOFFSETFROM:-0500
TZOFFSETTO:-0600
TZNAME:CST
DTSTART:20241103T070000
END:STANDARD
BEGIN:DAYLIGHT
TZOFFSETFROM:-0600
TZOFFSETTO:-0500
TZNAME:CDT
DTSTART:20250309T080000
END:DAYLIGHT
BEGIN:STANDARD
TZOFFSETFROM:-0500
TZOFFSETTO:-0600
TZNAME:CST
DTSTART:20251102T070000
END:STANDARD
BEGIN:DAYLIGHT
TZOFFSETFROM:-0600
TZOFFSETTO:-0500
TZNAME:CDT
DTSTART:20260308T080000
END:DAYLIGHT
BEGIN:STANDARD
TZOFFSETFROM:-0500
TZOFFSETTO:-0600
TZNAME:CST
DTSTART:20261101T070000
END:STANDARD
BEGIN:DAYLIGHT
TZOFFSETFROM:-0600
TZOFFSETTO:-0500
TZNAME:CDT
DTSTART:20270314T080000
END:DAYLIGHT
BEGIN:STANDARD
TZOFFSETFROM:-0500
TZOFFSETTO:-0600
TZNAME:CST
DTSTART:20271107T070000
END:STANDARD
END:VTIMEZONE
BEGIN:VEVENT
DTSTART;TZID=America/Chicago:20260422T160000
DTEND;TZID=America/Chicago:20260422T190000
DTSTAMP:20260422T220352
CREATED:20250807T211454Z
LAST-MODIFIED:20260422T083608Z
UID:10034783-1776873600-1776884400@wp.stolaf.edu
SUMMARY:Men's Tennis vs Bethel University
DESCRIPTION:Men’s Tennis vs Bethel University
URL:https://wp.stolaf.edu/calendar/event/mens-tennis-vs-bethel-university-2/
CATEGORIES:Athletics
LOCATION:Northfield\, Minn.\, Carlson Courts
END:VEVENT
BEGIN:VEVENT
DTSTART;TZID=America/Chicago:20260420T160000
DTEND;TZID=America/Chicago:20260420T190000
DTSTAMP:20260422T220352
CREATED:20250807T211455Z
LAST-MODIFIED:20260420T083607Z
UID:10034784-1776700800-1776711600@wp.stolaf.edu
SUMMARY:Women's Tennis vs Bethel University
DESCRIPTION:Women’s Tennis vs Bethel University
URL:https://wp.stolaf.edu/calendar/event/womens-tennis-vs-bethel-university-2/
CATEGORIES:Athletics
LOCATION:Northfield\, Minn.\, Carlson Courts
END:VEVENT
BEGIN:VEVENT
DTSTART;TZID=America/Chicago:20260418T170000
DTEND;TZID=America/Chicago:20260418T200000
DTSTAMP:20260422T220352
CREATED:20250807T211454Z
LAST-MODIFIED:20260418T083608Z
UID:10034781-1776531600-1776542400@wp.stolaf.edu
SUMMARY:Men's Tennis vs Macalester College
DESCRIPTION:Men’s Tennis vs Macalester College
URL:https://wp.stolaf.edu/calendar/event/mens-tennis-vs-macalester-college-2/
CATEGORIES:Athletics
LOCATION:Northfield\, Minn.\, Carlson Courts
END:VEVENT
BEGIN:VEVENT
DTSTART;TZID=America/Chicago:20260418T073000
DTEND;TZID=America/Chicago:20260418T103000
DTSTAMP:20260422T220352
CREATED:20250807T211454Z
LAST-MODIFIED:20260418T083608Z
UID:10034782-1776497400-1776508200@wp.stolaf.edu
SUMMARY:Women's Tennis vs Macalester College
DESCRIPTION:Women’s Tennis vs Macalester College
URL:https://wp.stolaf.edu/calendar/event/womens-tennis-vs-macalester-college-2/
CATEGORIES:Athletics
LOCATION:Northfield\, Minn.\, Carlson Courts
END:VEVENT
BEGIN:VEVENT
DTSTART;TZID=America/Chicago:20260412T094500
DTEND;TZID=America/Chicago:20260412T124500
DTSTAMP:20260422T220352
CREATED:20250807T211454Z
LAST-MODIFIED:20260412T082109Z
UID:10034779-1775987100-1775997900@wp.stolaf.edu
SUMMARY:Women's Tennis vs Gustavus Adolphus College
DESCRIPTION:Women’s Tennis vs Gustavus Adolphus College
URL:https://wp.stolaf.edu/calendar/event/womens-tennis-vs-gustavus-adolphus-college-2/
CATEGORIES:Athletics
LOCATION:Northfield\, Minn.\, Carlson Courts
END:VEVENT
BEGIN:VEVENT
DTSTART;TZID=America/Chicago:20260314T113000
DTEND;TZID=America/Chicago:20260314T143000
DTSTAMP:20260422T220352
CREATED:20250807T211453Z
LAST-MODIFIED:20260313T210624Z
UID:10034773-1773487800-1773498600@wp.stolaf.edu
SUMMARY:Women's Tennis vs Saint Mary's University
DESCRIPTION:Women’s Tennis vs Saint Mary’s University
URL:https://wp.stolaf.edu/calendar/event/womens-tennis-vs-saint-marys-university-2/
CATEGORIES:Athletics
LOCATION:Northfield\, Minn.\, Carlson Courts
END:VEVENT
BEGIN:VEVENT
DTSTART;TZID=America/Chicago:20260314T113000
DTEND;TZID=America/Chicago:20260314T143000
DTSTAMP:20260422T220352
CREATED:20250807T211453Z
LAST-MODIFIED:20260313T210624Z
UID:10034772-1773487800-1773498600@wp.stolaf.edu
SUMMARY:Men's Tennis vs Saint Mary's University
DESCRIPTION:Men’s Tennis vs Saint Mary’s University
URL:https://wp.stolaf.edu/calendar/event/mens-tennis-vs-saint-marys-university-2/
CATEGORIES:Athletics
LOCATION:Northfield\, Minn.\, Carlson Courts
END:VEVENT
BEGIN:VEVENT
DTSTART;TZID=America/Chicago:20251003T153000
DTEND;TZID=America/Chicago:20251003T183000
DTSTAMP:20260422T220352
CREATED:20250807T211422Z
LAST-MODIFIED:20251003T074835Z
UID:10034636-1759505400-1759516200@wp.stolaf.edu
SUMMARY:Men's Tennis vs University of Wisconsin-Superior
DESCRIPTION:Men’s Tennis vs University of Wisconsin-Superior\nStreaming Video: https://miacsportsnetwork.com/stolaf/
URL:https://wp.stolaf.edu/calendar/event/mens-tennis-vs-university-of-wisconsin-superior-2/
CATEGORIES:Athletics
LOCATION:Northfield\, Minn.\, Carlson Courts
END:VEVENT
BEGIN:VEVENT
DTSTART;TZID=America/Chicago:20251003T153000
DTEND;TZID=America/Chicago:20251003T183000
DTSTAMP:20260422T220352
CREATED:20250807T211422Z
LAST-MODIFIED:20251003T074835Z
UID:10034637-1759505400-1759516200@wp.stolaf.edu
SUMMARY:Women's Tennis vs University of Wisconsin-Superior
DESCRIPTION:Women’s Tennis vs University of Wisconsin-Superior\nStreaming Video: https://miacsportsnetwork.com/stolaf/
URL:https://wp.stolaf.edu/calendar/event/womens-tennis-vs-university-of-wisconsin-superior-2/
CATEGORIES:Athletics
LOCATION:Northfield\, Minn.\, Carlson Courts
END:VEVENT
BEGIN:VEVENT
DTSTART;TZID=America/Chicago:20250917T160000
DTEND;TZID=America/Chicago:20250917T190000
DTSTAMP:20260422T220352
CREATED:20250807T211419Z
LAST-MODIFIED:20250917T070315Z
UID:10034630-1758124800-1758135600@wp.stolaf.edu
SUMMARY:Men's Tennis vs Carleton College - Exhibition
DESCRIPTION:Men’s Tennis vs Carleton College – Exhibition
URL:https://wp.stolaf.edu/calendar/event/mens-tennis-vs-carleton-college-exhibition/
CATEGORIES:Athletics
LOCATION:Northfield\, Minn.\, Carlson Courts
END:VEVENT
BEGIN:VEVENT
DTSTART;TZID=America/Chicago:20250429T153000
DTEND;TZID=America/Chicago:20250429T183000
DTSTAMP:20260422T220352
CREATED:20250427T172649Z
LAST-MODIFIED:20250429T172651Z
UID:10033732-1745940600-1745951400@wp.stolaf.edu
SUMMARY:Men's Tennis vs Concordia College - Quarterfinals
DESCRIPTION:Men’s Tennis vs Concordia College – Quarterfinals\nStreaming Video: https://www.stolaf.edu/multimedia/streams/upcoming/athletics
URL:https://wp.stolaf.edu/calendar/event/mens-tennis-vs-concordia-college-quarterfinals/
CATEGORIES:Athletics
LOCATION:Northfield\, Minn.\, Carlson Courts
END:VEVENT
END:VCALENDAR