BEGIN:VCALENDAR
VERSION:2.0
PRODID:-//Calendar - ECPv6.15.20//NONSGML v1.0//EN
CALSCALE:GREGORIAN
METHOD:PUBLISH
X-WR-CALNAME:Calendar
X-ORIGINAL-URL:https://wp.stolaf.edu/calendar
X-WR-CALDESC:Events for Calendar
REFRESH-INTERVAL;VALUE=DURATION:PT1H
X-Robots-Tag:noindex
X-PUBLISHED-TTL:PT1H
BEGIN:VTIMEZONE
TZID:America/Chicago
BEGIN:DAYLIGHT
TZOFFSETFROM:-0600
TZOFFSETTO:-0500
TZNAME:CDT
DTSTART:20250309T080000
END:DAYLIGHT
BEGIN:STANDARD
TZOFFSETFROM:-0500
TZOFFSETTO:-0600
TZNAME:CST
DTSTART:20251102T070000
END:STANDARD
BEGIN:DAYLIGHT
TZOFFSETFROM:-0600
TZOFFSETTO:-0500
TZNAME:CDT
DTSTART:20260308T080000
END:DAYLIGHT
BEGIN:STANDARD
TZOFFSETFROM:-0500
TZOFFSETTO:-0600
TZNAME:CST
DTSTART:20261101T070000
END:STANDARD
BEGIN:DAYLIGHT
TZOFFSETFROM:-0600
TZOFFSETTO:-0500
TZNAME:CDT
DTSTART:20270314T080000
END:DAYLIGHT
BEGIN:STANDARD
TZOFFSETFROM:-0500
TZOFFSETTO:-0600
TZNAME:CST
DTSTART:20271107T070000
END:STANDARD
END:VTIMEZONE
BEGIN:VEVENT
DTSTART;TZID=America/Chicago:20260415T180000
DTEND;TZID=America/Chicago:20260415T200000
DTSTAMP:20260421T005327
CREATED:20260331T164245Z
LAST-MODIFIED:20260331T164245Z
UID:10037636-1776276000-1776283200@wp.stolaf.edu
SUMMARY:College on the Radio — Live at St. Olaf College
DESCRIPTION:Join us for a special live\, on-stage edition of College on the Radio—an evening of big ideas\, engaging conversation\, and live music. \nThis 75-minute event brings together four professors from as many different disciplines to share their fields of study. \nFrom Economics to Musicology\, Environmental Studies to Astronomy and Physics\, each professor offers a unique perspective—revealing how different ways of thinking shape our understanding of the world. \nPre-show music at 5:45 p.m. | The show begins at 6:00 p.m. \nFree and open to the public.
URL:https://wp.stolaf.edu/calendar/event/college-on-the-radio-live-at-st-olaf-college/
CATEGORIES:Music,Speakers/Lectures
ORGANIZER;CN="Institute for Freedom and Community":MAILTO:institute@stolaf.edu
LOCATION:The Pause
END:VEVENT
END:VCALENDAR